- Раздел: Другое, разное
- Дата съёмки: 17.05.2008 17:42
- Дата загрузки фото: 22.04.2008 23:56
- Оригинальная фотография: 3504 x 2336 (2,2 Мб)
- Технические характеристики:
- Фотоаппарат: Canon EOS-1D Mark II
- Выдержка: 1/800
- Гиперфокальное расстояние: 370,76 m
- Диафрагма: 4,5
- Светочувствительность: 400
- Фокусное расстояние: 200,0mm (35mm эквивалент: 250,7mm)
- Экспокоррекция: -1/3
- Полный EXIF
- Adobe
- ColorTransform: YCbCr
- Composite
- Aperture: 4,5
- CircleOfConfusion: 0,024 mm
- FocalLength35efl: 200,0mm (35mm equivalent: 250,7mm)
- HyperfocalDistance: 370,76 m
- LightValue: 12,0
- ScaleFactor35efl: 1,3
- ShutterSpeed: 1/800
- ExifIFD
- ApertureValue: 4,5
- CreateDate: 2008:05:17 17:42:59
- CustomRendered: Normal
- DateTimeOriginal: 2008:05:17 17:42:59
- ExposureCompensation: -1/3
- ExposureMode: Auto
- ExposureProgram: Aperture-priority AE
- ExposureTime: 1/800
- FNumber: 4,5
- Flash: Off
- FocalLength: 200,0mm
- ISO: 400
- MaxApertureValue: 2,8
- MeteringMode: Multi-segment
- SceneCaptureType: Standard
- ShutterSpeedValue: 1/800
- WhiteBalance: Auto
- ICC-header
- IFD0
- Artist: Romas
- Make: Canon
- Model: Canon EOS-1D Mark II
- ModifyDate: 2008:04:22 21:45:32
- IPTC
- By-line: Romas
- XMP-aux
- Firmware: 1.2.6
- FlashCompensation: 0
- ImageNumber: 31162
- Lens: 70.0-200.0 mm
- LensInfo: 70/1 200/1 0/0 0/0
- OwnerName: Romas
- SerialNumber: 227438
- XMP-crs
- AlreadyApplied: True
- BlueHue: 0
- BlueSaturation: 0
- Brightness: +50
- CameraProfile: ACR 4.4
- ChromaticAberrationB: 0
- ChromaticAberrationR: 0
- Clarity: 14
- ColorNoiseReduction: 12
- Contrast: +25
- ConvertToGrayscale: False
- Defringe: 0
- Exposure: 0.00
- FillLight: 33
- GreenHue: 0
- GreenSaturation: 0
- HasCrop: False
- HasSettings: True
- HighlightRecovery: 11
- HueAdjustmentAqua: 0
- HueAdjustmentBlue: 0
- HueAdjustmentGreen: 0
- HueAdjustmentMagenta: 0
- HueAdjustmentOrange: 0
- HueAdjustmentPurple: 0
- HueAdjustmentRed: 0
- HueAdjustmentYellow: 0
- LuminanceAdjustmentAqua: 0
- LuminanceAdjustmentBlue: 0
- LuminanceAdjustmentGreen: 0
- LuminanceAdjustmentMagenta: 0
- LuminanceAdjustmentOrange: 0
- LuminanceAdjustmentPurple: 0
- LuminanceAdjustmentRed: 0
- LuminanceAdjustmentYellow: 0
- LuminanceSmoothing: 0
- ParametricDarks: +22
- ParametricHighlightSplit: 75
- ParametricHighlights: +30
- ParametricLights: -43
- ParametricMidtoneSplit: 50
- ParametricShadowSplit: 25
- ParametricShadows: +3
- RawFileName: KB5I0176.CR2
- RedHue: 0
- RedSaturation: 0
- Saturation: 0
- SaturationAdjustmentAqua: 0
- SaturationAdjustmentBlue: 0
- SaturationAdjustmentGreen: 0
- SaturationAdjustmentMagenta: 0
- SaturationAdjustmentOrange: 0
- SaturationAdjustmentPurple: 0
- SaturationAdjustmentRed: 0
- SaturationAdjustmentYellow: 0
- ShadowTint: 0
- Shadows: 4
- SharpenDetail: 70
- SharpenEdgeMasking: 0
- SharpenRadius: +0.8
- Sharpness: 25
- SplitToningBalance: 0
- SplitToningHighlightHue: 0
- SplitToningHighlightSaturation: 0
- SplitToningShadowHue: 0
- SplitToningShadowSaturation: 0
- Temperature: 4750
- Tint: +3
- ToneCurve: 0, 0, 32, 22, 64, 56, 128, 128, 192, 196, 255, 255
- ToneCurveName: Medium Contrast
- Version: 4.4.1
- Vibrance: 0
- VignetteAmount: 0
- WhiteBalance: As Shot
- XMP-dc
- XMP-exif
- DateTimeDigitized: 2008:05:17 17:42:59+03:00
- DateTimeOriginal: 2008:05:17 17:42:59+03:00
- FlashFired: False
- FlashFunction: False
- FlashMode: Off
- FlashRedEyeMode: False
- FlashReturn: No return detection
- XMP-tiff
- ImageHeight: 2336
- ImageWidth: 3504
- XMP-xmp
- ModifyDate: 2008:04:22 21:45:32+03:00
- Просмотров: 751
- Рейтинг: голосов еще нет
- Отзывов: 0