- Раздел: Путешествия
- Дата съёмки: 03.07.2008 13:41
- Дата загрузки фото: 03.07.2008 14:45
- Оригинальная фотография: 3253 x 1920 (3,4 Мб)
- Технические характеристики:
- Фотоаппарат: Canon EOS 450D
- Выдержка: 20,0
- Гиперфокальное расстояние: 2,64 m
- Диафрагма: 8,0
- Светочувствительность: 100
- Фокусное расстояние: 17,0mm (35mm эквивалент: 37,3mm)
- Экспокоррекция: -1
- Полный EXIF
- Adobe
- ColorTransform: YCbCr
- Composite
- Aperture: 8,0
- CircleOfConfusion: 0,014 mm
- FocalLength35efl: 17,0mm (35mm equivalent: 37,3mm)
- HyperfocalDistance: 2,64 m
- LightValue: 1,7
- ScaleFactor35efl: 2,2
- ShutterSpeed: 20,0
- ExifIFD
- ApertureValue: 8,0
- ColorSpace: Uncalibrated
- CreateDate: 2008:06:30 23:55:31
- CustomRendered: Normal
- DateTimeOriginal: 2008:06:30 23:55:31
- ExifImageLength: 1920
- ExifImageWidth: 3253
- ExposureCompensation: -1
- ExposureMode: Auto
- ExposureProgram: Aperture-priority AE
- ExposureTime: 20,0
- FNumber: 8,0
- Flash: Off
- FocalLength: 17,0mm
- ISO: 100
- MaxApertureValue: 4,0
- MeteringMode: Multi-segment
- SceneCaptureType: Standard
- ShutterSpeedValue: 20,0
- WhiteBalance: Auto
- IFD0
- Make: Canon
- Model: Canon EOS 450D
- ModifyDate: 2008:07:03 13:43:17
- Orientation: Horizontal (normal)
- IFD1
- IPTC
- XMP-aux
- Firmware: 1.0.4
- FlashCompensation: 0
- ImageNumber: 0
- Lens: EF17-40mm f/4L USM
- LensInfo: 17/1 40/1 0/0 0/0
- SerialNumber: 430132069
- XMP-crs
- AlreadyApplied: True
- BlueHue: 0
- BlueSaturation: 0
- Brightness: +50
- CameraProfile: ACR 4.4
- ChromaticAberrationB: 0
- ChromaticAberrationR: 0
- Clarity: 0
- ColorNoiseReduction: 25
- Contrast: +34
- ConvertToGrayscale: False
- CropAngle: -3.577194
- CropBottom: 0.679865
- CropLeft: 0.207614
- CropRight: 0.995692
- CropTop: 0.078352
- Defringe: 0
- Exposure: 0.00
- FillLight: 0
- GreenHue: 0
- GreenSaturation: 0
- HasCrop: True
- HasSettings: True
- HighlightRecovery: 0
- HueAdjustmentAqua: 0
- HueAdjustmentBlue: 0
- HueAdjustmentGreen: 0
- HueAdjustmentMagenta: 0
- HueAdjustmentOrange: 0
- HueAdjustmentPurple: 0
- HueAdjustmentRed: -3
- HueAdjustmentYellow: 0
- LuminanceAdjustmentAqua: 0
- LuminanceAdjustmentBlue: 0
- LuminanceAdjustmentGreen: 0
- LuminanceAdjustmentMagenta: 0
- LuminanceAdjustmentOrange: 0
- LuminanceAdjustmentPurple: 0
- LuminanceAdjustmentRed: 0
- LuminanceAdjustmentYellow: 0
- LuminanceSmoothing: 0
- ParametricDarks: 0
- ParametricHighlightSplit: 75
- ParametricHighlights: 0
- ParametricLights: 0
- ParametricMidtoneSplit: 50
- ParametricShadowSplit: 25
- ParametricShadows: 0
- RawFileName: _MG_6315.CR2
- RedHue: 0
- RedSaturation: 0
- Saturation: 0
- SaturationAdjustmentAqua: 0
- SaturationAdjustmentBlue: 0
- SaturationAdjustmentGreen: 0
- SaturationAdjustmentMagenta: 0
- SaturationAdjustmentOrange: 0
- SaturationAdjustmentPurple: 0
- SaturationAdjustmentRed: 0
- SaturationAdjustmentYellow: 0
- ShadowTint: 0
- Shadows: 5
- SharpenDetail: 25
- SharpenEdgeMasking: 0
- SharpenRadius: +1.0
- Sharpness: 38
- SplitToningBalance: 0
- SplitToningHighlightHue: 0
- SplitToningHighlightSaturation: 0
- SplitToningShadowHue: 0
- SplitToningShadowSaturation: 0
- Temperature: 3850
- Tint: +13
- ToneCurve: 0, 0, 32, 22, 64, 56, 128, 128, 192, 196, 255, 255
- ToneCurveName: Medium Contrast
- Version: 4.4.1
- Vibrance: +34
- VignetteAmount: 0
- WhiteBalance: Custom
- XMP-dc
- XMP-exif
- ColorSpace: Unknown (-1)
- DateTimeDigitized: 2008:06:30 23:55:31.03+03:00
- DateTimeOriginal: 2008:06:30 23:55:31.03+03:00
- FlashFired: False
- FlashFunction: False
- FlashMode: Off
- FlashRedEyeMode: False
- FlashReturn: No return detection
- XMP-tiff
- ImageHeight: 1920
- ImageWidth: 3253
- XMP-xmp
- CreateDate: 2008:07:03 13:41:16+03:00
- ModifyDate: 2008:07:03 13:43:17+03:00
- XMP-xmpMM
- DerivedFrom: