- Раздел: Другое, разное
- Дата съёмки: 31.07.2008 20:13
- Дата загрузки фото: 31.07.2008 20:21
- Оригинальная фотография: 2362 x 1772 (2,6 Мб)
- Технические характеристики:
- Фотоаппарат: Sony DSLR-A100
- Выдержка: 1/320
- Гиперфокальное расстояние: 3,59 m
- Диафрагма: 8,0
- Светочувствительность: 100
- Фокусное расстояние: 24,0mm (35mm эквивалент: 36,0mm)
- Экспокоррекция: 0,7
- Полный EXIF
- Adobe
- ColorTransform: YCbCr
- Composite
- Aperture: 8,0
- CircleOfConfusion: 0,020 mm
- FocalLength35efl: 24,0mm (35mm equivalent: 36,0mm)
- HyperfocalDistance: 3,59 m
- LightValue: 14,3
- ScaleFactor35efl: 1,5
- ShutterSpeed: 1/320
- ExifIFD
- ApertureValue: 8,0
- BrightnessValue: 9,87
- ColorSpace: Uncalibrated
- Contrast: Normal
- CreateDate: 2007:08:22 12:51:35
- CustomRendered: Normal
- DateTimeOriginal: 2007:08:22 12:51:35
- DigitalZoomRatio: 0
- ExifImageLength: 1772
- ExifImageWidth: 2362
- ExposureCompensation: 0,7
- ExposureMode: Auto bracket
- ExposureProgram: Manual
- ExposureTime: 1/320
- FNumber: 8,0
- Flash: Off
- FocalLength: 24,0mm
- FocalLengthIn35mmFormat: 36mm
- GainControl: None
- ISO: 100
- LightSource: Daylight
- MaxApertureValue: 3,5
- MeteringMode: Center-weighted average
- Saturation: Normal
- SceneCaptureType: Standard
- SceneType: Directly photographed
- Sharpness: Normal
- ShutterSpeedValue: 1/320
- SubjectLocation: 1936 1296 3872 2592
- WhiteBalance: Manual
- IFD0
- BitsPerSample: 16 16 16
- ImageDescription: SONY DSC
- ImageHeight: 3543
- ImageWidth: 4724
- Make: SONY
- Model: DSLR-A100
- ModifyDate: 2008:07:31 20:20:47
- Orientation: Horizontal (normal)
- PhotometricInterpretation: RGB
- PlanarConfiguration: Chunky
- SamplesPerPixel: 3
- IFD1
- IPTC
- Caption-Abstract: SONY DSC
- XMP-crs
- AlreadyApplied: True
- BlueHue: 0
- BlueSaturation: 0
- Brightness: +58
- CameraProfile: ACR 3.5
- ChromaticAberrationB: 0
- ChromaticAberrationR: 0
- Clarity: 25
- ColorNoiseReduction: 0
- Contrast: +25
- ConvertToGrayscale: False
- Defringe: 0
- Exposure: +0.10
- FillLight: 0
- GreenHue: 0
- GreenSaturation: 0
- HasCrop: False
- HasSettings: True
- HighlightRecovery: 10
- HueAdjustmentAqua: 0
- HueAdjustmentBlue: 0
- HueAdjustmentGreen: 0
- HueAdjustmentMagenta: 0
- HueAdjustmentOrange: 0
- HueAdjustmentPurple: 0
- HueAdjustmentRed: -15
- HueAdjustmentYellow: 0
- LuminanceAdjustmentAqua: 0
- LuminanceAdjustmentBlue: -25
- LuminanceAdjustmentGreen: 0
- LuminanceAdjustmentMagenta: 0
- LuminanceAdjustmentOrange: 0
- LuminanceAdjustmentPurple: 0
- LuminanceAdjustmentRed: -10
- LuminanceAdjustmentYellow: 0
- LuminanceSmoothing: 0
- ParametricDarks: 0
- ParametricHighlightSplit: 75
- ParametricHighlights: 0
- ParametricLights: 0
- ParametricMidtoneSplit: 50
- ParametricShadowSplit: 25
- ParametricShadows: 0
- RawFileName: DSC06025.ARW
- RedHue: 0
- RedSaturation: 0
- Saturation: 0
- SaturationAdjustmentAqua: 0
- SaturationAdjustmentBlue: +25
- SaturationAdjustmentGreen: 0
- SaturationAdjustmentMagenta: 0
- SaturationAdjustmentOrange: 0
- SaturationAdjustmentPurple: 0
- SaturationAdjustmentRed: -5
- SaturationAdjustmentYellow: 0
- ShadowTint: 0
- Shadows: 5
- SharpenDetail: 50
- SharpenEdgeMasking: 25
- SharpenRadius: +2.0
- Sharpness: 50
- SplitToningBalance: 0
- SplitToningHighlightHue: 0
- SplitToningHighlightSaturation: 0
- SplitToningShadowHue: 0
- SplitToningShadowSaturation: 0
- Temperature: 4950
- Tint: +10
- ToneCurve: 0, 0, 32, 22, 64, 56, 128, 128, 192, 196, 255, 255
- ToneCurveName: Medium Contrast
- Version: 4.1
- Vibrance: 0
- VignetteAmount: 0
- WhiteBalance: As Shot
- XMP-dc
- Description: SONY DSC
- Format: image/jpeg
- XMP-exif
- ColorSpace: Unknown (-1)
- DateTimeDigitized: 2007:08:22 12:51:35+04:00
- DateTimeOriginal: 2007:08:22 12:51:35+04:00
- FlashFired: False
- FlashFunction: False
- FlashMode: Off
- FlashRedEyeMode: False
- FlashReturn: No return detection
- FocalLengthIn35mmFormat: 36
- SubjectArea: 1936, 1296, 3872, 2592
- XMP-tiff
- BitsPerSample: 16, 16, 16
- XMP-xmp
- CreateDate: 2008:07:31 20:13:53+04:00
- ModifyDate: 2008:07:31 20:20:47+04:00
- Rating: 0
- XMP-xmpMM