- Раздел: Природа
- Дата съёмки: 01.08.2008 15:51
- Дата загрузки фото: 05.08.2008 15:38
- Оригинальная фотография: 5196 x 3571 (2,4 Мб)
- Технические характеристики:
- Фотоаппарат: Sony DSLR-A100
- Выдержка: 1/400
- Гиперфокальное расстояние: 1,28 m
- Диафрагма: 10,0
- Светочувствительность: 200
- Фокусное расстояние: 16,0mm (35mm эквивалент: 24,0mm)
- Экспокоррекция: 1,3
- Полный EXIF
- Adobe
- ColorTransform: YCbCr
- Composite
- Aperture: 10,0
- CircleOfConfusion: 0,020 mm
- FocalLength35efl: 16,0mm (35mm equivalent: 24,0mm)
- HyperfocalDistance: 1,28 m
- LightValue: 14,3
- ScaleFactor35efl: 1,5
- ShutterSpeed: 1/400
- ExifIFD
- ApertureValue: 10,0
- BrightnessValue: 10,62
- ColorSpace: sRGB
- Contrast: Normal
- CreateDate: 2008:08:01 15:51:09
- CustomRendered: Normal
- DateTimeOriginal: 2008:08:01 15:51:09
- DigitalZoomRatio: 0
- ExifImageLength: 3571
- ExifImageWidth: 5196
- ExposureCompensation: 1,3
- ExposureMode: Auto bracket
- ExposureProgram: Program AE
- ExposureTime: 1/400
- FNumber: 10,0
- Flash: Off
- FocalLength: 16,0mm
- FocalLengthIn35mmFormat: 24mm
- GainControl: None
- ISO: 200
- LightSource: Unknown (0)
- MaxApertureValue: 3,5
- MeteringMode: Center-weighted average
- Saturation: Normal
- SceneCaptureType: Standard
- SceneType: Directly photographed
- Sharpness: Normal
- ShutterSpeedValue: 1/400
- SubjectLocation: 2721 982 329 393
- WhiteBalance: Auto
- ICC-header
- ICC-meas
- ICC-view
- IFD0
- ImageDescription: SONY DSC
- Make: SONY
- Model: DSLR-A100
- ModifyDate: 2008:08:05 14:45:12
- Orientation: Horizontal (normal)
- TimeZoneOffset: 4 4
- IFD1
- IPTC
- Caption-Abstract: SONY DSC
- XMP-crs
- AlreadyApplied: True
- BlueHue: 0
- BlueSaturation: 0
- Brightness: +80
- CameraProfile: ACR 3.5
- ChromaticAberrationB: 0
- ChromaticAberrationR: 0
- ColorNoiseReduction: 25
- Contrast: +37
- ConvertToGrayscale: False
- CropAngle: 0
- CropBottom: 0.948215
- CropHeight: 3
- CropLeft: 0
- CropRight: 0.952133
- CropTop: 0
- CropUnit: 3
- CropWidth: 2
- Exposure: +0.50
- FillLight: 0
- GreenHue: 0
- GreenSaturation: 0
- HasCrop: True
- HasSettings: True
- HighlightRecovery: 100
- HueAdjustmentAqua: +28
- HueAdjustmentBlue: +5
- HueAdjustmentGreen: +13
- HueAdjustmentMagenta: 0
- HueAdjustmentOrange: 0
- HueAdjustmentPurple: -100
- HueAdjustmentRed: 0
- HueAdjustmentYellow: 0
- LuminanceAdjustmentAqua: +100
- LuminanceAdjustmentBlue: -67
- LuminanceAdjustmentGreen: +100
- LuminanceAdjustmentMagenta: 0
- LuminanceAdjustmentOrange: 0
- LuminanceAdjustmentPurple: 0
- LuminanceAdjustmentRed: 0
- LuminanceAdjustmentYellow: +53
- LuminanceSmoothing: 0
- ParametricDarks: 0
- ParametricHighlightSplit: 75
- ParametricHighlights: 0
- ParametricLights: 0
- ParametricMidtoneSplit: 50
- ParametricShadowSplit: 25
- ParametricShadows: 0
- RawFileName: DSC09545.ARW
- RedHue: 0
- RedSaturation: 0
- Saturation: +37
- SaturationAdjustmentAqua: -14
- SaturationAdjustmentBlue: +46
- SaturationAdjustmentGreen: 0
- SaturationAdjustmentMagenta: -91
- SaturationAdjustmentOrange: 0
- SaturationAdjustmentPurple: +100
- SaturationAdjustmentRed: 0
- SaturationAdjustmentYellow: +78
- ShadowTint: 0
- Shadows: 5
- Sharpness: 66
- SplitToningBalance: 0
- SplitToningHighlightHue: 0
- SplitToningHighlightSaturation: 0
- SplitToningShadowHue: 0
- SplitToningShadowSaturation: 0
- Temperature: 5100
- Tint: +3
- ToneCurve: 0, 0, 32, 22, 64, 56, 128, 128, 192, 196, 255, 255
- ToneCurveName: Medium Contrast
- Version: 4.0
- Vibrance: +23
- VignetteAmount: 0
- WhiteBalance: Custom
- XMP-dc
- Description: SONY DSC
- Format: image/jpeg
- XMP-exif
- DateTimeDigitized: 2008:08:01 15:51:09+04:00
- DateTimeOriginal: 2008:08:01 15:51:09+04:00
- FlashFired: False
- FlashFunction: False
- FlashMode: Off
- FlashRedEyeMode: False
- FlashReturn: No return detection
- FocalLengthIn35mmFormat: 24
- SubjectArea: 2721, 982, 329, 393
- XMP-tiff
- ImageHeight: 3250
- ImageWidth: 4875
- XMP-xmp
- CreateDate: 2008:08:01 15:51:09+04:00
- ModifyDate: 2008:08:05 14:45:12+04:00
- XMP-xmpMM