- Раздел: Другое, разное
- Дата съёмки: 14.08.2008 19:28
- Дата загрузки фото: 18.08.2008 09:39
- Оригинальная фотография: 850 x 495 ( 54 Кб)
- Технические характеристики:
- Фотоаппарат: Canon EOS 5D
- Выдержка: 1/2500
- Гиперфокальное расстояние: 63,83 m
- Диафрагма: 1,4
- Светочувствительность: 400
- Фокусное расстояние: 50,0mm (35mm эквивалент: 53,7mm)
- Полный EXIF
- Adobe
- ColorTransform: YCbCr
- Composite
- Aperture: 1,4
- CircleOfConfusion: 0,028 mm
- FocalLength35efl: 50,0mm (35mm equivalent: 53,7mm)
- HyperfocalDistance: 63,83 m
- LightValue: 10,3
- ScaleFactor35efl: 1,1
- ShutterSpeed: 1/2500
- ExifIFD
- ApertureValue: 1,4
- ColorSpace: sRGB
- CreateDate: 2008:08:14 19:28:56
- CustomRendered: Normal
- DateTimeOriginal: 2008:08:14 19:28:56
- ExifImageLength: 495
- ExifImageWidth: 850
- ExposureCompensation: 0
- ExposureMode: Auto
- ExposureProgram: Aperture-priority AE
- ExposureTime: 1/2500
- FNumber: 1,4
- Flash: Off
- FocalLength: 50,0mm
- ISO: 400
- MaxApertureValue: 1,4
- MeteringMode: Multi-segment
- SceneCaptureType: Standard
- ShutterSpeedValue: 1/2500
- WhiteBalance: Auto
- ICC-header
- ICC-meas
- ICC-view
- IFD0
- Make: Canon
- Model: Canon EOS 5D
- ModifyDate: 2008:08:15 15:20:35
- Orientation: Horizontal (normal)
- IFD1
- XMP-aux
- Firmware: 1.1.0
- FlashCompensation: 0
- ImageNumber: 66
- Lens: EF50mm f/1.4 USM
- LensInfo: 50/1 50/1 0/0 0/0
- SerialNumber: 2921204720
- XMP-crs
- AlreadyApplied: True
- BlueHue: -100
- BlueSaturation: +5
- Brightness: +46
- CameraProfile: ACR 2.4
- ChromaticAberrationB: 0
- ChromaticAberrationR: 0
- Clarity: 0
- ColorNoiseReduction: 25
- Contrast: -12
- ConvertToGrayscale: False
- CropAngle: -0.497063
- CropBottom: 0.968043
- CropHeight: 2463
- CropLeft: 0.00268
- CropRight: 0.976634
- CropTop: 0.134866
- CropUnit: 0
- CropWidth: 4233
- Defringe: 0
- Exposure: +1.15
- FillLight: 0
- GreenHue: +43
- GreenSaturation: +100
- HasCrop: True
- HasSettings: True
- HighlightRecovery: 25
- HueAdjustmentAqua: 0
- HueAdjustmentBlue: 0
- HueAdjustmentGreen: 0
- HueAdjustmentMagenta: 0
- HueAdjustmentOrange: 0
- HueAdjustmentPurple: 0
- HueAdjustmentRed: 0
- HueAdjustmentYellow: 0
- LuminanceAdjustmentAqua: 0
- LuminanceAdjustmentBlue: 0
- LuminanceAdjustmentGreen: 0
- LuminanceAdjustmentMagenta: 0
- LuminanceAdjustmentOrange: 0
- LuminanceAdjustmentPurple: 0
- LuminanceAdjustmentRed: 0
- LuminanceAdjustmentYellow: 0
- LuminanceSmoothing: 0
- ParametricDarks: -3
- ParametricHighlightSplit: 75
- ParametricHighlights: 0
- ParametricLights: 0
- ParametricMidtoneSplit: 50
- ParametricShadowSplit: 25
- ParametricShadows: -14
- PostCropVignetteAmount: 0
- RedHue: +100
- RedSaturation: -25
- Saturation: -100
- SaturationAdjustmentAqua: 0
- SaturationAdjustmentBlue: 0
- SaturationAdjustmentGreen: 0
- SaturationAdjustmentMagenta: 0
- SaturationAdjustmentOrange: 0
- SaturationAdjustmentPurple: 0
- SaturationAdjustmentRed: 0
- SaturationAdjustmentYellow: 0
- ShadowTint: -56
- Shadows: 10
- SharpenDetail: 50
- SharpenEdgeMasking: 0
- SharpenRadius: +1.0
- Sharpness: 25
- SplitToningBalance: 0
- SplitToningHighlightHue: 0
- SplitToningHighlightSaturation: 0
- SplitToningShadowHue: 0
- SplitToningShadowSaturation: 0
- Temperature: 4400
- Tint: -74
- ToneCurve: 0, 0, 255, 255
- ToneCurveName: Linear
- Version: 4.5
- Vibrance: 0
- VignetteAmount: 0
- WhiteBalance: Custom
- XMP-exif
- DateTimeDigitized: 2008:08:14 19:28:56+04:00
- DateTimeOriginal: 2008:08:14 19:28:56+04:00
- ExifImageLength: 2463
- ExifImageWidth: 4233
- FlashFired: False
- FlashFunction: False
- FlashMode: Off
- FlashRedEyeMode: False
- FlashReturn: No return detection
- XMP-tiff
- ImageHeight: 2463
- ImageWidth: 4233
- XMP-xmp
- CreateDate: 2008:08:14 19:28:56+04:00
- Label: Red
- ModifyDate: 2008:08:15 15:15:06+04:00