- Раздел: Эротика
- Дата съёмки: 20.07.2008 17:33
- Дата загрузки фото: 31.10.2008 22:29
- Оригинальная фотография: 667 x 1000 (151 Кб)
- Технические характеристики:
- Фотоаппарат: Sony DSLR-A700
- Выдержка: 1/200
- Гиперфокальное расстояние: 24,96 m
- Диафрагма: 5,0
- Светочувствительность: 100
- Фокусное расстояние: 50,0 mm (35 mm equivalent: 75,0 mm)
- Полный EXIF
- Adobe
- ColorTransform: YCbCr
- Composite
- Aperture: 5,0
- CircleOfConfusion: 0,020 mm
- FOV: 26,0 deg
- FocalLength35efl: 50,0 mm (35 mm equivalent: 75,0 mm)
- HyperfocalDistance: 24,96 m
- ScaleFactor35efl: 1,5
- ShutterSpeed: 1/200
- ExifIFD
- ApertureValue: 5,0
- BrightnessValue: -2,5
- ColorSpace: sRGB
- Contrast: High
- CreateDate: 2008:07:19 21:25:43
- CustomRendered: Normal
- DateTimeOriginal: 2008:07:19 21:25:43
- DigitalZoomRatio: 0
- ExifImageHeight: 1000
- ExifImageWidth: 667
- ExposureCompensation: 0
- ExposureMode: Manual
- ExposureProgram: Manual
- ExposureTime: 1/200
- FNumber: 5,0
- Flash: On
- FocalLength: 50,0 mm
- FocalLengthIn35mmFormat: 75 mm
- ISO: 100
- LightSource: Flash
- MaxApertureValue: 4,0
- MeteringMode: Center-weighted average
- Saturation: High
- SceneCaptureType: Standard
- SceneType: Directly photographed
- Sharpness: Hard
- ShutterSpeedValue: 1/200
- UserComment: (c) Roman Orlov, http://ornic.livejournal.com
- WhiteBalance: Manual
- IFD0
- Copyright: (c) Roman Orlov, http://ornic.livejournal.com
- ImageDescription: SONY DSC
- Make: SONY
- Model: DSLR-A700
- ModifyDate: 2008:07:20 17:33:34
- Orientation: Horizontal (normal)
- IPTC
- Caption-Abstract: SONY DSC
- XMP-crs
- AlreadyApplied: True
- BlueHue: 0
- BlueSaturation: 0
- Brightness: -50
- CameraProfile: ACR 4.4
- ChromaticAberrationB: 0
- ChromaticAberrationR: 0
- Clarity: 0
- ColorNoiseReduction: 25
- Contrast: +100
- ConvertToGrayscale: True
- CropAngle: 0
- CropBottom: 0.992844
- CropHeight: 2549
- CropLeft: 0.035272
- CropRight: 0.930375
- CropTop: 0.097741
- CropUnit: 0
- CropWidth: 3824
- Defringe: 1
- Exposure: +0.50
- FillLight: 50
- GrayMixerAqua: -21
- GrayMixerBlue: +4
- GrayMixerGreen: -23
- GrayMixerMagenta: +9
- GrayMixerOrange: -39
- GrayMixerPurple: +14
- GrayMixerRed: +37
- GrayMixerYellow: -15
- GreenHue: 0
- GreenSaturation: 0
- HasCrop: True
- HasSettings: True
- HighlightRecovery: 100
- LuminanceSmoothing: 0
- ParametricDarks: 0
- ParametricHighlightSplit: 75
- ParametricHighlights: 0
- ParametricLights: 0
- ParametricMidtoneSplit: 50
- ParametricShadowSplit: 25
- ParametricShadows: 0
- RedHue: 0
- RedSaturation: 0
- ShadowTint: 0
- Shadows: 3
- SharpenDetail: 25
- SharpenEdgeMasking: 0
- SharpenRadius: +1.0
- Sharpness: 25
- SplitToningBalance: +100
- SplitToningHighlightHue: 56
- SplitToningHighlightSaturation: 26
- SplitToningShadowHue: 227
- SplitToningShadowSaturation: 16
- Temperature: 5500
- Tint: -16
- ToneCurve: 0, 0, 32, 22, 64, 56, 128, 128, 192, 196, 255, 255
- ToneCurveName: Medium Contrast
- Version: 4.4.1
- VignetteAmount: 0
- WhiteBalance: Custom
- XMP-dc
- Description: SONY DSC
- Format: image/jpeg
- XMP-exif
- DateTimeDigitized: 2008:07:19 21:25:43+04:00
- DateTimeOriginal: 2008:07:19 21:25:43+04:00
- FlashFired: True
- FlashFunction: False
- FlashMode: On
- FlashRedEyeMode: False
- FlashReturn: No return detection
- XMP-tiff
- ImageHeight: 3824
- ImageWidth: 2549
- XMP-xmp
- CreateDate: 2008:07:20 17:33:34+04:00
- ModifyDate: 2008:07:20 17:33:34+04:00
- XMP-xmpMM