- Раздел: Другое, разное
- Дата съёмки: 22.11.2008 22:26
- Дата загрузки фото: 22.11.2008 22:27
- Оригинальная фотография: 900 x 600 (352 Кб)
- Технические характеристики:
- Фотоаппарат: Sony DSC-R1
- Выдержка: 1/500
- Диафрагма: 8,0
- Светочувствительность: 160
- Фокусное расстояние: 14,3 mm
- Полный EXIF
- Adobe
- ColorTransform: YCbCr
- Composite
- Aperture: 8,0
- FocalLength35efl: 14,3 mm
- ShutterSpeed: 1/500
- ExifIFD
- ApertureValue: 8,0
- ColorSpace: sRGB
- Contrast: Normal
- CreateDate: 2006:08:15 13:28:30
- CustomRendered: Custom
- DateTimeOriginal: 2006:08:15 13:28:30
- ExifImageHeight: 600
- ExifImageWidth: 900
- ExposureCompensation: 0
- ExposureMode: Auto
- ExposureProgram: Program AE
- ExposureTime: 1/500
- FNumber: 8,0
- Flash: Off
- FocalLength: 14,3 mm
- ISO: 160
- LightSource: Unknown
- MaxApertureValue: 2,8
- MeteringMode: Center-weighted average
- Saturation: Normal
- SceneCaptureType: Standard
- SceneType: Directly photographed
- Sharpness: Normal
- ShutterSpeedValue: 1/500
- WhiteBalance: Auto
- ICC-header
- ICC-meas
- ICC-view
- IFD0
- Make: SONY
- Model: DSC-R1
- ModifyDate: 2008:11:22 22:26:11
- Orientation: Horizontal (normal)
- IFD1
- IPTC
- XMP-aux
- Lens: 14.3-71.5 mm f/2.8-4.8
- LensInfo: 143/10 715/10 28/10 48/10
- XMP-crs
- AlreadyApplied: True
- BlueHue: -14
- BlueSaturation: -17
- Brightness: +93
- CameraProfile: ACR 4.4
- ChromaticAberrationB: 0
- ChromaticAberrationR: 0
- Clarity: 0
- ColorNoiseReduction: 15
- Contrast: +25
- ConvertToGrayscale: True
- CropAngle: -0.727676
- CropBottom: 0.981305
- CropHeight: 2544
- CropLeft: 0.005193
- CropRight: 0.994807
- CropTop: 0.018695
- CropUnit: 0
- CropWidth: 3815
- Defringe: 0
- Exposure: +0.19
- FillLight: 15
- GrayMixerAqua: -79
- GrayMixerBlue: -83
- GrayMixerGreen: +100
- GrayMixerMagenta: +29
- GrayMixerOrange: -26
- GrayMixerPurple: -74
- GrayMixerRed: -10
- GrayMixerYellow: +79
- GreenHue: -74
- GreenSaturation: -2
- HasCrop: True
- HasSettings: True
- HighlightRecovery: 0
- LuminanceSmoothing: 39
- ParametricDarks: -10
- ParametricHighlightSplit: 75
- ParametricHighlights: -26
- ParametricLights: -2
- ParametricMidtoneSplit: 50
- ParametricShadowSplit: 25
- ParametricShadows: -12
- RedHue: -21
- RedSaturation: -29
- ShadowTint: 0
- Shadows: 0
- SharpenDetail: 25
- SharpenEdgeMasking: 0
- SharpenRadius: +1.0
- Sharpness: 0
- SplitToningBalance: 0
- SplitToningHighlightHue: 0
- SplitToningHighlightSaturation: 0
- SplitToningShadowHue: 0
- SplitToningShadowSaturation: 0
- Temperature: 4800
- Tint: 0
- ToneCurve: 0, 0, 32, 22, 64, 56, 128, 128, 192, 196, 255, 255
- ToneCurveName: Medium Contrast
- Version: 4.4.1
- VignetteAmount: -38
- VignetteMidpoint: 39
- WhiteBalance: As Shot
- XMP-dc
- XMP-exif
- DateTimeDigitized: 2006:08:15 13:28:30+04:00
- DateTimeOriginal: 2006:08:15 13:28:30+04:00
- FlashFired: False
- FlashFunction: False
- FlashMode: Off
- FlashRedEyeMode: False
- FlashReturn: No return detection
- XMP-tiff
- ImageHeight: 2544
- ImageWidth: 3815
- XMP-xmp
- CreateDate: 2008:11:22 22:26:11+03:00
- ModifyDate: 2008:11:22 22:26:11+03:00
- XMP-xmpMM
- Просмотров: 1933
- Рейтинг: голосов еще нет
- Отзывов: 0