- Раздел: Пейзаж
- Дата съёмки: 14.09.2008 19:17
- Дата загрузки фото: 29.12.2008 23:20
- Оригинальная фотография: 4211 x 2808 (3,1 Мб)
- Технические характеристики:
- Фотоаппарат: FujiFilm FinePix S5Pro
- Выдержка: 1/3000
- Гиперфокальное расстояние: 3,84 m
- Диафрагма: 6,3
- Светочувствительность: 400
- Фокусное расстояние: 22,0 mm (35 mm equivalent: 33,0 mm)
- Полный EXIF
- Adobe
- ColorTransform: YCbCr
- Composite
- Aperture: 6,3
- CircleOfConfusion: 0,020 mm
- FOV: 57,0 deg
- FocalLength35efl: 22,0 mm (35 mm equivalent: 33,0 mm)
- HyperfocalDistance: 3,84 m
- ScaleFactor35efl: 1,5
- ShutterSpeed: 1/3000
- ExifIFD
- ApertureValue: 6,3
- BrightnessValue: 9,83
- ColorSpace: sRGB
- Contrast: Low
- CreateDate: 2008:09:14 19:17:59
- CustomRendered: Normal
- DateTimeOriginal: 2008:09:14 19:17:59
- ExifImageHeight: 2808
- ExifImageWidth: 4211
- ExposureCompensation: 0
- ExposureMode: Auto
- ExposureProgram: Aperture-priority AE
- ExposureTime: 1/3000
- FNumber: 6,3
- Flash: Off
- FocalLength: 22,0 mm
- FocalLengthIn35mmFormat: 33 mm
- ISO: 400
- LightSource: Unknown
- MaxApertureValue: 2,8
- MeteringMode: Multi-segment
- Saturation: Normal
- SceneCaptureType: Standard
- SceneType: Directly photographed
- SensingMethod: One-chip color area
- Sharpness: Normal
- ShutterSpeedValue: 1/3000
- SubjectDistanceRange: Unknown
- UserComment: (C)ANDREY I.KHODAK AIH3@PROGTECH.RU
- WhiteBalance: Auto
- ICC-header
- ICC-meas
- ICC-view
- IFD0
- BitsPerSample: 16 16 16
- ImageHeight: 2808
- ImageWidth: 4211
- Make: FUJIFILM
- Model: FinePix S5Pro
- ModifyDate: 2008:12:29 23:18:29
- Orientation: Horizontal (normal)
- PhotometricInterpretation: RGB
- PlanarConfiguration: Chunky
- SamplesPerPixel: 3
- IFD1
- IPTC
- XMP-aux
- Lens: 17.0-50.0 mm f/2.8
- LensInfo: 1700/100 5000/100 280/100 280/100
- XMP-crs
- AlreadyApplied: True
- BlueHue: 0
- BlueSaturation: +7
- Brightness: +39
- CameraProfile: ACR 4.4
- ChromaticAberrationB: +3
- ChromaticAberrationR: +3
- Clarity: +2
- ColorNoiseReduction: 20
- Contrast: +100
- ConvertToGrayscale: False
- CropAngle: 0.549144
- CropBottom: 1
- CropHeight: 2808
- CropLeft: 0.008395
- CropRight: 0.991605
- CropTop: 0
- CropUnit: 0
- CropWidth: 4211
- Defringe: 0
- Exposure: -0.17
- FillLight: 100
- GradientBasedCorrectionsCorrectionActive: true
- GradientBasedCorrectionsCorrectionAmount: 1.000000
- GradientBasedCorrectionsCorrectionMasksFullX: 0.342236
- GradientBasedCorrectionsCorrectionMasksFullY: -0.063606
- GradientBasedCorrectionsCorrectionMasksMaskValue: 1.000000
- GradientBasedCorrectionsCorrectionMasksWhat: Mask/Gradient
- GradientBasedCorrectionsCorrectionMasksZeroX: 0.403841
- GradientBasedCorrectionsCorrectionMasksZeroY: 0.516120
- GradientBasedCorrectionsLocalBrightness: 0.074000
- GradientBasedCorrectionsLocalClarity: 0.000000
- GradientBasedCorrectionsLocalContrast: 0.407000
- GradientBasedCorrectionsLocalExposure: -0.222000
- GradientBasedCorrectionsLocalSaturation: 0.000000
- GradientBasedCorrectionsLocalSharpness: 0.093000
- GradientBasedCorrectionsLocalToningHue: 230.000000
- GradientBasedCorrectionsLocalToningSaturation: 0.729000
- GradientBasedCorrectionsWhat: Correction
- GreenHue: +4
- GreenSaturation: +8
- HasCrop: True
- HasSettings: True
- HighlightRecovery: 87
- HueAdjustmentAqua: 0
- HueAdjustmentBlue: -2
- HueAdjustmentGreen: +7
- HueAdjustmentMagenta: 0
- HueAdjustmentOrange: +8
- HueAdjustmentPurple: 0
- HueAdjustmentRed: 0
- HueAdjustmentYellow: 0
- LuminanceAdjustmentAqua: 0
- LuminanceAdjustmentBlue: -12
- LuminanceAdjustmentGreen: -7
- LuminanceAdjustmentMagenta: 0
- LuminanceAdjustmentOrange: -51
- LuminanceAdjustmentPurple: 0
- LuminanceAdjustmentRed: 0
- LuminanceAdjustmentYellow: -39
- LuminanceSmoothing: 37
- ParametricDarks: -11
- ParametricHighlightSplit: 75
- ParametricHighlights: 0
- ParametricLights: +4
- ParametricMidtoneSplit: 50
- ParametricShadowSplit: 25
- ParametricShadows: 0
- PostCropVignetteAmount: -46
- PostCropVignetteFeather: 67
- PostCropVignetteMidpoint: 68
- PostCropVignetteRoundness: +24
- RedHue: 0
- RedSaturation: +11
- Saturation: +4
- SaturationAdjustmentAqua: +10
- SaturationAdjustmentBlue: +14
- SaturationAdjustmentGreen: -7
- SaturationAdjustmentMagenta: -17
- SaturationAdjustmentOrange: -3
- SaturationAdjustmentPurple: -16
- SaturationAdjustmentRed: 0
- SaturationAdjustmentYellow: -3
- ShadowTint: -7
- Shadows: 0
- SharpenDetail: 15
- SharpenEdgeMasking: 0
- SharpenRadius: +0.5
- Sharpness: 55
- SplitToningBalance: 0
- SplitToningHighlightHue: 47
- SplitToningHighlightSaturation: 0
- SplitToningShadowHue: 57
- SplitToningShadowSaturation: 3
- Temperature: 4283
- Tint: +7
- ToneCurve: 0, 0, 255, 255
- ToneCurveName: Linear
- Version: 5.2
- Vibrance: +26
- VignetteAmount: 0
- WhiteBalance: Custom
- XMP-dc
- XMP-exif
- DateTimeDigitized: 2008:09:14 19:17:59+04:00
- DateTimeOriginal: 2008:09:14 19:17:59+04:00
- FlashFired: False
- FlashFunction: False
- FlashMode: Off
- FlashRedEyeMode: False
- FlashReturn: No return detection
- XMP-tiff
- BitsPerSample: 16, 16, 16
- XMP-xmp
- CreateDate: 2008:09:14 19:17:59+04:00
- ModifyDate: 2008:12:29 23:18:29+03:00
- XMP-xmpMM