- Раздел: Семья, личное
- Дата съёмки: 23.04.2009 21:08
- Дата загрузки фото: 21.05.2009 02:34
- Оригинальная фотография: 533 x 800 (277 Кб)
- Технические характеристики:
- Фотоаппарат: Canon EOS 20D
- Выдержка: 1/50
- Гиперфокальное расстояние: 150,11 m
- Диафрагма: 1,4
- Светочувствительность: 200
- Фокусное расстояние: 30,0 mm (35 mm equivalent: 210,5 mm)
- Экспокоррекция: +4/3
- Полный EXIF
- Adobe
- ColorTransform: YCbCr
- Composite
- Aperture: 1,4
- CircleOfConfusion: 0,004 mm
- FOV: 9,0 deg
- FocalLength35efl: 30,0 mm (35 mm equivalent: 210,5 mm)
- HyperfocalDistance: 150,11 m
- ScaleFactor35efl: 7,0
- ShutterSpeed: 1/50
- ExifIFD
- ApertureValue: 1,4
- ColorSpace: sRGB
- CreateDate: 2009:04:23 21:08:02
- CustomRendered: Normal
- DateTimeOriginal: 2009:04:23 21:08:02
- ExifImageHeight: 800
- ExifImageWidth: 533
- ExposureCompensation: +4/3
- ExposureMode: Auto
- ExposureProgram: Aperture-priority AE
- ExposureTime: 1/50
- FNumber: 1,4
- Flash: Off
- FocalLength: 30,0 mm
- ISO: 200
- MaxApertureValue: 1,4
- MeteringMode: Partial
- SceneCaptureType: Standard
- ShutterSpeedValue: 1/50
- WhiteBalance: Auto
- ICC-header
- ICC-meas
- ICC-view
- IFD0
- Artist: Kiton
- Make: Canon
- Model: Canon EOS 20D
- ModifyDate: 2009:05:21 01:33:10
- Orientation: Horizontal (normal)
- IFD1
- IPTC
- By-line: Kiton
- XMP-aux
- Firmware: 2.0.3
- FlashCompensation: 0
- ImageNumber: 41
- Lens: 30.0 mm
- LensInfo: 30/1 30/1 0/0 0/0
- OwnerName: Kiton
- SerialNumber: 720408171
- XMP-crs
- AlreadyApplied: True
- BlueHue: 0
- BlueSaturation: 0
- Brightness: +93
- CameraProfile: ACR 4.4
- ChromaticAberrationB: 0
- ChromaticAberrationR: 0
- Clarity: +11
- ColorNoiseReduction: 25
- Contrast: +16
- ConvertToGrayscale: False
- Defringe: 0
- Exposure: -0.35
- FillLight: 15
- GreenHue: 0
- GreenSaturation: 0
- HasCrop: False
- HasSettings: True
- HighlightRecovery: 0
- HueAdjustmentAqua: -83
- HueAdjustmentBlue: 0
- HueAdjustmentGreen: +26
- HueAdjustmentMagenta: 0
- HueAdjustmentOrange: +30
- HueAdjustmentPurple: 0
- HueAdjustmentRed: +30
- HueAdjustmentYellow: -31
- LuminanceAdjustmentAqua: 0
- LuminanceAdjustmentBlue: 0
- LuminanceAdjustmentGreen: 0
- LuminanceAdjustmentMagenta: 0
- LuminanceAdjustmentOrange: 0
- LuminanceAdjustmentPurple: 0
- LuminanceAdjustmentRed: 0
- LuminanceAdjustmentYellow: 0
- LuminanceSmoothing: 0
- ParametricDarks: 0
- ParametricHighlightSplit: 75
- ParametricHighlights: +46
- ParametricLights: -3
- ParametricMidtoneSplit: 50
- ParametricShadowSplit: 25
- ParametricShadows: 0
- PostCropVignetteAmount: 0
- RawFileName: IMG_4649.CR2
- RedHue: 0
- RedSaturation: 0
- Saturation: -23
- SaturationAdjustmentAqua: 0
- SaturationAdjustmentBlue: 0
- SaturationAdjustmentGreen: 0
- SaturationAdjustmentMagenta: 0
- SaturationAdjustmentOrange: 0
- SaturationAdjustmentPurple: 0
- SaturationAdjustmentRed: 0
- SaturationAdjustmentYellow: 0
- ShadowTint: 0
- Shadows: 6
- SharpenDetail: 25
- SharpenEdgeMasking: 0
- SharpenRadius: +1.7
- Sharpness: 46
- SplitToningBalance: 0
- SplitToningHighlightHue: 0
- SplitToningHighlightSaturation: 0
- SplitToningShadowHue: 0
- SplitToningShadowSaturation: 0
- Temperature: 2550
- Tint: +3
- ToneCurve: 0, 0, 32, 22, 64, 56, 128, 128, 192, 196, 255, 255
- ToneCurveName: Medium Contrast
- Version: 5.0
- Vibrance: +63
- VignetteAmount: 0
- WhiteBalance: Custom
- XMP-dc
- Creator: Kiton
- Format: image/jpeg
- XMP-exif
- DateTimeDigitized: 2009:04:23 21:08:02+03:00
- DateTimeOriginal: 2009:04:23 21:08:02+03:00
- FlashFired: False
- FlashFunction: False
- FlashMode: Off
- FlashRedEyeMode: False
- FlashReturn: No return detection
- XMP-tiff
- XMP-xmp
- CreateDate: 2009:04:23 21:08:02+03:00
- ModifyDate: 2009:05:21 01:33:10+03:00
- Rating: 0
- XMP-xmpMM