- Раздел: Природа
- Дата съёмки: 23.05.2009 15:50
- Дата загрузки фото: 28.05.2009 17:45
- Оригинальная фотография: 2336 x 3504 (3,6 Мб)
- Технические характеристики:
- Фотоаппарат: Canon EOS 30D
- Выдержка: 1/6400
- Гиперфокальное расстояние: 154,04 m
- Диафрагма: 2,5
- Светочувствительность: 200
- Фокусное расстояние: 85,0 mm (35 mm equivalent: 136,1 mm)
- Экспокоррекция: -1/3
- Полный EXIF
- Adobe
- ColorTransform: YCbCr
- Composite
- Aperture: 2,5
- CircleOfConfusion: 0,019 mm
- FOV: 15,0 deg
- FocalLength35efl: 85,0 mm (35 mm equivalent: 136,1 mm)
- HyperfocalDistance: 154,04 m
- ScaleFactor35efl: 1,6
- ShutterSpeed: 1/6400
- ExifIFD
- ApertureValue: 2,5
- CreateDate: 2009:05:23 15:50:00
- CustomRendered: Normal
- DateTimeOriginal: 2009:05:23 15:50:00
- ExposureCompensation: -1/3
- ExposureMode: Auto
- ExposureProgram: Aperture-priority AE
- ExposureTime: 1/6400
- FNumber: 2,5
- Flash: Off
- FocalLength: 85,0 mm
- ISO: 200
- MaxApertureValue: 1,8
- MeteringMode: Multi-segment
- SceneCaptureType: Standard
- ShutterSpeedValue: 1/6400
- WhiteBalance: Manual
- ICC-header
- IFD0
- Artist: LunarCat
- Make: Canon
- Model: Canon EOS 30D
- ModifyDate: 2009:05:27 16:26:25
- IPTC
- By-line: LunarCat
- XMP-aux
- Firmware: 1.0.6
- FlashCompensation: 0
- ImageNumber: 112
- Lens: EF85mm f/1.8 USM
- LensInfo: 85/1 85/1 0/0 0/0
- OwnerName: LunarCat
- SerialNumber: 1130812737
- XMP-crs
- AlreadyApplied: True
- BlueHue: -20
- BlueSaturation: 0
- Brightness: +50
- ChromaticAberrationB: 0
- ChromaticAberrationR: 0
- Clarity: +100
- ColorNoiseReduction: 25
- Contrast: +73
- ConvertToGrayscale: False
- Defringe: 0
- Exposure: +0.41
- FillLight: 100
- GreenHue: -100
- GreenSaturation: +100
- HasCrop: False
- HasSettings: True
- HighlightRecovery: 71
- HueAdjustmentAqua: 0
- HueAdjustmentBlue: 0
- HueAdjustmentGreen: 0
- HueAdjustmentMagenta: 0
- HueAdjustmentOrange: 0
- HueAdjustmentPurple: 0
- HueAdjustmentRed: 0
- HueAdjustmentYellow: 0
- LuminanceAdjustmentAqua: 0
- LuminanceAdjustmentBlue: 0
- LuminanceAdjustmentGreen: 0
- LuminanceAdjustmentMagenta: 0
- LuminanceAdjustmentOrange: 0
- LuminanceAdjustmentPurple: 0
- LuminanceAdjustmentRed: 0
- LuminanceAdjustmentYellow: 0
- LuminanceSmoothing: 0
- ParametricDarks: 0
- ParametricHighlightSplit: 75
- ParametricHighlights: 0
- ParametricLights: 0
- ParametricMidtoneSplit: 50
- ParametricShadowSplit: 25
- ParametricShadows: 0
- PostCropVignetteAmount: -11
- PostCropVignetteFeather: 80
- PostCropVignetteMidpoint: 50
- PostCropVignetteRoundness: 0
- RedHue: +56
- RedSaturation: -100
- Saturation: -78
- SaturationAdjustmentAqua: 0
- SaturationAdjustmentBlue: 0
- SaturationAdjustmentGreen: 0
- SaturationAdjustmentMagenta: 0
- SaturationAdjustmentOrange: 0
- SaturationAdjustmentPurple: 0
- SaturationAdjustmentRed: 0
- SaturationAdjustmentYellow: 0
- ShadowTint: -42
- Shadows: 64
- SharpenDetail: 100
- SharpenEdgeMasking: 11
- SharpenRadius: +1.6
- Sharpness: 53
- SplitToningBalance: 0
- SplitToningHighlightHue: 0
- SplitToningHighlightSaturation: 0
- SplitToningShadowHue: 0
- SplitToningShadowSaturation: 0
- Temperature: 4889
- Tint: -3
- ToneCurve: 0, 0, 32, 16, 64, 50, 128, 128, 192, 202, 255, 255
- ToneCurveName: Strong Contrast
- Version: 5.2
- Vibrance: +100
- VignetteAmount: -94
- VignetteMidpoint: 25
- WhiteBalance: Custom
- XMP-dc
- XMP-exif
- DateTimeDigitized: 2009:05:23 15:50:00+03:00
- DateTimeOriginal: 2009:05:23 15:50:00+03:00
- ExifImageHeight: 3504
- ExifImageWidth: 2336
- FlashFired: False
- FlashFunction: False
- FlashMode: Off
- FlashRedEyeMode: False
- FlashReturn: No return detection
- XMP-tiff
- ImageHeight: 3504
- ImageWidth: 2336
- XMP-xmp
- CreateDate: 2009:05:23 15:50:00+03:00
- ModifyDate: 2009:05:27 16:26:25+03:00
- Просмотров: 649
- Рейтинг: голосов еще нет
- Отзывов: 1