- Раздел: Другое, разное
- Дата съёмки: 11.08.2009 13:32
- Дата загрузки фото: 12.08.2009 13:06
- Оригинальная фотография: 2656 x 3528 (6,1 Мб)
- Технические характеристики:
- Фотоаппарат: FujiFilm FinePix S9600
- Выдержка: 1/320
- Гиперфокальное расстояние: 25,53 m
- Диафрагма: 7,1
- Светочувствительность: 80
- Фокусное расстояние: 52,0 mm (35 mm equivalent: 104,7 mm)
- Экспокоррекция: -0,67
- Полный EXIF
- Adobe
- ColorTransform: YCbCr
- Composite
- Aperture: 7,1
- CircleOfConfusion: 0,015 mm
- FOV: 19,0 deg
- FocalLength35efl: 52,0 mm (35 mm equivalent: 104,7 mm)
- HyperfocalDistance: 25,53 m
- ScaleFactor35efl: 2,0
- ShutterSpeed: 1/320
- ExifIFD
- ApertureValue: 7,1
- BrightnessValue: 9,55
- ColorSpace: sRGB
- Contrast: Normal
- CreateDate: 2009:08:11 13:32:13
- CustomRendered: Normal
- DateTimeOriginal: 2009:08:11 13:32:13
- ExifImageHeight: 3528
- ExifImageWidth: 2656
- ExposureCompensation: -0,67
- ExposureMode: Auto
- ExposureProgram: Program AE
- ExposureTime: 1/320
- FNumber: 7,1
- Flash: Off
- FocalLength: 52,0 mm
- ISO: 80
- LightSource: Unknown
- MaxApertureValue: 2,8
- MeteringMode: Multi-segment
- Saturation: Normal
- SceneCaptureType: Standard
- SceneType: Directly photographed
- SensingMethod: One-chip color area
- Sharpness: Normal
- ShutterSpeedValue: 1/320
- SubjectDistanceRange: Distant
- WhiteBalance: Auto
- ICC-header
- ICC-meas
- ICC-view
- IFD0
- Make: FUJIFILM
- Model: FinePix S9600
- ModifyDate: 2009:08:12 13:01:37
- Orientation: Horizontal (normal)
- IFD1
- IPTC
- XMP-crs
- AlreadyApplied: True
- BlueHue: 0
- BlueSaturation: 0
- Brightness: 0
- ChromaticAberrationB: +43
- ChromaticAberrationR: -43
- Clarity: +36
- ColorNoiseReduction: 36
- Contrast: 0
- ConvertToGrayscale: False
- Defringe: 0
- Exposure: +0.82
- FillLight: 0
- GreenHue: 0
- GreenSaturation: 0
- HasCrop: False
- HasSettings: True
- HighlightRecovery: 48
- HueAdjustmentAqua: 0
- HueAdjustmentBlue: 0
- HueAdjustmentGreen: 0
- HueAdjustmentMagenta: 0
- HueAdjustmentOrange: 0
- HueAdjustmentPurple: 0
- HueAdjustmentRed: 0
- HueAdjustmentYellow: 0
- LuminanceAdjustmentAqua: 0
- LuminanceAdjustmentBlue: 0
- LuminanceAdjustmentGreen: 0
- LuminanceAdjustmentMagenta: 0
- LuminanceAdjustmentOrange: 0
- LuminanceAdjustmentPurple: 0
- LuminanceAdjustmentRed: 0
- LuminanceAdjustmentYellow: 0
- LuminanceSmoothing: 27
- ParametricDarks: -20
- ParametricHighlightSplit: 75
- ParametricHighlights: +60
- ParametricLights: +10
- ParametricMidtoneSplit: 50
- ParametricShadowSplit: 25
- ParametricShadows: -60
- PostCropVignetteAmount: -14
- PostCropVignetteFeather: 50
- PostCropVignetteMidpoint: 50
- PostCropVignetteRoundness: 0
- RedHue: +33
- RedSaturation: 0
- Saturation: +12
- SaturationAdjustmentAqua: +50
- SaturationAdjustmentBlue: +58
- SaturationAdjustmentGreen: +10
- SaturationAdjustmentMagenta: 0
- SaturationAdjustmentOrange: +13
- SaturationAdjustmentPurple: +23
- SaturationAdjustmentRed: 0
- SaturationAdjustmentYellow: +23
- ShadowTint: 0
- Shadows: 27
- SharpenDetail: 48
- SharpenEdgeMasking: 44
- SharpenRadius: +0.5
- Sharpness: 84
- SplitToningBalance: +48
- SplitToningHighlightHue: 0
- SplitToningHighlightSaturation: 0
- SplitToningShadowHue: 0
- SplitToningShadowSaturation: 0
- Temperature: 7476
- Tint: 0
- ToneCurve: 0, 0, 255, 255
- ToneCurveName: Linear
- Version: 5.4
- Vibrance: +5
- VignetteAmount: +40
- VignetteMidpoint: 0
- WhiteBalance: Custom
- XMP-dc
- XMP-exif
- DateTimeDigitized: 2009:08:11 13:32:13+04:00
- DateTimeOriginal: 2009:08:11 13:32:13+04:00
- FlashFired: False
- FlashFunction: False
- FlashMode: Off
- FlashRedEyeMode: False
- FlashReturn: No return detection
- XMP-tiff
- ImageHeight: 3488
- ImageWidth: 2616
- XMP-xmp
- CreateDate: 2009:08:11 13:32:13+04:00
- ModifyDate: 2009:08:12 13:01:37+04:00
- XMP-xmpMM