- Раздел: Другое, разное
- Дата съёмки: 30.05.2009 19:06
- Дата загрузки фото: 09.09.2009 20:23
- Оригинальная фотография: 900 x 600 (292 Кб)
- Технические характеристики:
- Фотоаппарат: Canon EOS 5D
- Выдержка: 1/200
- Гиперфокальное расстояние: 179,85 m
- Диафрагма: 9,0
- Светочувствительность: 160
- Фокусное расстояние: 100,0 mm (35 mm equivalent: 486,3 mm)
- Полный EXIF
- Adobe
- ColorTransform: YCbCr
- Composite
- Aperture: 9,0
- CircleOfConfusion: 0,006 mm
- FOV: 4,0 deg
- FocalLength35efl: 100,0 mm (35 mm equivalent: 486,3 mm)
- HyperfocalDistance: 179,85 m
- ScaleFactor35efl: 4,9
- ShutterSpeed: 1/200
- ExifIFD
- ApertureValue: 9,0
- ColorSpace: sRGB
- CreateDate: 2009:05:30 19:06:30
- CustomRendered: Normal
- DateTimeOriginal: 2009:05:30 19:06:30
- ExifImageHeight: 600
- ExifImageWidth: 900
- ExposureCompensation: 0
- ExposureMode: Manual
- ExposureProgram: Manual
- ExposureTime: 1/200
- FNumber: 9,0
- Flash: On
- FocalLength: 100,0 mm
- ISO: 160
- MaxApertureValue: 2,8
- MeteringMode: Multi-segment
- SceneCaptureType: Standard
- ShutterSpeedValue: 1/200
- WhiteBalance: Auto
- ICC-header
- ICC-meas
- ICC-view
- IFD0
- Artist: Alexander Zhiltsov
- Copyright: Alexander Zhiltsov
- Make: Canon
- Model: Canon EOS 5D
- ModifyDate: 2009:06:01 20:04:26
- Orientation: Horizontal (normal)
- IFD1
- IPTC
- By-line: Alexander Zhiltsov
- By-lineTitle: Photographer
- CopyrightNotice: Alexander Zhiltsov
- XMP-aux
- Firmware: 1.1.1
- FlashCompensation: 1,66666666666667
- ImageNumber: 9
- Lens: EF100mm f/2.8 Macro USM
- LensInfo: 100/1 100/1 0/0 0/0
- OwnerName: Alexander Zhiltsov
- SerialNumber: 3131305379
- XMP-crs
- AlreadyApplied: True
- BlueHue: 0
- BlueSaturation: 0
- Brightness: +50
- CameraProfile: ACR 4.4
- ChromaticAberrationB: 0
- ChromaticAberrationR: 0
- Clarity: +31
- ColorNoiseReduction: 25
- Contrast: +34
- ConvertToGrayscale: False
- Defringe: 0
- Exposure: 0.00
- FillLight: 0
- GreenHue: 0
- GreenSaturation: 0
- HasCrop: False
- HasSettings: True
- HighlightRecovery: 0
- HueAdjustmentAqua: 0
- HueAdjustmentBlue: 0
- HueAdjustmentGreen: 0
- HueAdjustmentMagenta: 0
- HueAdjustmentOrange: 0
- HueAdjustmentPurple: 0
- HueAdjustmentRed: 0
- HueAdjustmentYellow: 0
- LuminanceAdjustmentAqua: 0
- LuminanceAdjustmentBlue: 0
- LuminanceAdjustmentGreen: 0
- LuminanceAdjustmentMagenta: 0
- LuminanceAdjustmentOrange: 0
- LuminanceAdjustmentPurple: 0
- LuminanceAdjustmentRed: 0
- LuminanceAdjustmentYellow: 0
- LuminanceSmoothing: 0
- ParametricDarks: 0
- ParametricHighlightSplit: 75
- ParametricHighlights: 0
- ParametricLights: 0
- ParametricMidtoneSplit: 50
- ParametricShadowSplit: 25
- ParametricShadows: 0
- PostCropVignetteAmount: 0
- RedHue: 0
- RedSaturation: 0
- Saturation: +5
- SaturationAdjustmentAqua: 0
- SaturationAdjustmentBlue: 0
- SaturationAdjustmentGreen: 0
- SaturationAdjustmentMagenta: 0
- SaturationAdjustmentOrange: 0
- SaturationAdjustmentPurple: 0
- SaturationAdjustmentRed: 0
- SaturationAdjustmentYellow: 0
- ShadowTint: 0
- Shadows: 5
- SharpenDetail: 25
- SharpenEdgeMasking: 0
- SharpenRadius: +1.0
- Sharpness: 25
- SplitToningBalance: 0
- SplitToningHighlightHue: 0
- SplitToningHighlightSaturation: 0
- SplitToningShadowHue: 0
- SplitToningShadowSaturation: 0
- Temperature: 6100
- Tint: +1
- ToneCurve: 0, 0, 32, 22, 64, 56, 128, 128, 192, 196, 255, 255
- ToneCurveName: Medium Contrast
- Version: 4.6
- Vibrance: +5
- VignetteAmount: 0
- WhiteBalance: As Shot
- XMP-dc
- Creator: Alexander Zhiltsov
- Format: image/jpeg
- Rights: Alexander Zhiltsov
- XMP-exif
- DateTimeDigitized: 2009:05:30 19:06:30+07:00
- DateTimeOriginal: 2009:05:30 19:06:30+07:00
- FlashFired: True
- FlashFunction: False
- FlashMode: On
- FlashRedEyeMode: False
- FlashReturn: No return detection
- XMP-iptcCore
- CreatorContactInfoCiAdrCity: Novosibirsk
- CreatorContactInfoCiAdrCtry: Russia
- CreatorContactInfoCiEmailWork: azhiltsov@gmail.com
- CreatorContactInfoCiTelWork: 89139422642
- XMP-tiff
- ImageHeight: 2912
- ImageWidth: 4368
- XMP-xmp
- CreateDate: 2009:05:30 19:06:30+07:00
- ModifyDate: 2009:06:01 20:04:26+07:00
- XMP-xmpMM
- XMP-xmpRights