- Раздел: Натюрморт
- Дата съёмки: 17.11.2009 19:41
- Дата загрузки фото: 17.11.2009 17:07
- Оригинальная фотография: 800 x 1200 (140 Кб)
- Технические характеристики:
- Фотоаппарат: Canon EOS 40D
- Выдержка: 1/250
- Гиперфокальное расстояние: 166,22 m
- Диафрагма: 5,6
- Светочувствительность: 200
- Фокусное расстояние: 73,0 mm (35 mm equivalent: 383,1 mm)
- Полный EXIF
- Adobe
- ColorTransform: YCbCr
- Composite
- Aperture: 5,6
- CircleOfConfusion: 0,006 mm
- FOV: 5,0 deg
- FocalLength35efl: 73,0 mm (35 mm equivalent: 383,1 mm)
- HyperfocalDistance: 166,22 m
- ScaleFactor35efl: 5,2
- ShutterSpeed: 1/250
- ExifIFD
- ApertureValue: 5,6
- ColorSpace: Uncalibrated
- CreateDate: 2008:07:23 18:46:23
- CustomRendered: Normal
- DateTimeOriginal: 2008:07:23 18:46:23
- ExifImageHeight: 1200
- ExifImageWidth: 800
- ExposureCompensation: 0
- ExposureMode: Auto
- ExposureProgram: Aperture-priority AE
- ExposureTime: 1/250
- FNumber: 5,6
- Flash: Off
- FocalLength: 73,0 mm
- ISO: 200
- MaxApertureValue: 5,7
- MeteringMode: Spot
- SceneCaptureType: Standard
- ShutterSpeedValue: 1/250
- WhiteBalance: Auto
- IFD0
- Artist: Pikalov Sergey
- Make: Canon
- Model: Canon EOS 40D
- ModifyDate: 2009:11:17 19:41:09
- Orientation: Horizontal (normal)
- IFD1
- IPTC
- By-line: Pikalov Sergey
- XMP-aux
- Firmware: 1.0.8
- FlashCompensation: 0
- ImageNumber: 0
- Lens: EF-S17-85mm f/4-5.6 IS USM
- LensInfo: 17/1 85/1 0/0 0/0
- OwnerName: Pikalov Sergey
- SerialNumber: 330112164
- XMP-crs
- AlreadyApplied: True
- BlueHue: 0
- BlueSaturation: 0
- Brightness: +7
- CameraProfile: Embedded
- ChromaticAberrationB: 0
- ChromaticAberrationR: 0
- Clarity: 0
- ColorNoiseReduction: 0
- Contrast: +100
- ConvertToGrayscale: False
- Defringe: 0
- Exposure: 0.00
- FillLight: 23
- GreenHue: 0
- GreenSaturation: 0
- HasCrop: False
- HasSettings: True
- HighlightRecovery: 0
- HueAdjustmentAqua: 0
- HueAdjustmentBlue: 0
- HueAdjustmentGreen: 0
- HueAdjustmentMagenta: -12
- HueAdjustmentOrange: -21
- HueAdjustmentPurple: 0
- HueAdjustmentRed: 0
- HueAdjustmentYellow: 0
- IncrementalTemperature: 0
- IncrementalTint: 0
- LuminanceAdjustmentAqua: 0
- LuminanceAdjustmentBlue: 0
- LuminanceAdjustmentGreen: 0
- LuminanceAdjustmentMagenta: 0
- LuminanceAdjustmentOrange: 0
- LuminanceAdjustmentPurple: 0
- LuminanceAdjustmentRed: 0
- LuminanceAdjustmentYellow: 0
- LuminanceSmoothing: 0
- ParametricDarks: +30
- ParametricHighlightSplit: 75
- ParametricHighlights: 0
- ParametricLights: -36
- ParametricMidtoneSplit: 50
- ParametricShadowSplit: 25
- ParametricShadows: +100
- RedHue: 0
- RedSaturation: 0
- Saturation: 0
- SaturationAdjustmentAqua: 0
- SaturationAdjustmentBlue: 0
- SaturationAdjustmentGreen: 0
- SaturationAdjustmentMagenta: 0
- SaturationAdjustmentOrange: 0
- SaturationAdjustmentPurple: 0
- SaturationAdjustmentRed: 0
- SaturationAdjustmentYellow: 0
- ShadowTint: 0
- Shadows: 32
- SharpenDetail: 27
- SharpenEdgeMasking: 10
- SharpenRadius: +1.5
- Sharpness: 36
- SplitToningBalance: 0
- SplitToningHighlightHue: 0
- SplitToningHighlightSaturation: 0
- SplitToningShadowHue: 0
- SplitToningShadowSaturation: 0
- ToneCurve: 0, 0, 255, 255
- ToneCurveName: Linear
- Version: 4.4.1
- Vibrance: 0
- VignetteAmount: 0
- WhiteBalance: As Shot
- XMP-dc
- Creator: Pikalov Sergey
- Format: image/jpeg
- XMP-exif
- ColorSpace: Unknown (-1)
- DateTimeDigitized: 2008:07:23 18:46:23.00+06:00
- DateTimeOriginal: 2008:07:23 18:46:23.00+06:00
- FlashFired: False
- FlashFunction: False
- FlashMode: Off
- FlashRedEyeMode: False
- FlashReturn: No return detection
- XMP-tiff
- ImageHeight: 3888
- ImageWidth: 2592
- XMP-xmp
- CreateDate: 2009:11:17 19:41:09+06:00
- ModifyDate: 2009:11:17 19:41:09+06:00
- XMP-xmpMM