- Раздел: Пейзаж
- Дата съёмки: 19.12.2009 14:42
- Дата загрузки фото: 19.12.2009 21:44
- Оригинальная фотография: 2640 x 1760 (1,4 Мб)
- Технические характеристики:
- Фотоаппарат: Sigma DP2
- Выдержка: 1/80
- Гиперфокальное расстояние: 8,19 m
- Диафрагма: 4,0
- Светочувствительность: 200
- Фокусное расстояние: 24,0 mm (35 mm equivalent: 41,0 mm)
- Полный EXIF
- Adobe
- ColorTransform: YCbCr
- Composite
- Aperture: 4,0
- CircleOfConfusion: 0,018 mm
- FOV: 47,0 deg
- FocalLength35efl: 24,0 mm (35 mm equivalent: 41,0 mm)
- HyperfocalDistance: 8,19 m
- ScaleFactor35efl: 1,7
- ShutterSpeed: 1/80
- ExifIFD
- ApertureValue: 4,0
- ColorSpace: sRGB
- CreateDate: 2009:12:19 18:13:52
- CustomRendered: Custom
- DateTimeOriginal: 2009:12:19 14:42:52
- ExifImageHeight: 1760
- ExifImageWidth: 2640
- ExposureCompensation: 0
- ExposureMode: Auto bracket
- ExposureProgram: Aperture-priority AE
- ExposureTime: 1/80
- FNumber: 4,0
- Flash: No Flash
- FocalLength: 24,0 mm
- FocalLengthIn35mmFormat: 41 mm
- ISO: 200
- MaxApertureValue: 1,0
- MeteringMode: Multi-segment
- SceneCaptureType: Standard
- SensingMethod: One-chip color area
- ShutterSpeedValue: 1/80
- WhiteBalance: Auto
- ICC-header
- ICC-meas
- ICC-view
- IFD0
- Make: SIGMA
- Model: SIGMA DP2
- ModifyDate: 2009:12:19 21:31:53
- Orientation: Horizontal (normal)
- IFD1
- IPTC
- XMP-crs
- AlreadyApplied: True
- BlueHue: 0
- BlueSaturation: 0
- Brightness: 0
- CameraProfile: Embedded
- ChromaticAberrationB: 0
- ChromaticAberrationR: 0
- Clarity: 0
- ColorNoiseReduction: 23
- Contrast: +30
- ConvertToGrayscale: False
- Defringe: 0
- Exposure: 0.00
- FillLight: 28
- GradientBasedCorrectionsCorrectionActive: true
- GradientBasedCorrectionsCorrectionAmount: 1.000000
- GradientBasedCorrectionsCorrectionMasksFullX: 0.369816
- GradientBasedCorrectionsCorrectionMasksFullY: 0.284974
- GradientBasedCorrectionsCorrectionMasksMaskValue: 1.000000
- GradientBasedCorrectionsCorrectionMasksWhat: Mask/Gradient
- GradientBasedCorrectionsCorrectionMasksZeroX: 0.361751
- GradientBasedCorrectionsCorrectionMasksZeroY: 0.483592
- GradientBasedCorrectionsLocalBrightness: -0.075000
- GradientBasedCorrectionsLocalClarity: 0.150000
- GradientBasedCorrectionsLocalContrast: 0.100000
- GradientBasedCorrectionsLocalExposure: -0.075000
- GradientBasedCorrectionsLocalSaturation: 0.300000
- GradientBasedCorrectionsLocalSharpness: 0.000000
- GradientBasedCorrectionsLocalToningHue: 0.000000
- GradientBasedCorrectionsLocalToningSaturation: 0.000000
- GradientBasedCorrectionsWhat: Correction
- GreenHue: 0
- GreenSaturation: 0
- HasCrop: False
- HasSettings: True
- HighlightRecovery: 8
- HueAdjustmentAqua: 0
- HueAdjustmentBlue: 0
- HueAdjustmentGreen: 0
- HueAdjustmentMagenta: 0
- HueAdjustmentOrange: 0
- HueAdjustmentPurple: 0
- HueAdjustmentRed: 0
- HueAdjustmentYellow: 0
- IncrementalTemperature: +6
- IncrementalTint: +2
- LuminanceAdjustmentAqua: 0
- LuminanceAdjustmentBlue: 0
- LuminanceAdjustmentGreen: 0
- LuminanceAdjustmentMagenta: 0
- LuminanceAdjustmentOrange: 0
- LuminanceAdjustmentPurple: 0
- LuminanceAdjustmentRed: 0
- LuminanceAdjustmentYellow: 0
- LuminanceSmoothing: 0
- ParametricDarks: 0
- ParametricHighlightSplit: 75
- ParametricHighlights: 0
- ParametricLights: 0
- ParametricMidtoneSplit: 50
- ParametricShadowSplit: 25
- ParametricShadows: 0
- PostCropVignetteAmount: 0
- RawFileName: SDIM0301.tif
- RedHue: 0
- RedSaturation: 0
- Saturation: 0
- SaturationAdjustmentAqua: 0
- SaturationAdjustmentBlue: 0
- SaturationAdjustmentGreen: 0
- SaturationAdjustmentMagenta: 0
- SaturationAdjustmentOrange: 0
- SaturationAdjustmentPurple: 0
- SaturationAdjustmentRed: 0
- SaturationAdjustmentYellow: 0
- ShadowTint: 0
- Shadows: 0
- SharpenDetail: 25
- SharpenEdgeMasking: 0
- SharpenRadius: +1.0
- Sharpness: 0
- SplitToningBalance: 0
- SplitToningHighlightHue: 0
- SplitToningHighlightSaturation: 0
- SplitToningShadowHue: 0
- SplitToningShadowSaturation: 0
- ToneCurve: 0, 0, 255, 255
- ToneCurveName: Linear
- Version: 5.5
- Vibrance: +17
- VignetteAmount: 0
- WhiteBalance: Custom
- XMP-dc
- XMP-exif
- DateTimeDigitized: 2009:12:19 18:13:52+03:00
- DateTimeOriginal: 2009:12:19 14:42:52+03:00
- FlashFired: False
- FlashFunction: False
- FlashMode: Unknown
- FlashRedEyeMode: False
- FlashReturn: No return detection
- XMP-tiff
- XMP-xmp
- CreateDate: 2009:12:19 14:42:52+03:00
- CreatorTool: SIGMA Photo Pro 3.5.2.0000
- ModifyDate: 2009:12:19 21:31:53+03:00
- Rating: 0
- XMP-xmpMM