- Раздел: Город
- Дата съёмки: 08.09.2007 06:07
- Дата загрузки фото: 27.05.2010 18:53
- Оригинальная фотография: 2885 x 1935 (6,0 Мб)
- Технические характеристики:
- Фотоаппарат: FujiFilm FinePix S6500fd
- Выдержка: 1/4
- Гиперфокальное расстояние: inf m
- Диафрагма: 3,6
- Светочувствительность: 100
- Фокусное расстояние: 6,0 mm (35 mm equivalent: 12,0 mm)
- Полный EXIF
- Adobe
- ColorTransform: YCbCr
- Composite
- Aperture: 3,6
- CircleOfConfusion: 0,012 mm
- FOV: 112,0 deg
- FocalLength35efl: 6,0 mm (35 mm equivalent: 12,0 mm)
- HyperfocalDistance: inf m
- ScaleFactor35efl: 2,6
- ShutterSpeed: 1/4
- ExifIFD
- ApertureValue: 3,6
- BrightnessValue: 0,85
- ColorSpace: Uncalibrated
- CreateDate: 2007:09:08 06:07:21
- CustomRendered: Normal
- DateTimeOriginal: 2007:09:08 06:07:21
- ExifImageHeight: 1935
- ExifImageWidth: 2885
- ExposureCompensation: 0
- ExposureMode: Auto
- ExposureProgram: Aperture-priority AE
- ExposureTime: 1/4
- FNumber: 3,6
- Flash: Off, Did not fire
- FocalLength: 6,2 mm
- ISO: 100
- LightSource: Unknown
- MaxApertureValue: 2,8
- MeteringMode: Multi-segment
- SceneCaptureType: Standard
- SceneType: Directly photographed
- SensingMethod: One-chip color area
- Sharpness: Normal
- ShutterSpeedValue: 1/4
- SubjectDistanceRange: Unknown
- WhiteBalance: Auto
- IFD0
- Make: FUJIFILM
- Model: FinePix S6500fd
- ModifyDate: 2010:05:27 17:28:31
- Orientation: Horizontal (normal)
- IFD1
- IPTC
- System
- XMP-crs
- AlreadyApplied: True
- BlueHue: 0
- BlueSaturation: 0
- Brightness: +51
- CameraProfile: ACR 4.4
- ChromaticAberrationB: 0
- ChromaticAberrationR: 0
- Clarity: +100
- ColorNoiseReduction: 25
- Contrast: +25
- ConvertToGrayscale: False
- Defringe: 0
- Exposure: 0.00
- FillLight: 0
- GreenHue: 0
- GreenSaturation: 0
- HasCrop: False
- HasSettings: True
- HighlightRecovery: 0
- HueAdjustmentAqua: 0
- HueAdjustmentBlue: 0
- HueAdjustmentGreen: 0
- HueAdjustmentMagenta: 0
- HueAdjustmentOrange: 0
- HueAdjustmentPurple: 0
- HueAdjustmentRed: 0
- HueAdjustmentYellow: 0
- LuminanceAdjustmentAqua: 0
- LuminanceAdjustmentBlue: 0
- LuminanceAdjustmentGreen: 0
- LuminanceAdjustmentMagenta: 0
- LuminanceAdjustmentOrange: 0
- LuminanceAdjustmentPurple: 0
- LuminanceAdjustmentRed: 0
- LuminanceAdjustmentYellow: 0
- LuminanceSmoothing: 0
- ParametricDarks: -11
- ParametricHighlightSplit: 75
- ParametricHighlights: +13
- ParametricLights: 0
- ParametricMidtoneSplit: 50
- ParametricShadowSplit: 25
- ParametricShadows: -25
- PostCropVignetteAmount: 0
- RawFileName: DSCF0495.RAF
- RedHue: 0
- RedSaturation: 0
- Saturation: 0
- SaturationAdjustmentAqua: 0
- SaturationAdjustmentBlue: 0
- SaturationAdjustmentGreen: 0
- SaturationAdjustmentMagenta: 0
- SaturationAdjustmentOrange: 0
- SaturationAdjustmentPurple: 0
- SaturationAdjustmentRed: 0
- SaturationAdjustmentYellow: 0
- ShadowTint: 0
- Shadows: 5
- SharpenDetail: 25
- SharpenEdgeMasking: 0
- SharpenRadius: +1.0
- Sharpness: 25
- SplitToningBalance: 0
- SplitToningHighlightHue: 0
- SplitToningHighlightSaturation: 0
- SplitToningShadowHue: 0
- SplitToningShadowSaturation: 0
- Temperature: 5800
- Tint: 0
- ToneCurve: 0, 0, 32, 22, 64, 56, 128, 128, 192, 196, 255, 255
- ToneCurveName: Medium Contrast
- Version: 4.6
- Vibrance: -1
- VignetteAmount: 0
- WhiteBalance: As Shot
- XMP-dc
- XMP-exif
- ColorSpace: Unknown (-1)
- DateTimeDigitized: 2007:09:08 06:07:21+03:00
- DateTimeOriginal: 2007:09:08 06:07:21+03:00
- FlashFired: False
- FlashFunction: False
- FlashMode: Off
- FlashRedEyeMode: False
- FlashReturn: No return detection
- XMP-tiff
- XMP-xmp
- CreateDate: 2010:05:27 17:28:31+03:00
- ModifyDate: 2010:05:27 17:28:31+03:00
- Rating: 0
- XMP-xmpMM
- DerivedFrom: