Манящие вершины вдали...
гг. Джуга, Чугуш, Джемарук, Тыбга...
- Раздел: Пейзаж
- Дата съёмки: 02.07.2010 11:38
- Дата загрузки фото: 26.08.2010 22:31
- Оригинальная фотография: 4256 x 2848 (3,9 Мб)
- Технические характеристики:
- Фотоаппарат: FujiFilm FinePix S5Pro
- Выдержка: 1/115
- Гиперфокальное расстояние: inf m
- Диафрагма: 8,0
- Светочувствительность: 160
- Фокусное расстояние: 20,0 mm (35 mm equivalent: 20,0 mm)
- Полный EXIF
- Adobe
- ColorTransform: YCbCr
- Composite
- Aperture: 8,0
- CircleOfConfusion: 0,020 mm
- FOV: 83,0 deg
- FocalLength35efl: 20,0 mm (35 mm equivalent: 20,0 mm)
- HyperfocalDistance: inf m
- ScaleFactor35efl: 1,5
- ShutterSpeed: 1/115
- ExifIFD
- ApertureValue: 8,0
- BrightnessValue: 7,25
- ColorSpace: sRGB
- Contrast: Low
- CreateDate: 2010:07:02 11:38:21
- CustomRendered: Normal
- DateTimeOriginal: 2010:07:02 11:38:21
- ExifImageHeight: 2848
- ExifImageWidth: 4256
- ExposureCompensation: 0
- ExposureMode: Auto
- ExposureProgram: Aperture-priority AE
- ExposureTime: 1/115
- FNumber: 8,0
- Flash: Off, Did not fire
- FocalLength: 20,0 mm
- FocalLengthIn35mmFormat: 30 mm
- ISO: 160
- LightSource: Unknown
- MaxApertureValue: 2,8
- MeteringMode: Multi-segment
- Saturation: Normal
- SceneCaptureType: Standard
- SceneType: Directly photographed
- SensingMethod: One-chip color area
- Sharpness: Normal
- ShutterSpeedValue: 1/115
- SubjectDistanceRange: Unknown
- WhiteBalance: Auto
- ICC-header
- ICC-meas
- ICC-view
- IFD0
- Make: FUJIFILM
- Model: FinePix S5Pro
- ModifyDate: 2010:08:26 22:30:33
- Orientation: Horizontal (normal)
- IFD1
- IPTC
- System
- XMP-aux
- Lens: 20.0 mm f/2.8
- LensInfo: 2000/100 2000/100 280/100 280/100
- XMP-crs
- AlreadyApplied: True
- BlueHue: 0
- BlueSaturation: +9
- Brightness: +36
- ChromaticAberrationB: -33
- ChromaticAberrationR: -47
- Clarity: +1
- ColorNoiseReduction: 8
- Contrast: +100
- ConvertToGrayscale: False
- Defringe: 0
- Exposure: 0.00
- FillLight: 51
- GradientBasedCorrActive: true
- GradientBasedCorrAmount: 1.000000
- GradientBasedCorrBrightness: 0.000000
- GradientBasedCorrClarity: 0.360000
- GradientBasedCorrContrast: 0.080000
- GradientBasedCorrExposure: -0.162500
- GradientBasedCorrHue: 208.000000
- GradientBasedCorrMaskFullX: 0.698157
- GradientBasedCorrMaskFullY: 0.256454
- GradientBasedCorrMaskValue: 1.000000
- GradientBasedCorrMaskWhat: Mask/Gradient
- GradientBasedCorrMaskZeroX: 0.664747
- GradientBasedCorrMaskZeroY: 0.452668
- GradientBasedCorrSaturation: 0.100000
- GradientBasedCorrSharpness: 0.100000
- GradientBasedCorrWhat: Correction
- GrainAmount: 0
- GreenHue: +12
- GreenSaturation: +12
- HasCrop: False
- HasSettings: True
- HighlightRecovery: 23
- HueAdjustmentAqua: 0
- HueAdjustmentBlue: -2
- HueAdjustmentGreen: +7
- HueAdjustmentMagenta: 0
- HueAdjustmentOrange: 0
- HueAdjustmentPurple: 0
- HueAdjustmentRed: 0
- HueAdjustmentYellow: 0
- LuminanceAdjustmentAqua: -2
- LuminanceAdjustmentBlue: -58
- LuminanceAdjustmentGreen: -7
- LuminanceAdjustmentMagenta: +30
- LuminanceAdjustmentOrange: 0
- LuminanceAdjustmentPurple: +3
- LuminanceAdjustmentRed: 0
- LuminanceAdjustmentYellow: 0
- LuminanceSmoothing: 12
- ParametricDarks: -2
- ParametricHighlightSplit: 75
- ParametricHighlights: -5
- ParametricLights: -18
- ParametricMidtoneSplit: 50
- ParametricShadowSplit: 25
- ParametricShadows: 0
- PostCropVignetteAmount: 0
- ProcessVersion: 5.0
- RawFileName: _DSF7134.RAF
- RedHue: 0
- RedSaturation: +11
- Saturation: 0
- SaturationAdjustmentAqua: +2
- SaturationAdjustmentBlue: -14
- SaturationAdjustmentGreen: -7
- SaturationAdjustmentMagenta: -4
- SaturationAdjustmentOrange: 0
- SaturationAdjustmentPurple: -14
- SaturationAdjustmentRed: 0
- SaturationAdjustmentYellow: 0
- ShadowTint: 0
- Shadows: 20
- SharpenDetail: 29
- SharpenEdgeMasking: 0
- SharpenRadius: +0.7
- Sharpness: 63
- SplitToningBalance: 0
- SplitToningHighlightHue: 0
- SplitToningHighlightSaturation: 0
- SplitToningShadowHue: 57
- SplitToningShadowSaturation: 3
- Temperature: 4900
- Tint: +11
- ToneCurve: 0, 0, 32, 16, 66, 54, 125, 129, 191, 208, 255, 254
- ToneCurveName: Custom
- Version: 5.7
- Vibrance: 0
- VignetteAmount: 0
- WhiteBalance: Custom
- XMP-dc
- XMP-exif
- DateTimeDigitized: 2010:07:02 11:38:21+04:00
- DateTimeOriginal: 2010:07:02 11:38:21+04:00
- FlashFired: False
- FlashFunction: False
- FlashMode: Off
- FlashRedEyeMode: False
- FlashReturn: No return detection
- XMP-tiff
- XMP-xmp
- CreateDate: 2010:07:02 11:38:21+04:00
- CreatorTool: Digital Camera FinePix S5Pro Ver1.12
- ModifyDate: 2010:08:26 22:30:33+04:00
- Rating: 0
- XMP-xmpMM
Получить код для блога
Вставка фотографии в текущем разрешении |
Вставка миниатюры |
HTML (для вставки в блог):
BBCode (для вставки в форум):
Ссылка на фото:
Ссылка на миниатюру:
- Послать ссылку другу
Комментарии к фотографии |