- Раздел: Другое, разное
- Дата съёмки: 27.12.2010 11:19
- Дата загрузки фото: 28.12.2010 04:57
- Оригинальная фотография: 3456 x 5184 (10,6 Мб)
- Технические характеристики:
- Фотоаппарат: Canon EOS Kiss X4
- Выдержка: 1/25
- Гиперфокальное расстояние: inf m
- Диафрагма: 3,2
- Светочувствительность: 400
- Фокусное расстояние: 100,0 mm (35 mm equivalent: 100,0 mm)
- Полный EXIF
- Adobe
- ColorTransform: YCbCr
- Composite
- Aperture: 3,2
- CircleOfConfusion: 0,019 mm
- FOV: 20,0 deg
- FocalLength35efl: 100,0 mm (35 mm equivalent: 100,0 mm)
- HyperfocalDistance: inf m
- ScaleFactor35efl: 1,6
- ShutterSpeed: 1/25
- ExifIFD
- ApertureValue: 3,2
- CreateDate: 2010:12:27 11:19:05
- CustomRendered: Normal
- DateTimeOriginal: 2010:12:27 11:19:05
- ExposureCompensation: 0
- ExposureMode: Manual
- ExposureProgram: Manual
- ExposureTime: 1/25
- FNumber: 3,2
- Flash: Off, Did not fire
- FocalLength: 100,0 mm
- ISO: 400
- MeteringMode: Multi-segment
- SceneCaptureType: Standard
- SensitivityType: Unknown
- ShutterSpeedValue: 1/25
- WhiteBalance: Auto
- ICC-header
- ICC-meas
- ICC-view
- IFD0
- Make: Canon
- Model: Canon EOS Kiss X4
- ModifyDate: 2010:12:28 11:21:57
- Software: Microsoft Windows Photo Viewer 6.1.7600.16385
- IFD1
- System
- XMP-crs
- AlreadyApplied: True
- BlueHue: 0
- BlueSaturation: 0
- Brightness: +38
- CameraProfile: Embedded
- ChromaticAberrationB: 0
- ChromaticAberrationR: 0
- Clarity: -89
- ColorNoiseReduction: 0
- Contrast: -12
- ConvertToGrayscale: False
- Defringe: 0
- Exposure: +0.49
- FillLight: 21
- GrainAmount: 0
- GreenHue: 0
- GreenSaturation: 0
- HasCrop: False
- HasSettings: True
- HighlightRecovery: 46
- HueAdjustmentAqua: 0
- HueAdjustmentBlue: 0
- HueAdjustmentGreen: 0
- HueAdjustmentMagenta: 0
- HueAdjustmentOrange: -6
- HueAdjustmentPurple: 0
- HueAdjustmentRed: +40
- HueAdjustmentYellow: 0
- IncrementalTemperature: -27
- IncrementalTint: +51
- LensManualDistortionAmount: -11
- LensProfileEnable: 0
- LensProfileSetup: LensDefaults
- LuminanceAdjustmentAqua: 0
- LuminanceAdjustmentBlue: 0
- LuminanceAdjustmentGreen: 0
- LuminanceAdjustmentMagenta: 0
- LuminanceAdjustmentOrange: 0
- LuminanceAdjustmentPurple: 0
- LuminanceAdjustmentRed: 0
- LuminanceAdjustmentYellow: 0
- LuminanceSmoothing: 0
- ParametricDarks: 0
- ParametricHighlightSplit: 75
- ParametricHighlights: 0
- ParametricLights: 0
- ParametricMidtoneSplit: 50
- ParametricShadowSplit: 25
- ParametricShadows: 0
- PerspectiveHorizontal: +2
- PerspectiveRotate: 0.0
- PerspectiveScale: 100
- PerspectiveVertical: +9
- PostCropVignetteAmount: 0
- ProcessVersion: 5.7
- RedHue: 0
- RedSaturation: 0
- Saturation: +3
- SaturationAdjustmentAqua: 0
- SaturationAdjustmentBlue: 0
- SaturationAdjustmentGreen: 0
- SaturationAdjustmentMagenta: 0
- SaturationAdjustmentOrange: 0
- SaturationAdjustmentPurple: 0
- SaturationAdjustmentRed: 0
- SaturationAdjustmentYellow: 0
- ShadowTint: 0
- Shadows: 0
- SharpenDetail: 25
- SharpenEdgeMasking: 0
- SharpenRadius: +1.0
- Sharpness: 0
- SplitToningBalance: +24
- SplitToningHighlightHue: 100
- SplitToningHighlightSaturation: 10
- SplitToningShadowHue: 0
- SplitToningShadowSaturation: 0
- ToneCurve: 0, 0, 255, 255
- ToneCurveName: Linear
- Version: 6.2
- Vibrance: +8
- VignetteAmount: 0
- WhiteBalance: Custom
- XMP-exif
- DateTimeDigitized: 2010:12:27 11:19:05.00+10:00
- DateTimeOriginal: 2010:12:27 11:19:05.00+10:00
- ExifImageHeight: 5184
- ExifImageWidth: 3456
- FlashFired: False
- FlashFunction: False
- FlashMode: Off
- FlashRedEyeMode: False
- FlashReturn: No return detection
- XMP-microsoft
- DateAcquired: 2010:12:27 12:26:55.859
- XMP-tiff
- ImageHeight: 5184
- ImageWidth: 3456
- XMP-xmp
- CreateDate: 2010:12:27 11:19:05.00+10:00
- ModifyDate: 2010:12:28 11:21:57+10:00
- XMP-xmpMM