- Раздел: Другое, разное
- Дата съёмки: 08.01.2011 10:37
- Дата загрузки фото: 08.01.2011 22:59
- Оригинальная фотография: 1354 x 1016 (322 Кб)
- Технические характеристики:
- Фотоаппарат: Sony NEX-5 Jupiter-3
- Выдержка: 1/4000
- Диафрагма: 1,5
- Светочувствительность: 200
- Фокусное расстояние: 50,0 mm
- Полный EXIF
- Adobe
- ColorTransform: YCbCr
- Composite
- Aperture: 1,5
- FocalLength35efl: 50,0 mm
- ShutterSpeed: 1/4000
- ExifIFD
- ApertureValue: 1,5
- BrightnessValue: 6,87
- ColorSpace: sRGB
- Contrast: Normal
- CreateDate: 2011:01:08 10:37:30
- CustomRendered: Normal
- DateTimeOriginal: 2011:01:08 10:37:30
- ExifImageHeight: 1016
- ExifImageWidth: 1354
- ExposureCompensation: 0
- ExposureMode: Auto
- ExposureProgram: Shutter speed priority AE
- ExposureTime: 1/4000
- FNumber: 1,5
- Flash: Off, Did not fire
- FocalLength: 50,0 mm
- ISO: 200
- LensModel: ----
- LightSource: Unknown
- MaxApertureValue: 1,0
- MeteringMode: Multi-segment
- RecommendedExposureIndex: 200
- Saturation: Normal
- SceneCaptureType: Standard
- SceneType: Directly photographed
- SensitivityType: Recommended Exposure Index
- Sharpness: Normal
- ShutterSpeedValue: 1/4000
- WhiteBalance: Auto
- ICC-header
- ICC-meas
- ICC-view
- IFD0
- BitsPerSample: 8 8 8
- ImageDescription: SONY DSC
- ImageHeight: 1600
- ImageWidth: 2400
- Make: SONY
- Model: NEX-5 Jupiter-3
- ModifyDate: 2011:01:08 21:59:04
- Orientation: Horizontal (normal)
- PhotometricInterpretation: RGB
- SamplesPerPixel: 3
- IFD1
- IPTC
- Caption-Abstract: SONY DSC
- DateCreated: 2011:01:08
- System
- XMP-aux
- XMP-crs
- AlreadyApplied: True
- BlueHue: 0
- BlueSaturation: 0
- Brightness: 0
- ChromaticAberrationB: 0
- ChromaticAberrationR: -13
- Clarity: 0
- ColorNoiseReduction: 25
- ColorNoiseReductionDetail: 50
- Contrast: +55
- ConvertToGrayscale: False
- Defringe: 2
- Exposure: -0.15
- FillLight: 22
- GrainAmount: 0
- GreenHue: 0
- GreenSaturation: 0
- HasCrop: False
- HasSettings: True
- HighlightRecovery: 55
- HueAdjustmentAqua: 0
- HueAdjustmentBlue: 0
- HueAdjustmentGreen: 0
- HueAdjustmentMagenta: 0
- HueAdjustmentOrange: 0
- HueAdjustmentPurple: 0
- HueAdjustmentRed: 0
- HueAdjustmentYellow: 0
- LensManualDistortionAmount: 0
- LensProfileEnable: 1
- LensProfileSetup: LensDefaults
- LuminanceAdjustmentAqua: 0
- LuminanceAdjustmentBlue: 0
- LuminanceAdjustmentGreen: 0
- LuminanceAdjustmentMagenta: 0
- LuminanceAdjustmentOrange: 0
- LuminanceAdjustmentPurple: 0
- LuminanceAdjustmentRed: 0
- LuminanceAdjustmentYellow: 0
- LuminanceSmoothing: 0
- ParametricDarks: 0
- ParametricHighlightSplit: 75
- ParametricHighlights: 0
- ParametricLights: 0
- ParametricMidtoneSplit: 50
- ParametricShadowSplit: 25
- ParametricShadows: 0
- PerspectiveHorizontal: 0
- PerspectiveRotate: 0.0
- PerspectiveScale: 100
- PerspectiveVertical: 0
- PostCropVignetteAmount: 0
- ProcessVersion: 5.7
- RawFileName: DSC04473.ARW
- RedHue: 0
- RedSaturation: 0
- Saturation: +15
- SaturationAdjustmentAqua: 0
- SaturationAdjustmentBlue: 0
- SaturationAdjustmentGreen: 0
- SaturationAdjustmentMagenta: 0
- SaturationAdjustmentOrange: 0
- SaturationAdjustmentPurple: 0
- SaturationAdjustmentRed: 0
- SaturationAdjustmentYellow: 0
- ShadowTint: 0
- Shadows: 31
- SharpenDetail: 25
- SharpenEdgeMasking: 0
- SharpenRadius: +0.8
- Sharpness: 20
- SplitToningBalance: 0
- SplitToningHighlightHue: 0
- SplitToningHighlightSaturation: 0
- SplitToningShadowHue: 0
- SplitToningShadowSaturation: 0
- Temperature: 4700
- Tint: -8
- ToneCurve: 0, 0, 32, 22, 64, 56, 128, 128, 192, 196, 255, 255
- ToneCurveName: Medium Contrast
- Version: 6.2
- Vibrance: +10
- VignetteAmount: 0
- WhiteBalance: Custom
- XMP-dc
- Description: SONY DSC
- Format: image/jpeg
- XMP-xmp
- CreateDate: 2011:01:08 10:37:30+03:00
- ModifyDate: 2011:01:08 21:59:04+03:00
- Rating: 0
- XMP-xmpMM