IMAGE_262-14.jpg |
IMAGE_262-14.jpg
- Раздел: Город
- Дата съёмки: 16.04.2011 13:37
- Дата загрузки фото: 16.04.2011 16:08
- Оригинальная фотография: 524 x 699 (249 Кб)
- Технические характеристики:
- Фотоаппарат: HTC Touch2 T3333
- Светочувствительность: 149
- Полный EXIF
- Adobe
- ColorTransform: YCbCr
- ExifIFD
- CreateDate: 2011:04:16 13:37:17
- DateTimeOriginal: 2011:04:16 13:37:17
- ExposureCompensation: 0
- ISO: 149
- SceneType: Directly photographed
- SensitivityType: Unknown
- WhiteBalance: Auto
- ICC-header
- ICC-meas
- ICC-view
- IFD0
- Make: HTC
- Model: HTC Touch2 T3333
- ModifyDate: 2011:04:16 15:53:49
- Software: 6_29_19183128_01
- IFD1
- System
- XMP-crs
- AlreadyApplied: True
- BlueHue: 0
- BlueSaturation: 0
- Brightness: -5
- CameraProfile: ACR 2.4
- ChromaticAberrationB: 0
- ChromaticAberrationR: 0
- Clarity: +90
- ColorNoiseReduction: 0
- Contrast: +57
- ConvertToGrayscale: True
- Defringe: 0
- Exposure: +1.67
- FillLight: 18
- GrainAmount: 0
- GrayMixerAqua: -20
- GrayMixerBlue: -55
- GrayMixerGreen: -39
- GrayMixerMagenta: +7
- GrayMixerOrange: +18
- GrayMixerPurple: +22
- GrayMixerRed: +38
- GrayMixerYellow: -34
- GreenHue: 0
- GreenSaturation: 0
- HasCrop: False
- HasSettings: True
- HighlightRecovery: 100
- IncrementalTemperature: -19
- IncrementalTint: +62
- LensManualDistortionAmount: 0
- LensProfileEnable: 0
- LensProfileSetup: LensDefaults
- LuminanceSmoothing: 0
- ParametricDarks: 0
- ParametricHighlightSplit: 75
- ParametricHighlights: +17
- ParametricLights: -48
- ParametricMidtoneSplit: 50
- ParametricShadowSplit: 25
- ParametricShadows: 0
- PerspectiveHorizontal: 0
- PerspectiveRotate: 0.0
- PerspectiveScale: 100
- PerspectiveVertical: 0
- PostCropVignetteAmount: 0
- ProcessVersion: 5.7
- RedHue: 0
- RedSaturation: 0
- ShadowTint: 0
- Shadows: 9
- SharpenDetail: 25
- SharpenEdgeMasking: 0
- SharpenRadius: +1.0
- Sharpness: 0
- SplitToningBalance: -7
- SplitToningHighlightHue: 27
- SplitToningHighlightSaturation: 9
- SplitToningShadowHue: 38
- SplitToningShadowSaturation: 11
- ToneCurve: 0, 0, 32, 16, 64, 50, 128, 128, 192, 202, 255, 255
- ToneCurveName: Strong Contrast
- Version: 6.3
- VignetteAmount: -92
- VignetteMidpoint: 7
- WhiteBalance: Custom
- XMP-exif
- DateTimeDigitized: 2011:04:16 13:37:17+04:00
- DateTimeOriginal: 2011:04:16 13:37:17+04:00
- ExifImageHeight: 699
- ExifImageWidth: 524
- XMP-tiff
- ImageHeight: 699
- ImageWidth: 524
- XMP-xmp
- CreateDate: 2011:04:16 13:37:17+04:00
- ModifyDate: 2011:04:16 15:53:49+04:00
- Просмотров: 260
- Рейтинг: голосов еще нет
- Отзывов: 0
Получить код для блога
Вставка фотографии в текущем разрешении |
Вставка миниатюры |
HTML (для вставки в блог):
BBCode (для вставки в форум):
Ссылка на фото:
Ссылка на миниатюру:
- Послать ссылку другу
Комментарии к фотографии |