- Раздел: Другое, разное
- Дата съёмки: 13.08.2011 22:04
- Дата загрузки фото: 18.08.2011 19:13
- Оригинальная фотография: 3360 x 5039 (10,4 Мб)
- Технические характеристики:
- Фотоаппарат: Canon EOS 550D
- Выдержка: 1/80
- Гиперфокальное расстояние: inf m
- Диафрагма: 3,2
- Светочувствительность: 100
- Фокусное расстояние: 50,0 mm (35 mm equivalent: 50,0 mm)
- Полный EXIF
- Adobe
- ColorTransform: YCbCr
- Composite
- Aperture: 3,2
- CircleOfConfusion: 0,018 mm
- FOV: 39,0 deg
- FocalLength35efl: 50,0 mm (35 mm equivalent: 50,0 mm)
- HyperfocalDistance: inf m
- ScaleFactor35efl: 1,6
- ShutterSpeed: 1/80
- ExifIFD
- ApertureValue: 3,2
- CreateDate: 2011:08:13 22:04:05
- CustomRendered: Normal
- DateTimeOriginal: 2011:08:13 22:04:05
- ExposureCompensation: 0
- ExposureMode: Manual
- ExposureProgram: Manual
- ExposureTime: 1/80
- FNumber: 3,2
- Flash: Off, Did not fire
- FocalLength: 50,0 mm
- ISO: 100
- LensInfo: 50mm f/?
- LensModel: EF50mm f/1.8 II
- MaxApertureValue: 1,8
- MeteringMode: Multi-segment
- SceneCaptureType: Standard
- SensitivityType: Unknown
- SerialNumber: 632203505
- ShutterSpeedValue: 1/80
- WhiteBalance: Auto
- ICC-header
- ICC-meas
- ICC-view
- IFD0
- Artist: Puchkov Andrey
- Copyright: Puchkov Andrey
- Make: Canon
- Model: Canon EOS 550D
- ModifyDate: 2011:08:18 19:06:13
- IFD1
- IPTC
- By-line: Puchkov Andrey
- CopyrightNotice: Puchkov Andrey
- System
- XMP-aux
- Firmware: 1.0.6
- FlashCompensation: 0
- ImageNumber: 0
- Lens: EF50mm f/1.8 II
- LensID: 29
- XMP-crs
- AlreadyApplied: True
- BlueHue: 0
- BlueSaturation: 0
- Brightness: +64
- ChromaticAberrationB: 0
- ChromaticAberrationR: 0
- Clarity: -6
- ColorNoiseReduction: 25
- ColorNoiseReductionDetail: 50
- Contrast: +7
- ConvertToGrayscale: False
- CropAngle: -1.1065
- CropBottom: 0.971844
- CropConstrainToWarp: 0
- CropHeight: 3360
- CropLeft: 0.007821
- CropRight: 0.992179
- CropTop: 0.028156
- CropUnit: pixels
- CropWidth: 5039
- Defringe: 0
- Exposure: +0.78
- FillLight: 20
- GrainAmount: 0
- GreenHue: 0
- GreenSaturation: 0
- HasCrop: True
- HasSettings: True
- HighlightRecovery: 0
- HueAdjustmentAqua: 0
- HueAdjustmentBlue: 0
- HueAdjustmentGreen: 0
- HueAdjustmentMagenta: 0
- HueAdjustmentOrange: 0
- HueAdjustmentPurple: 0
- HueAdjustmentRed: 0
- HueAdjustmentYellow: 0
- LensManualDistortionAmount: 0
- LensProfileChromaticAberrationScale: 100
- LensProfileDistortionScale: 100
- LensProfileEnable: 1
- LensProfileFilename: Canon EOS 5D Mark II (Canon EF 50mm f1.8 II) - RAW.lcp
- LensProfileSetup: LensDefaults
- LensProfileVignettingScale: 100
- LuminanceAdjustmentAqua: 0
- LuminanceAdjustmentBlue: 0
- LuminanceAdjustmentGreen: 0
- LuminanceAdjustmentMagenta: 0
- LuminanceAdjustmentOrange: 0
- LuminanceAdjustmentPurple: 0
- LuminanceAdjustmentRed: 0
- LuminanceAdjustmentYellow: 0
- LuminanceSmoothing: 0
- ParametricDarks: 0
- ParametricHighlightSplit: 75
- ParametricHighlights: 0
- ParametricLights: 0
- ParametricMidtoneSplit: 50
- ParametricShadowSplit: 25
- ParametricShadows: 0
- PerspectiveHorizontal: 0
- PerspectiveRotate: 0.0
- PerspectiveScale: 100
- PerspectiveVertical: 0
- PostCropVignetteAmount: 0
- ProcessVersion: 5.7
- RedHue: 0
- RedSaturation: 0
- Saturation: +1
- SaturationAdjustmentAqua: 0
- SaturationAdjustmentBlue: 0
- SaturationAdjustmentGreen: 0
- SaturationAdjustmentMagenta: 0
- SaturationAdjustmentOrange: 0
- SaturationAdjustmentPurple: 0
- SaturationAdjustmentRed: 0
- SaturationAdjustmentYellow: 0
- ShadowTint: 0
- Shadows: 8
- SharpenDetail: 25
- SharpenEdgeMasking: 0
- SharpenRadius: +1.0
- Sharpness: 25
- SplitToningBalance: 0
- SplitToningHighlightHue: 0
- SplitToningHighlightSaturation: 0
- SplitToningShadowHue: 0
- SplitToningShadowSaturation: 0
- Temperature: 3500
- Tint: -5
- ToneCurve: 0, 0, 32, 22, 64, 56, 128, 128, 192, 196, 255, 255
- ToneCurveName: Medium Contrast
- Version: 6.3
- Vibrance: +3
- VignetteAmount: 0
- WhiteBalance: As Shot
- XMP-dc
- Creator: Puchkov Andrey
- Rights: Puchkov Andrey
- XMP-exif
- DateTimeDigitized: 2011:08:13 22:04:05.41+04:00
- DateTimeOriginal: 2011:08:13 22:04:05.41+04:00
- ExifImageHeight: 5039
- ExifImageWidth: 3360
- FlashFired: False
- FlashFunction: False
- FlashMode: Off
- FlashRedEyeMode: False
- FlashReturn: No return detection
- XMP-tiff
- ImageHeight: 5039
- ImageWidth: 3360
- XMP-xmp
- CreateDate: 2011:08:13 22:04:05.41+04:00
- ModifyDate: 2011:08:18 19:06:13+04:00
- Просмотров: 467
- Рейтинг: голосов еще нет
- Отзывов: 0