- Раздел: Активный отдых, туризм
- Дата съёмки: 20.11.2011 12:11
- Дата загрузки фото: 13.05.2012 22:54
- Оригинальная фотография: 1230 x 923 (1,4 Мб)
- Технические характеристики:
- Фотоаппарат: Samsung WB2000
- Выдержка: 1/180
- Гиперфокальное расстояние: inf m
- Диафрагма: 5,1
- Светочувствительность: 80
- Фокусное расстояние: 12,0 mm (35 mm equivalent: 60,0 mm)
- Экспокоррекция: -0,3
- Полный EXIF
- Adobe
- ColorTransform: YCbCr
- Composite
- Aperture: 5,1
- CircleOfConfusion: 0,005 mm
- FOV: 33,0 deg
- FocalLength35efl: 12,0 mm (35 mm equivalent: 60,0 mm)
- HyperfocalDistance: inf m
- ScaleFactor35efl: 5,8
- ShutterSpeed: 1/180
- ExifIFD
- ApertureValue: 5,1
- Contrast: Normal
- DateTimeOriginal: 2011:11:20 12:11:33
- DigitalZoomRatio: 1
- ExposureCompensation: -0,3
- ExposureMode: Unknown (3)
- ExposureProgram: Aperture-priority AE
- ExposureTime: 1/180
- FNumber: 5,1
- Flash: No Flash
- FocalLength: 12,5 mm
- FocalLengthIn35mmFormat: 70 mm
- ISO: 80
- LensInfo: 4.3-21.5mm f/2.4-5.8
- LensModel: Schneider KREUZNACH 5x VARIOPLAN 4.3-21.5mm 1:2.4-5.8 IS
- LightSource: Unknown
- MeteringMode: Multi-segment
- Saturation: Normal
- SceneCaptureType: Standard
- SerialNumber: DY049P000000
- Sharpness: Normal
- ShutterSpeedValue: 1/180
- WhiteBalance: Auto
- ICC-header
- ICC-meas
- ICC-view
- IFD0
- Artist: V.E.Y.
- Copyright: В© V.E.Y.
- Make: SAMSUNG
- Model: WB2000
- ModifyDate: 2012:05:13 22:53:22
- IFD1
- IPTC
- By-line: V.E.Y.
- CopyrightNotice: В© V.E.Y.
- DateCreated: 2011:11:20
- Keywords: Negombo, Sri Lanka, велосипед
- System
- XMP-aux
- Firmware: FM1_104301
- Lens: Schneider KREUZNACH 5x VARIOPLAN 4.3-21.5mm 1:2.4-5.8 IS
- XMP-crs
- AlreadyApplied: True
- AutoLateralCA: 0
- Blacks2012: 0
- BlueHue: 0
- BlueSaturation: 0
- Brightness: +50
- Clarity: 0
- Clarity2012: +20
- ColorNoiseReduction: 25
- ColorNoiseReductionDetail: 50
- Contrast: +25
- Contrast2012: +10
- ConvertToGrayscale: False
- Defringe: 0
- Exposure: 0.00
- Exposure2012: 0.00
- FillLight: 0
- GradientBasedCorrActive: true
- GradientBasedCorrAmount: 1.000000
- GradientBasedCorrBrightness: 0.000000
- GradientBasedCorrHue: 1.000000
- GradientBasedCorrMaskFullX: 0.543671
- GradientBasedCorrMaskFullY: 0.384947
- GradientBasedCorrMaskValue: 1.000000
- GradientBasedCorrMaskWhat: Mask/Gradient
- GradientBasedCorrMaskZeroX: 0.540909
- GradientBasedCorrMaskZeroY: 0.478204
- GradientBasedCorrSaturation: 0.020000
- GradientBasedCorrSharpness: 0.000000
- GradientBasedCorrWhat: Correction
- GradientBasedCorrectionsLocalClarity2012: 0.000000
- GradientBasedCorrectionsLocalContrast2012: 0.000000
- GradientBasedCorrectionsLocalExposure2012: 0.087500
- GradientBasedCorrectionsLocalHighlights2012: -0.100000
- GradientBasedCorrectionsLocalLuminanceNoise: 0.000000
- GradientBasedCorrectionsLocalMoire: 0.000000
- GradientBasedCorrectionsLocalShadows2012: 0.160000
- GradientBasedCorrectionsLocalTemperature: 0.000000
- GradientBasedCorrectionsLocalTint: 0.000000
- GrainAmount: 0
- GreenHue: 0
- GreenSaturation: 0
- HasCrop: False
- HasSettings: True
- HighlightRecovery: 0
- Highlights2012: -72
- HueAdjustmentAqua: 0
- HueAdjustmentBlue: 0
- HueAdjustmentGreen: 0
- HueAdjustmentMagenta: 0
- HueAdjustmentOrange: 0
- HueAdjustmentPurple: 0
- HueAdjustmentRed: 0
- HueAdjustmentYellow: 0
- LensManualDistortionAmount: 0
- LensProfileEnable: 0
- LensProfileSetup: LensDefaults
- LuminanceAdjustmentAqua: 0
- LuminanceAdjustmentBlue: 0
- LuminanceAdjustmentGreen: 0
- LuminanceAdjustmentMagenta: 0
- LuminanceAdjustmentOrange: 0
- LuminanceAdjustmentPurple: 0
- LuminanceAdjustmentRed: 0
- LuminanceAdjustmentYellow: 0
- LuminanceSmoothing: 0
- PaintBasedCorrectionsLocalClarity2012: 0.240000
- PaintBasedCorrectionsLocalContrast2012: 0.000000
- PaintBasedCorrectionsLocalExposure2012: 0.000000
- PaintBasedCorrectionsLocalHighlights2012: -0.080000
- PaintBasedCorrectionsLocalLuminanceNoise: 0.000000
- PaintBasedCorrectionsLocalMoire: 0.000000
- PaintBasedCorrectionsLocalShadows2012: 0.240000
- PaintBasedCorrectionsLocalTemperature: 0.000000
- PaintBasedCorrectionsLocalTint: 0.000000
- PaintCorrectionActive: true
- PaintCorrectionAmount: 1.000000
- PaintCorrectionBrightness: 0.000000
- PaintCorrectionHue: 1.000000
- PaintCorrectionMaskCenterWeight: 0.114499
- PaintCorrectionMaskFlow: 1.000000
- PaintCorrectionMaskRadius: 0.022386
- PaintCorrectionMaskValue: 1.000000
- PaintCorrectionMaskWhat: Mask/Paint
- PaintCorrectionSaturation: 0.044267
- PaintCorrectionSharpness: 0.185190
- PaintCorrectionWhat: Correction
- ParametricDarks: 0
- ParametricHighlightSplit: 75
- ParametricHighlights: 0
- ParametricLights: 0
- ParametricMidtoneSplit: 50
- ParametricShadowSplit: 25
- ParametricShadows: 0
- PerspectiveHorizontal: 0
- PerspectiveRotate: 0.0
- PerspectiveScale: 100
- PerspectiveVertical: 0
- PostCropVignetteAmount: 0
- ProcessVersion: 6.7
- RedHue: 0
- RedSaturation: 0
- Saturation: 0
- SaturationAdjustmentAqua: 0
- SaturationAdjustmentBlue: 0
- SaturationAdjustmentGreen: 0
- SaturationAdjustmentMagenta: 0
- SaturationAdjustmentOrange: 0
- SaturationAdjustmentPurple: 0
- SaturationAdjustmentRed: 0
- SaturationAdjustmentYellow: 0
- ShadowTint: 0
- Shadows: 5
- Shadows2012: +61
- SharpenDetail: 30
- SharpenEdgeMasking: 0
- SharpenRadius: +0.8
- Sharpness: 58
- SplitToningBalance: 0
- SplitToningHighlightHue: 0
- SplitToningHighlightSaturation: 0
- SplitToningShadowHue: 0
- SplitToningShadowSaturation: 0
- Temperature: 5300
- Tint: -2
- ToneCurve: 0, 0, 255, 255
- ToneCurveBlue: 0, 0, 255, 255
- ToneCurveGreen: 0, 0, 255, 255
- ToneCurveName: Linear
- ToneCurveName2012: Linear
- ToneCurvePV2012: 0, 0, 255, 255
- ToneCurvePV2012Blue: 0, 0, 255, 255
- ToneCurvePV2012Green: 0, 0, 255, 255
- ToneCurvePV2012Red: 0, 0, 255, 255
- ToneCurveRed: 0, 0, 255, 255
- Version: 7.0
- Vibrance: 0
- VignetteAmount: 0
- WhiteBalance: Custom
- Whites2012: +20
- XMP-dc
- Creator: V.E.Y.
- Format: image/jpeg
- Rights: В© V.E.Y.
- Subject: Negombo, Sri Lanka, велосипед
- XMP-iptcCore
- CreatorCity: Moscow
- CreatorCountry: Russia
- CreatorWorkEmail: vey@inbox.ru
- CreatorWorkURL: http://fotkidepo.ru/?id=album:36549
- XMP-xmp
- ModifyDate: 2012:05:13 22:53:22+04:00
- XMP-xmpMM
- XMP-xmpNote
- HasExtendedXMP: 077FBB189E844DB7ACA5102B65BC9DA7
- Просмотров: 891
- Рейтинг: голосов еще нет
- Отзывов: 0