Архипо-Осиповка, аллея их санатория к морю
Камерный автоJPG. Иддюстрация к разговору о выбивании светов при съёмке, например, в лесу.
- Раздел: Другое, разное
- Дата съёмки: 02.05.2010 18:50
- Дата загрузки фото: 09.08.2012 00:31
- Оригинальная фотография: 2362 x 1772 (4,4 Мб)
- Технические характеристики:
- Фотоаппарат: Canon PowerShot G10
- Выдержка: 1/60
- Гиперфокальное расстояние: inf m
- Диафрагма: 2,8
- Светочувствительность: 100
- Фокусное расстояние: 6,0 mm (35 mm equivalent: 48,0 mm)
- Полный EXIF
- Adobe
- ColorTransform: YCbCr
- CanonVRD
- AngleAdj: 0
- AutoLightingOptimizer: n/a
- AutoLightingOptimizerOn: No
- BlueCurveLimits: 255 0 255 0
- BlueCurvePoints: (0,0) (255,255)
- BrightnessAdj: 0
- CheckMark: Clear
- ChromaticAberration: 100%
- ChromaticAberrationBlue: 0
- ChromaticAberrationOn: No
- ChromaticAberrationRed: 0
- ChrominanceNR_TIFF_JPEG: 0
- ChrominanceNoiseReduction: 0
- ColorBlur: No
- ColorToneAdj: 0
- ConstrainedCropHeight: 0
- ConstrainedCropWidth: 0
- ContrastAdj: 0
- CropActive: No
- CropAspectRatio: Free
- CropHeight: 0
- CropLeft: 0
- CropTop: 0
- CropWidth: 0
- CustomContrast: 0
- CustomLinear: No
- CustomOutputHighlightPoint: 0
- CustomOutputShadowPoint: 0
- CustomRawHighlight: 0
- CustomRawHighlightPoint: 0
- CustomRawShadow: 0
- CustomRawShadowPoint: 0
- CustomSharpness: 0
- DistortionCorrection: 100%
- DistortionCorrectionOn: No
- DynamicRangeMax: 4095
- DynamicRangeMin: 0
- FaithfulOutputHighlightPoint: 0
- FaithfulOutputShadowPoint: 0
- FaithfulRawColorTone: 0
- FaithfulRawContrast: 0
- FaithfulRawHighlight: 0
- FaithfulRawHighlightPoint: 0
- FaithfulRawLinear: No
- FaithfulRawSaturation: 0
- FaithfulRawShadow: 0
- FaithfulRawShadowPoint: 0
- FaithfulRawSharpness: 0
- GreenCurveLimits: 255 0 255 0
- GreenCurvePoints: (0,0) (255,255)
- IsCustomPictureStyle: No
- LandscapeOutputHighlightPoint: 0
- LandscapeOutputShadowPoint: 0
- LandscapeRawColorTone: 0
- LandscapeRawContrast: 0
- LandscapeRawHighlight: 0
- LandscapeRawHighlightPoint: 0
- LandscapeRawLinear: No
- LandscapeRawSaturation: 0
- LandscapeRawShadow: 0
- LandscapeRawShadowPoint: 0
- LandscapeRawSharpness: 0
- LuminanceCurveLimits: 255 0 255 0
- LuminanceCurvePoints: (0,0) (255,255)
- LuminanceNR_TIFF_JPEG: 0
- LuminanceNoiseReduction: 0
- MonochromeContrast: 0
- MonochromeFilterEffect: None
- MonochromeLinear: No
- MonochromeOutputHighlightPoint: 0
- MonochromeOutputShadowPoint: 0
- MonochromeRawHighlight: 0
- MonochromeRawHighlightPoint: 0
- MonochromeRawShadow: 0
- MonochromeRawShadowPoint: 0
- MonochromeSharpness: 0
- MonochromeToningEffect: None
- NeutralOutputHighlightPoint: 0
- NeutralOutputShadowPoint: 0
- NeutralRawColorTone: 0
- NeutralRawContrast: 0
- NeutralRawHighlight: 0
- NeutralRawHighlightPoint: 0
- NeutralRawLinear: No
- NeutralRawSaturation: 0
- NeutralRawShadow: 0
- NeutralRawShadowPoint: 0
- NeutralRawSharpness: 0
- PeripheralIllumination: 100%
- PeripheralIlluminationOn: No
- PictureStyle: Standard
- PortraitOutputHighlightPoint: 0
- PortraitOutputShadowPoint: 0
- PortraitRawColorTone: 0
- PortraitRawContrast: 0
- PortraitRawHighlight: 0
- PortraitRawHighlightPoint: 0
- PortraitRawLinear: No
- PortraitRawSaturation: 0
- PortraitRawShadow: 0
- PortraitRawShadowPoint: 0
- PortraitRawSharpness: 0
- RGBCurveLimits: 255 0 255 0
- RGBCurvePoints: (0,0) (255,255)
- RawBrightnessAdj: 0,00
- RawColorAdj: Shot Settings
- RawCustomSaturation: 0
- RawCustomTone: 0
- RedCurveLimits: 255 0 255 0
- RedCurvePoints: (0,0) (255,255)
- Rotation: 90
- SaturationAdj: 100
- SharpnessAdj: 0
- StandardOutputHighlightPoint: 0
- StandardOutputShadowPoint: 0
- StandardRawColorTone: 0
- StandardRawContrast: 0
- StandardRawHighlight: 0
- StandardRawHighlightPoint: 0
- StandardRawLinear: No
- StandardRawSaturation: 0
- StandardRawShadow: 0
- StandardRawShadowPoint: 0
- StandardRawSharpness: 0
- ToneCurveActive: Yes
- ToneCurveInterpolation: Curve
- ToneCurveMode: Luminance
- ToneCurveProperty: Shot Settings
- VRDVersion: 31,12
- WBAdjColorTemp: 5200
- WBAdjRGBLevels: 0 0 0
- WBFineTuneActive: No
- WBFineTuneSaturation: 0
- WBFineTuneTone: 0
- WhiteBalanceAdj: Shot Settings
- WorkColorSpace: sRGB
- Composite
- Aperture: 2,8
- CircleOfConfusion: 0,003 mm
- FOV: 41,0 deg
- FocalLength35efl: 6,0 mm (35 mm equivalent: 48,0 mm)
- HyperfocalDistance: inf m
- ScaleFactor35efl: 8,7
- ShutterSpeed: 1/60
- ExifIFD
- ApertureValue: 2,8
- ColorSpace: sRGB
- CreateDate: 2010:05:02 18:50:01
- CustomRendered: Normal
- DateTimeOriginal: 2010:05:02 18:50:01
- DigitalZoomRatio: 1
- ExifImageHeight: 1772
- ExifImageWidth: 2362
- ExposureCompensation: 0
- ExposureMode: Auto
- ExposureTime: 1/60
- FNumber: 2,8
- Flash: Auto, Did not fire
- FocalLength: 6,1 mm
- ISO: 100
- LensInfo: 6.1-30.5mm f/?
- LensModel: 6.1-30.5 mm
- MaxApertureValue: 2,8
- MeteringMode: Multi-segment
- OwnerName: qqq
- SceneCaptureType: Standard
- SensingMethod: One-chip color area
- ShutterSpeedValue: 1/60
- WhiteBalance: Auto
- ICC-header
- ICC-meas
- ICC-view
- IFD0
- Artist: qqq
- Make: Canon
- Model: Canon PowerShot G10
- ModifyDate: 2012:08:07 13:12:20
- Orientation: Horizontal (normal)
- IFD1
- IPTC
- By-line: qqq
- DateCreated: 2010:05:02
- System
- XMP-aux
- ApproximateFocusDistance: 64,4
- Firmware: 1.03
- FlashCompensation: 0
- Lens: 6.1-30.5 mm
- XMP-crs
- AlreadyApplied: True
- AutoLateralCA: 0
- Blacks2012: 0
- BlueHue: 0
- BlueSaturation: 0
- Brightness: 0
- CameraProfile: Embedded
- Clarity: 0
- Clarity2012: +7
- ColorNoiseReduction: 0
- Contrast: 0
- Contrast2012: 0
- ConvertToGrayscale: False
- Defringe: 1
- Exposure: 0.00
- Exposure2012: -0.90
- FillLight: 0
- GrainAmount: 0
- GreenHue: 0
- GreenSaturation: 0
- HasCrop: False
- HasSettings: True
- HighlightRecovery: 0
- Highlights2012: 0
- HueAdjustmentAqua: 0
- HueAdjustmentBlue: 0
- HueAdjustmentGreen: 0
- HueAdjustmentMagenta: 0
- HueAdjustmentOrange: 0
- HueAdjustmentPurple: 0
- HueAdjustmentRed: 0
- HueAdjustmentYellow: 0
- IncrementalTemperature: 0
- IncrementalTint: 0
- LensManualDistortionAmount: 0
- LensProfileEnable: 0
- LensProfileSetup: LensDefaults
- LuminanceAdjustmentAqua: 0
- LuminanceAdjustmentBlue: 0
- LuminanceAdjustmentGreen: 0
- LuminanceAdjustmentMagenta: 0
- LuminanceAdjustmentOrange: 0
- LuminanceAdjustmentPurple: 0
- LuminanceAdjustmentRed: 0
- LuminanceAdjustmentYellow: 0
- LuminanceSmoothing: 0
- ParametricDarks: 0
- ParametricHighlightSplit: 75
- ParametricHighlights: 0
- ParametricLights: 0
- ParametricMidtoneSplit: 50
- ParametricShadowSplit: 25
- ParametricShadows: 0
- PerspectiveHorizontal: 0
- PerspectiveRotate: 0.0
- PerspectiveScale: 100
- PerspectiveVertical: 0
- PostCropVignetteAmount: 0
- ProcessVersion: 6.7
- RawFileName: IMG_0782.JPG
- RedHue: 0
- RedSaturation: 0
- Saturation: 0
- SaturationAdjustmentAqua: 0
- SaturationAdjustmentBlue: 0
- SaturationAdjustmentGreen: 0
- SaturationAdjustmentMagenta: 0
- SaturationAdjustmentOrange: 0
- SaturationAdjustmentPurple: 0
- SaturationAdjustmentRed: 0
- SaturationAdjustmentYellow: 0
- ShadowTint: 0
- Shadows: 0
- Shadows2012: 0
- SharpenDetail: 25
- SharpenEdgeMasking: 0
- SharpenRadius: +1.0
- Sharpness: 40
- SplitToningBalance: 0
- SplitToningHighlightHue: 0
- SplitToningHighlightSaturation: 0
- SplitToningShadowHue: 0
- SplitToningShadowSaturation: 0
- ToneCurve: 0, 0, 255, 255
- ToneCurveBlue: 0, 0, 255, 255
- ToneCurveGreen: 0, 0, 255, 255
- ToneCurveName: Linear
- ToneCurveName2012: Linear
- ToneCurvePV2012: 0, 0, 255, 255
- ToneCurvePV2012Blue: 0, 0, 255, 255
- ToneCurvePV2012Green: 0, 0, 255, 255
- ToneCurvePV2012Red: 0, 0, 255, 255
- ToneCurveRed: 0, 0, 255, 255
- Version: 7.0
- Vibrance: 0
- VignetteAmount: 0
- WhiteBalance: As Shot
- Whites2012: -14
- XMP-dc
- Creator: qqq
- Format: image/jpeg
- XMP-xmp
- ModifyDate: 2012:08:07 13:12:20+12:00
- Rating: 0
- XMP-xmpMM
- Просмотров: 413
- Рейтинг: голосов еще нет
- Отзывов: 0
Получить код для блога
Вставка фотографии в текущем разрешении |
Вставка миниатюры |
HTML (для вставки в блог):
BBCode (для вставки в форум):
Ссылка на фото:
Ссылка на миниатюру:
- Послать ссылку другу
Комментарии к фотографии |