- Раздел: Другое, разное
- Дата съёмки: 18.07.2012 11:27
- Дата загрузки фото: 28.08.2012 12:51
- Оригинальная фотография: 3878 x 1955 (3,9 Мб)
- Технические характеристики:
- Фотоаппарат: Canon EOS 300D DIGITAL
- Выдержка: 1/15
- Диафрагма: 5,0
- Светочувствительность: 200
- Фокусное расстояние: 37,0 mm
- Полный EXIF
- Adobe
- ColorTransform: YCbCr
- Composite
- Aperture: 5,0
- FocalLength35efl: 37,0 mm
- ShutterSpeed: 1/15
- ExifIFD
- ApertureValue: 5,0
- ColorSpace: sRGB
- CreateDate: 2012:07:18 11:27:52
- DateTimeOriginal: 2012:07:18 11:27:52
- ExifImageHeight: 1955
- ExifImageWidth: 3878
- ExposureCompensation: 0
- ExposureProgram: Aperture-priority AE
- ExposureTime: 1/15
- FNumber: 5,0
- Flash: No Flash
- FocalLength: 37,0 mm
- ISO: 200
- MaxApertureValue: 4,5
- MeteringMode: Multi-segment
- ShutterSpeedValue: 1/15
- ICC-header
- ICC-meas
- ICC-view
- IFD0
- Make: Canon
- Model: Canon EOS 300D DIGITAL
- ModifyDate: 2012:07:18 15:48:23
- Orientation: Horizontal (normal)
- IFD1
- IPTC
- System
- XMP-aux
- Firmware: 1.1.1
- Lens: 18.0-55.0 mm
- LensInfo: 18-55mm f/?
- SerialNumber: 1130428597
- XMP-crs
- AlreadyApplied: True
- BlueHue: 0
- BlueSaturation: 0
- Brightness: +50
- ChromaticAberrationB: 0
- ChromaticAberrationR: 0
- Clarity: +20
- ColorNoiseReduction: 25
- ColorNoiseReductionDetail: 50
- Contrast: +69
- ConvertToGrayscale: False
- CropAngle: -1.842446
- CropBottom: 0.953969
- CropConstrainToWarp: 1
- CropLeft: 0.012786
- CropRight: 0.987214
- CropTop: 0.046031
- Defringe: 0
- Exposure: +0.85
- FillLight: 0
- GrainAmount: 0
- GreenHue: 0
- GreenSaturation: 0
- HasCrop: True
- HasSettings: True
- HighlightRecovery: 0
- HueAdjustmentAqua: 0
- HueAdjustmentBlue: 0
- HueAdjustmentGreen: 0
- HueAdjustmentMagenta: 0
- HueAdjustmentOrange: 0
- HueAdjustmentPurple: 0
- HueAdjustmentRed: 0
- HueAdjustmentYellow: 0
- LensManualDistortionAmount: 0
- LensProfileEnable: 0
- LensProfileSetup: LensDefaults
- LuminanceAdjustmentAqua: 0
- LuminanceAdjustmentBlue: 0
- LuminanceAdjustmentGreen: 0
- LuminanceAdjustmentMagenta: 0
- LuminanceAdjustmentOrange: 0
- LuminanceAdjustmentPurple: 0
- LuminanceAdjustmentRed: 0
- LuminanceAdjustmentYellow: 0
- LuminanceSmoothing: 0
- ParametricDarks: 0
- ParametricHighlightSplit: 75
- ParametricHighlights: 0
- ParametricLights: 0
- ParametricMidtoneSplit: 50
- ParametricShadowSplit: 25
- ParametricShadows: 0
- PerspectiveHorizontal: 0
- PerspectiveRotate: 0.0
- PerspectiveScale: 100
- PerspectiveVertical: 0
- PostCropVignetteAmount: 0
- ProcessVersion: 5.7
- RawFileName: CRW_1015.CRW
- RedHue: 0
- RedSaturation: 0
- Saturation: 0
- SaturationAdjustmentAqua: 0
- SaturationAdjustmentBlue: 0
- SaturationAdjustmentGreen: 0
- SaturationAdjustmentMagenta: 0
- SaturationAdjustmentOrange: 0
- SaturationAdjustmentPurple: 0
- SaturationAdjustmentRed: 0
- SaturationAdjustmentYellow: 0
- ShadowTint: 0
- Shadows: 5
- SharpenDetail: 25
- SharpenEdgeMasking: 0
- SharpenRadius: +1.0
- Sharpness: 25
- SplitToningBalance: 0
- SplitToningHighlightHue: 0
- SplitToningHighlightSaturation: 0
- SplitToningShadowHue: 0
- SplitToningShadowSaturation: 0
- Temperature: 6150
- Tint: -1
- ToneCurve: 0, 0, 32, 22, 64, 56, 128, 128, 192, 196, 255, 255
- ToneCurveName: Medium Contrast
- Version: 6.1
- Vibrance: +11
- VignetteAmount: 0
- WhiteBalance: As Shot
- XMP-dc
- XMP-exif
- DateTimeDigitized: 2012:07:18 11:27:52+04:00
- DateTimeOriginal: 2012:07:18 11:27:52+04:00
- FlashFired: False
- XMP-tiff
- XMP-xmp
- CreateDate: 2012:07:18 11:27:52+04:00
- ModifyDate: 2012:07:18 15:48:23+04:00
- Rating: 0
- XMP-xmpMM
- Просмотров: 355
- Рейтинг: голосов еще нет
- Отзывов: 0