Oксана |
Oксана
- Раздел: Другое, разное
- Дата съёмки: 17.07.2012 19:27
- Дата загрузки фото: 08.10.2012 23:29
- Оригинальная фотография: 4928 x 3264 (3,3 Мб)
- Технические характеристики:
- Фотоаппарат: Nikon D5100
- Выдержка: 1/30
- Гиперфокальное расстояние: inf m
- Диафрагма: 5,6
- Светочувствительность: 3200
- Фокусное расстояние: 105,0 mm (35 mm equivalent: 105,0 mm)
- Полный EXIF
- Adobe
- ColorTransform: YCbCr
- Composite
- Aperture: 5,6
- CircleOfConfusion: 0,020 mm
- FOV: 19,0 deg
- FocalLength35efl: 105,0 mm (35 mm equivalent: 105,0 mm)
- HyperfocalDistance: inf m
- ScaleFactor35efl: 1,5
- ShutterSpeed: 1/30
- ExifIFD
- ApertureValue: 5,6
- CFAPattern: [Red,Green][Green,Blue]
- Contrast: Normal
- CreateDate: 2012:07:17 19:27:07
- CustomRendered: Normal
- DateTimeOriginal: 2012:07:17 19:27:07
- DigitalZoomRatio: 1
- ExposureCompensation: 0
- ExposureMode: Auto
- ExposureProgram: Not Defined
- ExposureTime: 1/30
- FNumber: 5,6
- Flash: Off, Did not fire
- FocalLength: 105,0 mm
- FocalLengthIn35mmFormat: 157 mm
- GainControl: High gain up
- ISO: 3200
- LightSource: Unknown
- MaxApertureValue: 5,7
- MeteringMode: Multi-segment
- Saturation: Normal
- SceneCaptureType: Standard
- SceneType: Directly photographed
- SensingMethod: One-chip color area
- Sharpness: Normal
- ShutterSpeedValue: 1/30
- SubjectDistanceRange: Unknown
- WhiteBalance: Auto
- ICC-header
- IFD0
- Make: NIKON CORPORATION
- Model: NIKON D5100
- ModifyDate: 2012:10:08 21:23:25
- IPTC
- DateCreated: 2012:07:17
- Keywords: Гў ãîñòÿõ Гі äîðèГ
- System
- XMP-aux
- ApproximateFocusDistance: 4,22
- ImageNumber: 3262
- Lens: 18.0-105.0 mm f/3.5-5.6
- LensID: 158
- LensInfo: 18-105mm f/3.5-5.6
- SerialNumber: 8169022
- XMP-crs
- AlreadyApplied: True
- BlueHue: 0
- BlueSaturation: 0
- Brightness: 0
- CameraProfile: Embedded
- ChromaticAberrationB: 0
- ChromaticAberrationR: 0
- Clarity: 0
- ColorNoiseReduction: 89
- Contrast: +6
- ConvertToGrayscale: False
- Defringe: 0
- Exposure: -0.30
- FillLight: 0
- GreenHue: 0
- GreenSaturation: 0
- HasCrop: False
- HasSettings: True
- HighlightRecovery: 3
- HueAdjustmentAqua: 0
- HueAdjustmentBlue: 0
- HueAdjustmentGreen: 0
- HueAdjustmentMagenta: 0
- HueAdjustmentOrange: 0
- HueAdjustmentPurple: 0
- HueAdjustmentRed: -92
- HueAdjustmentYellow: 0
- IncrementalTemperature: -30
- IncrementalTint: -41
- LuminanceAdjustmentAqua: +20
- LuminanceAdjustmentBlue: +20
- LuminanceAdjustmentGreen: +20
- LuminanceAdjustmentMagenta: +20
- LuminanceAdjustmentOrange: +20
- LuminanceAdjustmentPurple: +20
- LuminanceAdjustmentRed: -11
- LuminanceAdjustmentYellow: +20
- LuminanceSmoothing: 0
- ParametricDarks: 0
- ParametricHighlightSplit: 75
- ParametricHighlights: +89
- ParametricLights: -2
- ParametricMidtoneSplit: 50
- ParametricShadowSplit: 25
- ParametricShadows: -7
- PostCropVignetteAmount: 0
- RawFileName: _DSC2075.dng
- RedHue: 0
- RedSaturation: 0
- Saturation: +100
- SaturationAdjustmentAqua: -60
- SaturationAdjustmentBlue: -40
- SaturationAdjustmentGreen: -70
- SaturationAdjustmentMagenta: -20
- SaturationAdjustmentOrange: -55
- SaturationAdjustmentPurple: -55
- SaturationAdjustmentRed: +9
- SaturationAdjustmentYellow: -50
- ShadowTint: 0
- Shadows: 1
- SharpenDetail: 57
- SharpenEdgeMasking: 87
- SharpenRadius: +2.8
- Sharpness: 150
- SplitToningBalance: 0
- SplitToningHighlightHue: 0
- SplitToningHighlightSaturation: 46
- SplitToningShadowHue: 243
- SplitToningShadowSaturation: 15
- ToneCurve: 0, 0, 255, 255
- ToneCurveName: Linear
- Version: 4.6
- Vibrance: +70
- VignetteAmount: 0
- WhiteBalance: Custom
- XMP-dc
- Format: image/dng
- Subject: в гостях у дорин
- XMP-exif
- DateTimeDigitized: 2012:07:17 19:27:07.60+03:00
- DateTimeOriginal: 2012:07:17 19:27:07.60+03:00
- ExifImageHeight: 3264
- ExifImageWidth: 4928
- ExposureProgram: Unknown (0)
- FlashFired: False
- FlashFunction: False
- FlashMode: Off
- FlashRedEyeMode: False
- FlashReturn: No return detection
- XMP-microsoft
- DateAcquired: 2012:07:18 16:23:32.926
- LastKeywordXMP: в гостях у дорин
- XMP-tiff
- ImageHeight: 3264
- ImageWidth: 4928
- XMP-xmp
- CreateDate: 2012:07:17 19:27:07.60
- ModifyDate: 2012:10:08 21:23:25+02:00
- XMP-xmpMM
- Просмотров: 407
- Рейтинг: голосов еще нет
- Отзывов: 0
Получить код для блога
Вставка фотографии в текущем разрешении |
Вставка миниатюры |
HTML (для вставки в блог):
BBCode (для вставки в форум):
Ссылка на фото:
Ссылка на миниатюру:
- Послать ссылку другу
Комментарии к фотографии |