- Раздел: Другое, разное
- Дата съёмки: 06.10.2012 15:08
- Дата загрузки фото: 09.10.2012 16:56
- Оригинальная фотография: 4879 x 3506 (12,3 Мб)
- Технические характеристики:
- Фотоаппарат: Pentax K-5
- Выдержка: 1/320
- Гиперфокальное расстояние: inf m
- Диафрагма: 4,5
- Светочувствительность: 160
- Фокусное расстояние: 77,0 mm (35 mm equivalent: 77,0 mm)
- Экспокоррекция: -0,3
- Полный EXIF
- Composite
- Aperture: 4,5
- CircleOfConfusion: 0,020 mm
- FOV: 26,0 deg
- FocalLength35efl: 77,0 mm (35 mm equivalent: 77,0 mm)
- HyperfocalDistance: inf m
- ScaleFactor35efl: 1,5
- ShutterSpeed: 1/320
- ExifIFD
- ApertureValue: 4,5
- Contrast: Normal
- CreateDate: 2012:10:06 15:08:39
- CustomRendered: Normal
- DateTimeOriginal: 2012:10:06 15:08:39
- ExifImageHeight: 3506
- ExifImageWidth: 4879
- ExposureCompensation: -0,3
- ExposureMode: Manual
- ExposureProgram: Aperture-priority AE
- ExposureTime: 1/320
- FNumber: 4,5
- Flash: Off, Did not fire
- FocalLength: 77,0 mm
- FocalLengthIn35mmFormat: 115 mm
- ISO: 160
- LensInfo: 77mm f/1.8
- LensModel: smc PENTAX-FA 77mm F1.8 Limited
- MeteringMode: Multi-segment
- Saturation: High
- SceneCaptureType: Standard
- SceneType: Directly photographed
- SensingMethod: One-chip color area
- Sharpness: Normal
- ShutterSpeedValue: 1/320
- SubjectDistanceRange: Close
- WhiteBalance: Auto
- ICC-header
- ICC-meas
- ICC-view
- IFD0
- Artist: Oleg_Gronik
- Make: PENTAX
- Model: PENTAX K-5
- ModifyDate: 2012:10:09 15:51:18
- Orientation: Horizontal (normal)
- Software: ACDSee Pro 5
- IFD1
- IPTC
- By-line: Oleg_Gronik
- DateCreated: 2012:10:06
- System
- XMP-aux
- ApproximateFocusDistance: 1,41
- Lens: smc PENTAX-FA 77mm F1.8 Limited
- LensID: 4 24
- XMP-crs
- AlreadyApplied: True
- AutoLateralCA: 0
- Blacks2012: 0
- BlueHue: 0
- BlueSaturation: 0
- CameraProfile: Embedded
- Clarity2012: 0
- ColorNoiseReduction: 0
- Contrast2012: 0
- ConvertToGrayscale: False
- CropAngle: -0.464851
- CropBottom: 0.981086
- CropConstrainToWarp: 0
- CropHeight: 3200
- CropLeft: 0.003396
- CropRight: 0.936566
- CropTop: 0.012101
- CropUnit: pixels
- CropWidth: 4573
- DefringeGreenAmount: 0
- DefringeGreenHueHi: 60
- DefringeGreenHueLo: 40
- DefringePurpleAmount: 0
- DefringePurpleHueHi: 70
- DefringePurpleHueLo: 30
- Exposure2012: +1.60
- GrainAmount: 0
- GreenHue: 0
- GreenSaturation: 0
- HasCrop: True
- HasSettings: True
- Highlights2012: -32
- HueAdjustmentAqua: 0
- HueAdjustmentBlue: 0
- HueAdjustmentGreen: 0
- HueAdjustmentMagenta: 0
- HueAdjustmentOrange: 0
- HueAdjustmentPurple: 0
- HueAdjustmentRed: 0
- HueAdjustmentYellow: 0
- IncrementalTemperature: 0
- IncrementalTint: 0
- LensManualDistortionAmount: 0
- LensProfileEnable: 0
- LensProfileSetup: LensDefaults
- LuminanceAdjustmentAqua: 0
- LuminanceAdjustmentBlue: 0
- LuminanceAdjustmentGreen: 0
- LuminanceAdjustmentMagenta: 0
- LuminanceAdjustmentOrange: 0
- LuminanceAdjustmentPurple: 0
- LuminanceAdjustmentRed: 0
- LuminanceAdjustmentYellow: 0
- LuminanceSmoothing: 0
- PaintBasedCorrectionsLocalClarity2012: 0.000000
- PaintBasedCorrectionsLocalContrast2012: 0.000000
- PaintBasedCorrectionsLocalDefringe: 0.000000
- PaintBasedCorrectionsLocalExposure2012: -0.183750
- PaintBasedCorrectionsLocalHighlights2012: 0.000000
- PaintBasedCorrectionsLocalLuminanceNoise: 0.000000
- PaintBasedCorrectionsLocalMoire: 0.000000
- PaintBasedCorrectionsLocalShadows2012: 0.000000
- PaintBasedCorrectionsLocalTemperature: 0.000000
- PaintBasedCorrectionsLocalTint: 0.000000
- PaintCorrectionActive: true
- PaintCorrectionAmount: 1.000000
- PaintCorrectionBrightness: 0.000000
- PaintCorrectionHue: 240.000000
- PaintCorrectionMaskCenterWeight: 0.046107
- PaintCorrectionMaskFlow: 1.000000
- PaintCorrectionMaskRadius: 0.265861
- PaintCorrectionMaskValue: 1.000000
- PaintCorrectionMaskWhat: Mask/Paint
- PaintCorrectionSaturation: 0.000000
- PaintCorrectionSharpness: 0.000000
- PaintCorrectionWhat: Correction
- ParametricDarks: 0
- ParametricHighlightSplit: 75
- ParametricHighlights: 0
- ParametricLights: 0
- ParametricMidtoneSplit: 50
- ParametricShadowSplit: 25
- ParametricShadows: 0
- PerspectiveHorizontal: 0
- PerspectiveRotate: 0.0
- PerspectiveScale: 100
- PerspectiveVertical: 0
- PostCropVignetteAmount: -35
- PostCropVignetteFeather: 68
- PostCropVignetteHighlightContrast: 0
- PostCropVignetteMidpoint: 70
- PostCropVignetteRoundness: 0
- PostCropVignetteStyle: 1
- ProcessVersion: 6.7
- RedHue: 0
- RedSaturation: 0
- Saturation: 0
- SaturationAdjustmentAqua: 0
- SaturationAdjustmentBlue: 0
- SaturationAdjustmentGreen: 0
- SaturationAdjustmentMagenta: 0
- SaturationAdjustmentOrange: 0
- SaturationAdjustmentPurple: 0
- SaturationAdjustmentRed: 0
- SaturationAdjustmentYellow: 0
- ShadowTint: 0
- Shadows2012: 0
- SharpenDetail: 25
- SharpenEdgeMasking: 0
- SharpenRadius: +1.0
- Sharpness: 0
- SplitToningBalance: 0
- SplitToningHighlightHue: 0
- SplitToningHighlightSaturation: 0
- SplitToningShadowHue: 0
- SplitToningShadowSaturation: 0
- ToneCurveName2012: Linear
- ToneCurvePV2012: 0, 0, 255, 255
- ToneCurvePV2012Blue: 0, 0, 255, 255
- ToneCurvePV2012Green: 0, 0, 255, 255
- ToneCurvePV2012Red: 0, 0, 255, 255
- Version: 7.2
- Vibrance: 0
- VignetteAmount: 0
- WhiteBalance: As Shot
- Whites2012: +25
- XMP-dc
- Creator: Oleg_Gronik
- Format: image/jpeg
- XMP-x
- XMP-xmp
- ModifyDate: 2012:10:08 15:22:48+03:00
- XMP-xmpMM