» Участники » SDTux » Fujifilm X10 » Рав, проявленный в Lr |
Рав, проявленный в Lr |
Рав, проявленный в Lr
- Раздел: Другое, разное
- Дата съёмки: 10.11.2012 23:03
- Дата загрузки фото: 10.11.2012 22:54
- Оригинальная фотография: 2753 x 3671 (4,3 Мб)
- Технические характеристики:
- Фотоаппарат: FujiFilm X10
- Выдержка: 1/40
- Гиперфокальное расстояние: inf m
- Диафрагма: 5,0
- Светочувствительность: 1600
- Фокусное расстояние: 12,0 mm (35 mm equivalent: 24,0 mm)
- Экспокоррекция: -0,33
- Полный EXIF
- Composite
- Aperture: 5,0
- CircleOfConfusion: 0,014 mm
- FOV: 73,0 deg
- FocalLength35efl: 12,0 mm (35 mm equivalent: 24,0 mm)
- HyperfocalDistance: inf m
- ScaleFactor35efl: 2,2
- ShutterSpeed: 1/40
- ExifIFD
- ApertureValue: 5,0
- BrightnessValue: 0,76
- CreateDate: 2012:11:10 23:03:03
- CustomRendered: Normal
- DateTimeOriginal: 2012:11:10 23:03:03
- ExposureCompensation: -0,33
- ExposureMode: Auto
- ExposureProgram: Aperture-priority AE
- ExposureTime: 1/40
- FNumber: 5,0
- Flash: Off, Did not fire
- FocalLength: 12,2 mm
- ISO: 1600
- LightSource: Unknown
- MaxApertureValue: 2,0
- MeteringMode: Average
- SceneCaptureType: Standard
- SceneType: Directly photographed
- SensingMethod: One-chip color area
- SensitivityType: Standard Output Sensitivity
- Sharpness: Normal
- ShutterSpeedValue: 1/40
- SubjectDistanceRange: Unknown
- WhiteBalance: Auto
- IFD0
- Artist: SDTux
- Copyright: SDTux
- Make: FUJIFILM
- Model: X10
- ModifyDate: 2012:11:11 00:31:56
- IFD1
- IPTC
- By-line: SDTux
- CopyrightNotice: SDTux
- DateCreated: 2012:11:10
- System
- XMP-crs
- AlreadyApplied: True
- AutoLateralCA: 0
- Blacks2012: -20
- BlueHue: 0
- BlueSaturation: 0
- Clarity2012: +15
- ColorNoiseReduction: 25
- ColorNoiseReductionDetail: 50
- Contrast2012: 0
- ConvertToGrayscale: False
- CropAngle: 0
- CropBottom: 1
- CropConstrainToWarp: 0
- CropHeight: 2753
- CropLeft: 0.082372
- CropRight: 1
- CropTop: 0.082372
- CropUnit: pixels
- CropWidth: 3671
- DefringeGreenAmount: 0
- DefringeGreenHueHi: 60
- DefringeGreenHueLo: 40
- DefringePurpleAmount: 0
- DefringePurpleHueHi: 70
- DefringePurpleHueLo: 30
- Exposure2012: -0.10
- GrainAmount: 0
- GreenHue: 0
- GreenSaturation: 0
- HasCrop: True
- HasSettings: True
- Highlights2012: -30
- HueAdjustmentAqua: 0
- HueAdjustmentBlue: 0
- HueAdjustmentGreen: 0
- HueAdjustmentMagenta: 0
- HueAdjustmentOrange: 0
- HueAdjustmentPurple: 0
- HueAdjustmentRed: 0
- HueAdjustmentYellow: 0
- LensManualDistortionAmount: 0
- LensProfileEnable: 0
- LensProfileSetup: LensDefaults
- LuminanceAdjustmentAqua: 0
- LuminanceAdjustmentBlue: 0
- LuminanceAdjustmentGreen: 0
- LuminanceAdjustmentMagenta: 0
- LuminanceAdjustmentOrange: 0
- LuminanceAdjustmentPurple: 0
- LuminanceAdjustmentRed: 0
- LuminanceAdjustmentYellow: 0
- LuminanceNoiseReductionContrast: 0
- LuminanceNoiseReductionDetail: 50
- LuminanceSmoothing: 15
- ParametricDarks: 0
- ParametricHighlightSplit: 75
- ParametricHighlights: 0
- ParametricLights: 0
- ParametricMidtoneSplit: 50
- ParametricShadowSplit: 25
- ParametricShadows: 0
- PerspectiveHorizontal: 0
- PerspectiveRotate: 0.0
- PerspectiveScale: 100
- PerspectiveVertical: 0
- PostCropVignetteAmount: 0
- ProcessVersion: 6.7
- RedHue: 0
- RedSaturation: 0
- Saturation: 0
- SaturationAdjustmentAqua: 0
- SaturationAdjustmentBlue: 0
- SaturationAdjustmentGreen: 0
- SaturationAdjustmentMagenta: 0
- SaturationAdjustmentOrange: 0
- SaturationAdjustmentPurple: 0
- SaturationAdjustmentRed: 0
- SaturationAdjustmentYellow: 0
- ShadowTint: 0
- Shadows2012: +30
- SharpenDetail: 35
- SharpenEdgeMasking: 5
- SharpenRadius: +0.7
- Sharpness: 35
- SplitToningBalance: 0
- SplitToningHighlightHue: 0
- SplitToningHighlightSaturation: 0
- SplitToningShadowHue: 0
- SplitToningShadowSaturation: 0
- Temperature: 2850
- Tint: +4
- ToneCurveName2012: Medium Contrast
- ToneCurvePV2012: 0, 0, 32, 22, 64, 56, 128, 128, 192, 196, 255, 255
- ToneCurvePV2012Blue: 0, 0, 255, 255
- ToneCurvePV2012Green: 0, 0, 255, 255
- ToneCurvePV2012Red: 0, 0, 255, 255
- Version: 7.1
- Vibrance: 0
- VignetteAmount: 0
- WhiteBalance: Custom
- Whites2012: -10
- XMP-dc
- Creator: SDTux
- Format: image/jpeg
- Rights: SDTux
- XMP-iptcCore
- CreatorCountry: Russia
- CreatorWorkEmail: sidney_@mail.ru
- CreatorWorkURL: http://velo.darksanime.org
- XMP-xmp
- ModifyDate: 2012:11:11 00:31:56+06:00
- XMP-xmpMM
- XMP-xmpRights
- Marked: True
- UsageTerms: CC-BY-NC-ND
- WebStatement: http://velo.darksanime.org/index.php?copyright
- Просмотров: 783
- Рейтинг: голосов еще нет
- Отзывов: 0
Получить код для блога
Вставка фотографии в текущем разрешении |
Вставка миниатюры |
HTML (для вставки в блог):
BBCode (для вставки в форум):
Ссылка на фото:
Ссылка на миниатюру:
- Послать ссылку другу
Комментарии к фотографии |