- Раздел: Другое, разное
- Дата съёмки: 28.09.2012 16:57
- Дата загрузки фото: 15.11.2012 06:36
- Оригинальная фотография: 2480 x 1772 (1,6 Мб)
- Технические характеристики:
- Фотоаппарат: Nikon D5100
- Выдержка: 1/250
- Гиперфокальное расстояние: inf m
- Диафрагма: 4,5
- Светочувствительность: 200
- Фокусное расстояние: 62,0 mm (35 mm equivalent: 62,0 mm)
- Полный EXIF
- Adobe
- ColorTransform: Unknown (RGB or CMYK)
- Composite
- Aperture: 4,5
- CircleOfConfusion: 0,020 mm
- FOV: 32,0 deg
- FocalLength35efl: 62,0 mm (35 mm equivalent: 62,0 mm)
- HyperfocalDistance: inf m
- ScaleFactor35efl: 1,5
- ShutterSpeed: 1/250
- ExifIFD
- ApertureValue: 4,5
- CFAPattern: [Red,Green][Green,Blue]
- ColorSpace: Uncalibrated
- Contrast: Normal
- CreateDate: 2012:09:28 16:57:35
- CustomRendered: Normal
- DateTimeOriginal: 2012:09:28 16:57:35
- DigitalZoomRatio: 1
- ExifImageHeight: 1772
- ExifImageWidth: 2480
- ExposureCompensation: 0
- ExposureMode: Auto
- ExposureProgram: Program AE
- ExposureTime: 1/250
- FNumber: 4,5
- Flash: No Flash
- FocalLength: 62,0 mm
- FocalLengthIn35mmFormat: 93 mm
- GainControl: None
- ISO: 200
- LensInfo: 55-300mm f/4.5-5.6
- LensModel: 55.0-300.0 mm f/4.5-5.6
- LightSource: Fine Weather
- MaxApertureValue: 4,4
- MeteringMode: Multi-segment
- Saturation: Normal
- SceneCaptureType: Portrait
- SceneType: Directly photographed
- SensingMethod: One-chip color area
- SensitivityType: Recommended Exposure Index
- SerialNumber: 6376705
- Sharpness: Normal
- ShutterSpeedValue: 1/250
- SubjectDistanceRange: Unknown
- WhiteBalance: Manual
- ICC-header
- IFD0
- BitsPerSample: 8 8 8 8
- ImageHeight: 1772
- ImageWidth: 2480
- Make: NIKON CORPORATION
- Model: NIKON D5100
- ModifyDate: 2012:09:30 19:21:31
- Orientation: Horizontal (normal)
- PhotometricInterpretation: BlackIsZero
- SamplesPerPixel: 4
- IFD1
- IPTC
- DateCreated: 2012:09:28
- System
- XMP-aux
- ApproximateFocusDistance: 3,35
- ImageNumber: 7122
- Lens: 55.0-300.0 mm f/4.5-5.6
- LensID: 172
- XMP-crs
- AlreadyApplied: True
- AutoLateralCA: 0
- Blacks2012: -100
- BlueHue: 0
- BlueSaturation: 0
- Brightness: +50
- CameraProfile: Matrix
- Clarity: 0
- Clarity2012: +10
- ColorNoiseReduction: 25
- ColorNoiseReductionDetail: 50
- Contrast: +25
- Contrast2012: -25
- ConvertToGrayscale: True
- Defringe: 2
- Exposure: 0.00
- Exposure2012: +0.50
- FillLight: 0
- GrainAmount: 0
- GrayMixerAqua: -18
- GrayMixerBlue: +9
- GrayMixerGreen: -27
- GrayMixerMagenta: +4
- GrayMixerOrange: -19
- GrayMixerPurple: +15
- GrayMixerRed: -9
- GrayMixerYellow: -23
- GreenHue: 0
- GreenSaturation: 0
- HasCrop: False
- HasSettings: True
- HighlightRecovery: 0
- Highlights2012: -100
- LensManualDistortionAmount: 0
- LensProfileEnable: 0
- LensProfileSetup: LensDefaults
- LuminanceSmoothing: 0
- ParametricDarks: 0
- ParametricHighlightSplit: 75
- ParametricHighlights: 0
- ParametricLights: 0
- ParametricMidtoneSplit: 50
- ParametricShadowSplit: 25
- ParametricShadows: 0
- PerspectiveHorizontal: 0
- PerspectiveRotate: 0.0
- PerspectiveScale: 100
- PerspectiveVertical: 0
- PostCropVignetteAmount: 0
- ProcessVersion: 6.7
- RawFileName: DSC_2768.NEF
- RedHue: 0
- RedSaturation: 0
- ShadowTint: 0
- Shadows: 5
- Shadows2012: +41
- SharpenDetail: 25
- SharpenEdgeMasking: 0
- SharpenRadius: +1.0
- Sharpness: 25
- SplitToningBalance: 0
- SplitToningHighlightHue: 0
- SplitToningHighlightSaturation: 0
- SplitToningShadowHue: 0
- SplitToningShadowSaturation: 0
- Temperature: 5200
- Tint: +11
- ToneCurve: 0, 0, 32, 22, 64, 56, 128, 128, 192, 196, 255, 255
- ToneCurveBlue: 0, 0, 255, 255
- ToneCurveGreen: 0, 0, 255, 255
- ToneCurveName: Medium Contrast
- ToneCurveName2012: Linear
- ToneCurvePV2012: 0, 0, 255, 255
- ToneCurvePV2012Blue: 0, 0, 255, 255
- ToneCurvePV2012Green: 0, 0, 255, 255
- ToneCurvePV2012Red: 0, 0, 255, 255
- ToneCurveRed: 0, 0, 255, 255
- Version: 7.0
- VignetteAmount: 0
- WhiteBalance: As Shot
- Whites2012: +26
- XMP-dc
- XMP-xmp
- ModifyDate: 2012:09:30 19:21:31+04:00
- Rating: 0
- XMP-xmpMM
- Просмотров: 278
- Рейтинг: голосов еще нет
- Отзывов: 0