- Раздел: Другое, разное
- Дата съёмки: 08.12.2012 14:49
- Дата загрузки фото: 30.12.2012 09:04
- Оригинальная фотография: 4000 x 2667 (3,6 Мб)
- Технические характеристики:
- Фотоаппарат: FujiFilm X10
- Выдержка: 1/140
- Гиперфокальное расстояние: inf m
- Диафрагма: 4,5
- Светочувствительность: 200
- Фокусное расстояние: 7,0 mm (35 mm equivalent: 14,0 mm)
- Экспокоррекция: +0,67
- Полный EXIF
- Adobe
- ColorTransform: YCbCr
- Composite
- Aperture: 4,5
- CircleOfConfusion: 0,014 mm
- FOV: 104,0 deg
- FocalLength35efl: 7,0 mm (35 mm equivalent: 14,0 mm)
- GPSLatitude: 66 deg 36' 27,00" N
- GPSLongitude: 67 deg 31' 52,00" E
- GPSPosition: 66 deg 36' 27,00" N, 67 deg 31' 52,00" E
- HyperfocalDistance: inf m
- ScaleFactor35efl: 2,1
- ShutterSpeed: 1/140
- ExifIFD
- ApertureValue: 4,5
- BrightnessValue: 7,39
- CreateDate: 2012:12:08 14:49:53
- CustomRendered: Normal
- DateTimeOriginal: 2012:12:08 14:49:53
- ExposureCompensation: +0,67
- ExposureMode: Auto
- ExposureProgram: Aperture-priority AE
- ExposureTime: 1/140
- FNumber: 4,5
- Flash: Off, Did not fire
- FocalLength: 7,1 mm
- ISO: 200
- LightSource: Unknown
- MaxApertureValue: 2,0
- MeteringMode: Multi-segment
- SceneCaptureType: Standard
- SceneType: Directly photographed
- SensingMethod: One-chip color area
- SensitivityType: Standard Output Sensitivity
- Sharpness: Normal
- ShutterSpeedValue: 1/140
- SubjectDistanceRange: Unknown
- WhiteBalance: Auto
- GPS
- GPSLatitude: 66 deg 36' 27,00"
- GPSLatitudeRef: North
- GPSLongitude: 67 deg 31' 52,00"
- GPSLongitudeRef: East
- GPSVersionID: 2.2.0.0
- ICC-header
- ICC-meas
- ICC-view
- IFD0
- Artist: SDTux
- Copyright: SDTux
- Make: FUJIFILM
- Model: X10
- ModifyDate: 2012:12:30 11:03:35
- IFD1
- IPTC
- By-line: SDTux
- City: Salekhard
- CopyrightNotice: SDTux
- Country-PrimaryLocationName: Russian Federation
- DateCreated: 2012:12:08
- Province-State: Yamalo-Nenets Autonomous Okrug
- System
- XMP-crs
- AlreadyApplied: True
- AutoLateralCA: 0
- Blacks2012: 0
- BlueHue: 0
- BlueSaturation: 0
- Clarity2012: -10
- ColorNoiseReduction: 15
- ColorNoiseReductionDetail: 50
- Contrast2012: 0
- ConvertToGrayscale: False
- CropAngle: 0
- CropBottom: 0.982943
- CropConstrainToWarp: 0
- CropHeight: 2667
- CropLeft: 0
- CropRight: 1
- CropTop: 0.094055
- CropUnit: pixels
- CropWidth: 4000
- DefringeGreenAmount: 0
- DefringeGreenHueHi: 60
- DefringeGreenHueLo: 40
- DefringePurpleAmount: 0
- DefringePurpleHueHi: 70
- DefringePurpleHueLo: 30
- Exposure2012: 0.00
- GrainAmount: 0
- GreenHue: 0
- GreenSaturation: 0
- HasCrop: True
- HasSettings: True
- Highlights2012: 0
- HueAdjustmentAqua: 0
- HueAdjustmentBlue: 0
- HueAdjustmentGreen: 0
- HueAdjustmentMagenta: 0
- HueAdjustmentOrange: 0
- HueAdjustmentPurple: 0
- HueAdjustmentRed: 0
- HueAdjustmentYellow: 0
- LensManualDistortionAmount: 0
- LensProfileEnable: 0
- LensProfileSetup: LensDefaults
- LuminanceAdjustmentAqua: 0
- LuminanceAdjustmentBlue: +10
- LuminanceAdjustmentGreen: 0
- LuminanceAdjustmentMagenta: -10
- LuminanceAdjustmentOrange: 0
- LuminanceAdjustmentPurple: -10
- LuminanceAdjustmentRed: 0
- LuminanceAdjustmentYellow: 0
- LuminanceNoiseReductionContrast: 0
- LuminanceNoiseReductionDetail: 50
- LuminanceSmoothing: 10
- ParametricDarks: 0
- ParametricHighlightSplit: 75
- ParametricHighlights: 0
- ParametricLights: 0
- ParametricMidtoneSplit: 50
- ParametricShadowSplit: 25
- ParametricShadows: 0
- PerspectiveHorizontal: 0
- PerspectiveRotate: 0.0
- PerspectiveScale: 100
- PerspectiveVertical: 0
- PostCropVignetteAmount: 0
- ProcessVersion: 6.7
- RedHue: 0
- RedSaturation: 0
- Saturation: +10
- SaturationAdjustmentAqua: 0
- SaturationAdjustmentBlue: 0
- SaturationAdjustmentGreen: 0
- SaturationAdjustmentMagenta: 0
- SaturationAdjustmentOrange: 0
- SaturationAdjustmentPurple: 0
- SaturationAdjustmentRed: 0
- SaturationAdjustmentYellow: 0
- ShadowTint: +3
- Shadows2012: +10
- SharpenDetail: 35
- SharpenEdgeMasking: 5
- SharpenRadius: +0.8
- Sharpness: 35
- SplitToningBalance: 0
- SplitToningHighlightHue: 0
- SplitToningHighlightSaturation: 0
- SplitToningShadowHue: 0
- SplitToningShadowSaturation: 0
- Temperature: 5150
- Tint: +9
- ToneCurveName2012: Linear
- ToneCurvePV2012: 0, 0, 255, 255
- ToneCurvePV2012Blue: 0, 0, 255, 255
- ToneCurvePV2012Green: 0, 0, 255, 255
- ToneCurvePV2012Red: 0, 0, 255, 255
- Version: 7.3
- Vibrance: 0
- VignetteAmount: 0
- WhiteBalance: Custom
- Whites2012: 0
- XMP-dc
- Creator: SDTux
- Format: image/jpeg
- Rights: SDTux
- XMP-iptcCore
- CreatorCity: Ekaterinburg
- CreatorCountry: Russia
- CreatorWorkEmail: sidney_@mail.ru
- CreatorWorkURL: http://velo.darksanime.org
- XMP-xmp
- ModifyDate: 2012:12:30 11:03:35+06:00
- XMP-xmpMM
- XMP-xmpRights
- Marked: True
- UsageTerms: CC-BY-NC-ND
- WebStatement: http://velo.darksanime.org/index.php?copyright
- Просмотров: 768
- Рейтинг: голосов еще нет
- Отзывов: 0