- Раздел: Репортаж
- Дата съёмки: 30.08.2013 11:44
- Дата загрузки фото: 24.09.2013 21:10
- Оригинальная фотография: 1920 x 1280 (1,3 Мб)
- Технические характеристики:
- Фотоаппарат: Canon EOS-1D X
- Выдержка: 1/320
- Гиперфокальное расстояние: inf m
- Диафрагма: 5,6
- Светочувствительность: 200
- Фокусное расстояние: 280,0 mm (35 mm equivalent: 560,0 mm)
- Экспокоррекция: +1
- Полный EXIF
- Adobe
- ColorTransform: YCbCr
- Composite
- Aperture: 5,6
- CircleOfConfusion: 0,011 mm
- FOV: 3,0 deg
- FocalLength35efl: 280,0 mm (35 mm equivalent: 560,0 mm)
- HyperfocalDistance: inf m
- LensID: Canon EF200-400mm f/4L IS USM EXT
- ScaleFactor35efl: 2,7
- ShutterSpeed: 1/320
- ExifIFD
- ApertureValue: 5,6
- ColorSpace: sRGB
- CreateDate: 2013:08:30 11:44:47
- CustomRendered: Normal
- DateTimeOriginal: 2013:08:30 11:44:47
- ExifImageHeight: 1280
- ExifImageWidth: 1920
- ExposureCompensation: +1
- ExposureMode: Auto
- ExposureProgram: Shutter speed priority AE
- ExposureTime: 1/320
- FNumber: 5,6
- Flash: Off, Did not fire
- FocalLength: 280,0 mm
- ISO: 200
- LensInfo: 280-560mm f/?
- LensModel: EF200-400mm f/4L IS USM EXT
- LensSerialNumber: 0400000060
- MaxApertureValue: 5,7
- MeteringMode: Center-weighted average
- RecommendedExposureIndex: 200
- SceneCaptureType: Standard
- SensitivityType: Recommended Exposure Index
- SerialNumber: 053011002397
- ShutterSpeedValue: 1/320
- WhiteBalance: Auto
- ICC-header
- ICC-meas
- ICC-view
- IFD0
- Artist: Pavel "Myth" YB
- BitsPerSample: 8 8 8
- ImageHeight: 3232
- ImageWidth: 4848
- Make: Canon
- Model: Canon EOS-1D X
- ModifyDate: 2013:09:19 21:03:35
- Orientation: Horizontal (normal)
- PhotometricInterpretation: RGB
- SamplesPerPixel: 3
- IFD1
- IPTC
- By-line: Pavel "Myth" YB
- DateCreated: 2013:08:30
- System
- XMP-aux
- ApproximateFocusDistance: 254
- Firmware: 1.2.4
- FlashCompensation: 0
- ImageNumber: 0
- Lens: EF200-400mm f/4L IS USM EXT
- LensID: 499
- XMP-crs
- AlreadyApplied: True
- AutoLateralCA: 0
- Blacks2012: +1
- BlueHue: 0
- BlueSaturation: 0
- CameraProfile: Camera Standard
- Clarity2012: +31
- ColorNoiseReduction: 25
- ColorNoiseReductionDetail: 50
- ColorTemperature: 5750
- Contrast2012: +11
- ConvertToGrayscale: False
- CropAngle: 0
- CropBottom: 1
- CropConstrainToWarp: 0
- CropLeft: 0.06483
- CropRight: 1
- CropTop: 0.06483
- DefringeGreenAmount: 0
- DefringeGreenHueHi: 60
- DefringeGreenHueLo: 40
- DefringePurpleAmount: 0
- DefringePurpleHueHi: 70
- DefringePurpleHueLo: 30
- Exposure2012: +0.25
- GrainAmount: 0
- GreenHue: 0
- GreenSaturation: 0
- HasCrop: True
- HasSettings: True
- Highlights2012: -100
- HueAdjustmentAqua: 0
- HueAdjustmentBlue: 0
- HueAdjustmentGreen: 0
- HueAdjustmentMagenta: 0
- HueAdjustmentOrange: 0
- HueAdjustmentPurple: 0
- HueAdjustmentRed: 0
- HueAdjustmentYellow: 0
- LensManualDistortionAmount: 0
- LensProfileEnable: 0
- LensProfileSetup: LensDefaults
- LuminanceAdjustmentAqua: 0
- LuminanceAdjustmentBlue: 0
- LuminanceAdjustmentGreen: 0
- LuminanceAdjustmentMagenta: 0
- LuminanceAdjustmentOrange: 0
- LuminanceAdjustmentPurple: 0
- LuminanceAdjustmentRed: 0
- LuminanceAdjustmentYellow: 0
- LuminanceSmoothing: 0
- ParametricDarks: 0
- ParametricHighlightSplit: 75
- ParametricHighlights: 0
- ParametricLights: 0
- ParametricMidtoneSplit: 50
- ParametricShadowSplit: 25
- ParametricShadows: 0
- PerspectiveAspect: 0
- PerspectiveHorizontal: 0
- PerspectiveRotate: 0.0
- PerspectiveScale: 100
- PerspectiveUpright: 0
- PerspectiveVertical: 0
- PostCropVignetteAmount: 0
- ProcessVersion: 6.7
- RedHue: 0
- RedSaturation: 0
- Saturation: 0
- SaturationAdjustmentAqua: 0
- SaturationAdjustmentBlue: 0
- SaturationAdjustmentGreen: 0
- SaturationAdjustmentMagenta: 0
- SaturationAdjustmentOrange: 0
- SaturationAdjustmentPurple: 0
- SaturationAdjustmentRed: 0
- SaturationAdjustmentYellow: 0
- ShadowTint: 0
- Shadows2012: +3
- SharpenDetail: 25
- SharpenEdgeMasking: 0
- SharpenRadius: +1.0
- Sharpness: 25
- SplitToningBalance: 0
- SplitToningHighlightHue: 0
- SplitToningHighlightSaturation: 0
- SplitToningShadowHue: 0
- SplitToningShadowSaturation: 0
- Tint: +22
- ToneCurveName2012: Linear
- ToneCurvePV2012: 0, 0, 255, 255
- ToneCurvePV2012Blue: 0, 0, 255, 255
- ToneCurvePV2012Green: 0, 0, 255, 255
- ToneCurvePV2012Red: 0, 0, 255, 255
- Version: 8.1
- Vibrance: 0
- VignetteAmount: +40
- VignetteMidpoint: 50
- WhiteBalance: As Shot
- Whites2012: +50
- XMP-dc
- Creator: Pavel "Myth" YB
- Format: image/jpeg
- XMP-xmp
- ModifyDate: 2013:09:19 21:03:35+04:00
- Rating: 5
- XMP-xmpMM
- Просмотров: 551
- Рейтинг: голосов еще нет
- Отзывов: 0