- Раздел: Натюрморт
- Дата съёмки: 17.10.2013 11:59
- Дата загрузки фото: 17.10.2013 19:26
- Оригинальная фотография: 4141 x 2709 (1,4 Мб)
- Технические характеристики:
- Фотоаппарат: Panasonic DMC-G5
- Выдержка: 1/10
- Гиперфокальное расстояние: inf m
- Диафрагма: 10,0
- Светочувствительность: 160
- Фокусное расстояние: 25,0 mm (35 mm equivalent: 50,0 mm)
- Полный EXIF
- Adobe
- ColorTransform: YCbCr
- Composite
- Aperture: 10,0
- CircleOfConfusion: 0,015 mm
- FOV: 39,0 deg
- FocalLength35efl: 25,0 mm (35 mm equivalent: 50,0 mm)
- HyperfocalDistance: inf m
- ScaleFactor35efl: 2,0
- ShutterSpeed: 1/10
- ExifIFD
- ApertureValue: 10,0
- ColorSpace: sRGB
- Contrast: Normal
- CreateDate: 2013:10:17 11:59:16
- CustomRendered: Normal
- DateTimeOriginal: 2013:10:17 11:59:16
- DigitalZoomRatio: 0
- ExifImageHeight: 2709
- ExifImageWidth: 4141
- ExposureCompensation: 0
- ExposureMode: Manual
- ExposureProgram: Manual
- ExposureTime: 1/10
- FNumber: 10,0
- Flash: Off, Did not fire
- FocalLength: 25,0 mm
- FocalLengthIn35mmFormat: 50 mm
- GainControl: Low gain up
- ISO: 160
- LensModel: LUMIX G VARIO PZ 14-42/F3.5-5.6
- LensSerialNumber: 02HI9291874N
- LightSource: Unknown
- MaxApertureValue: 4,9
- MeteringMode: Multi-segment
- Saturation: Normal
- SceneCaptureType: Standard
- SceneType: Directly photographed
- SensingMethod: One-chip color area
- Sharpness: Hard
- ShutterSpeedValue: 1/10
- WhiteBalance: Auto
- ICC-header
- ICC-meas
- ICC-view
- IFD0
- BitsPerSample: 8 8 8
- ImageHeight: 2709
- ImageWidth: 4141
- Make: Panasonic
- Model: DMC-G5
- ModifyDate: 2013:10:17 19:16:10
- Orientation: Horizontal (normal)
- PhotometricInterpretation: RGB
- SamplesPerPixel: 3
- IFD1
- IPTC
- DateCreated: 2013:10:17
- System
- XMP-aux
- Lens: LUMIX G VARIO PZ 14-42/F3.5-5.6
- XMP-crs
- AlreadyApplied: True
- AutoLateralCA: 0
- Blacks2012: 0
- BlueHue: 0
- BlueSaturation: 0
- Clarity2012: +36
- ColorNoiseReduction: 25
- ColorNoiseReductionDetail: 50
- ColorTemperature: 7795
- Contrast2012: +14
- ConvertToGrayscale: False
- CropAngle: 1.91073
- CropBottom: 0.995471
- CropConstrainToWarp: 0
- CropHeight: 2709
- CropLeft: 0.019603
- CropRight: 0.898133
- CropTop: 0.172057
- CropUnit: pixels
- CropWidth: 4141
- DefringeGreenAmount: 0
- DefringeGreenHueHi: 60
- DefringeGreenHueLo: 40
- DefringePurpleAmount: 0
- DefringePurpleHueHi: 70
- DefringePurpleHueLo: 30
- Exposure2012: 0.00
- GrainAmount: 0
- GreenHue: 0
- GreenSaturation: 0
- HasCrop: True
- HasSettings: True
- Highlights2012: +39
- HueAdjustmentAqua: -43
- HueAdjustmentBlue: -15
- HueAdjustmentGreen: 0
- HueAdjustmentMagenta: 0
- HueAdjustmentOrange: -23
- HueAdjustmentPurple: 0
- HueAdjustmentRed: -55
- HueAdjustmentYellow: -40
- LensManualDistortionAmount: -27
- LensProfileEnable: 0
- LensProfileSetup: LensDefaults
- LuminanceAdjustmentAqua: +100
- LuminanceAdjustmentBlue: +21
- LuminanceAdjustmentGreen: 0
- LuminanceAdjustmentMagenta: +85
- LuminanceAdjustmentOrange: +43
- LuminanceAdjustmentPurple: -57
- LuminanceAdjustmentRed: 0
- LuminanceAdjustmentYellow: +79
- LuminanceSmoothing: 0
- ParametricDarks: 0
- ParametricHighlightSplit: 75
- ParametricHighlights: 0
- ParametricLights: 0
- ParametricMidtoneSplit: 50
- ParametricShadowSplit: 25
- ParametricShadows: 0
- PerspectiveHorizontal: 0
- PerspectiveRotate: 0.0
- PerspectiveScale: 100
- PerspectiveVertical: 0
- PostCropVignetteAmount: 0
- ProcessVersion: 6.7
- RedHue: 0
- RedSaturation: 0
- Saturation: +2
- SaturationAdjustmentAqua: 0
- SaturationAdjustmentBlue: -36
- SaturationAdjustmentGreen: +9
- SaturationAdjustmentMagenta: -26
- SaturationAdjustmentOrange: +43
- SaturationAdjustmentPurple: -45
- SaturationAdjustmentRed: +53
- SaturationAdjustmentYellow: +51
- ShadowTint: -59
- Shadows2012: -57
- SharpenDetail: 25
- SharpenEdgeMasking: 0
- SharpenRadius: +1.0
- Sharpness: 65
- SplitToningBalance: 0
- SplitToningHighlightHue: 0
- SplitToningHighlightSaturation: 0
- SplitToningShadowHue: 0
- SplitToningShadowSaturation: 0
- Tint: +3
- ToneCurveName2012: Linear
- ToneCurvePV2012: 0, 0, 255, 255
- ToneCurvePV2012Blue: 0, 0, 255, 255
- ToneCurvePV2012Green: 0, 0, 255, 255
- ToneCurvePV2012Red: 0, 0, 255, 255
- Version: 7.2
- Vibrance: 0
- VignetteAmount: 0
- WhiteBalance: Custom
- Whites2012: 0
- XMP-dc
- XMP-xmp
- ModifyDate: 2013:10:17 19:16:10+04:00
- Rating: 1
- XMP-xmpMM