- Раздел: Природа
- Дата съёмки: 15.08.2013 19:28
- Дата загрузки фото: 20.10.2013 16:35
- Оригинальная фотография: 1920 x 1280 (1,5 Мб)
- Технические характеристики:
- Фотоаппарат: Sony DSC-RX100
- Выдержка: 1/60
- Гиперфокальное расстояние: inf m
- Диафрагма: 4,0
- Светочувствительность: 125
- Фокусное расстояние: 10,0 mm (35 mm equivalent: 20,0 mm)
- Полный EXIF
- Adobe
- ColorTransform: YCbCr
- Composite
- Aperture: 4,0
- CircleOfConfusion: 0,011 mm
- FOV: 83,0 deg
- FocalLength35efl: 10,0 mm (35 mm equivalent: 20,0 mm)
- HyperfocalDistance: inf m
- ScaleFactor35efl: 2,8
- ShutterSpeed: 1/60
- ExifIFD
- ApertureValue: 4,0
- BrightnessValue: 5,48203125
- ColorSpace: sRGB
- Contrast: Normal
- CreateDate: 2013:08:15 19:28:12
- CustomRendered: Normal
- DateTimeOriginal: 2013:08:15 19:28:12
- DigitalZoomRatio: 1
- ExifImageHeight: 1280
- ExifImageWidth: 1920
- ExposureCompensation: 0
- ExposureMode: Auto
- ExposureProgram: Aperture-priority AE
- ExposureTime: 1/60
- FNumber: 4,0
- Flash: Off, Did not fire
- FocalLength: 10,4 mm
- FocalLengthIn35mmFormat: 28 mm
- ISO: 125
- LensInfo: 10.4-37.1mm f/1.8-4.9
- LensModel: 28-100mm F1.8-4.9
- LightSource: Unknown
- MaxApertureValue: 1,8
- MeteringMode: Multi-segment
- RecommendedExposureIndex: 125
- Saturation: Normal
- SceneCaptureType: Standard
- SceneType: Directly photographed
- SensitivityType: Recommended Exposure Index
- Sharpness: Normal
- ShutterSpeedValue: 1/60
- WhiteBalance: Auto
- ICC-header
- ICC-meas
- ICC-view
- IFD0
- BitsPerSample: 8 8 8
- ImageHeight: 2000
- ImageWidth: 3000
- Make: SONY
- Model: DSC-RX100
- ModifyDate: 2013:10:20 15:32:31
- Orientation: Horizontal (normal)
- PhotometricInterpretation: RGB
- PlanarConfiguration: Chunky
- SamplesPerPixel: 3
- IFD1
- IPTC
- DateCreated: 2013:08:15
- System
- XMP-aux
- Lens: 28-100mm F1.8-4.9
- XMP-crs
- AlreadyApplied: True
- AutoLateralCA: 0
- Blacks2012: -43
- BlueHue: 0
- BlueSaturation: 0
- CameraProfile: Sony RX100 - Dual
- Clarity2012: 0
- ColorNoiseReduction: 15
- ColorNoiseReductionDetail: 50
- ColorTemperature: 4600
- Contrast2012: +15
- ConvertToGrayscale: False
- DefringeGreenAmount: 0
- DefringeGreenHueHi: 60
- DefringeGreenHueLo: 40
- DefringePurpleAmount: 5
- DefringePurpleHueHi: 70
- DefringePurpleHueLo: 30
- Exposure2012: +0.65
- GrainAmount: 0
- GreenHue: 0
- GreenSaturation: 0
- HasCrop: False
- HasSettings: True
- Highlights2012: 0
- HueAdjustmentAqua: 0
- HueAdjustmentBlue: 0
- HueAdjustmentGreen: 0
- HueAdjustmentMagenta: 0
- HueAdjustmentOrange: 0
- HueAdjustmentPurple: 0
- HueAdjustmentRed: 0
- HueAdjustmentYellow: 0
- LensManualDistortionAmount: 0
- LensProfileEnable: 0
- LensProfileSetup: LensDefaults
- LuminanceAdjustmentAqua: 0
- LuminanceAdjustmentBlue: 0
- LuminanceAdjustmentGreen: 0
- LuminanceAdjustmentMagenta: 0
- LuminanceAdjustmentOrange: 0
- LuminanceAdjustmentPurple: 0
- LuminanceAdjustmentRed: 0
- LuminanceAdjustmentYellow: 0
- LuminanceNoiseReductionContrast: 0
- LuminanceNoiseReductionDetail: 50
- LuminanceSmoothing: 5
- ParametricDarks: 0
- ParametricHighlightSplit: 75
- ParametricHighlights: 0
- ParametricLights: 0
- ParametricMidtoneSplit: 50
- ParametricShadowSplit: 25
- ParametricShadows: 0
- PerspectiveHorizontal: 0
- PerspectiveRotate: 0.0
- PerspectiveScale: 100
- PerspectiveVertical: 0
- PostCropVignetteAmount: 0
- ProcessVersion: 6.7
- RawFileName: DSC05950_SONY RX100.ARW
- RedHue: 0
- RedSaturation: 0
- Saturation: -3
- SaturationAdjustmentAqua: 0
- SaturationAdjustmentBlue: -10
- SaturationAdjustmentGreen: +15
- SaturationAdjustmentMagenta: 0
- SaturationAdjustmentOrange: 0
- SaturationAdjustmentPurple: 0
- SaturationAdjustmentRed: 0
- SaturationAdjustmentYellow: 0
- ShadowTint: 0
- Shadows2012: 0
- SharpenDetail: 25
- SharpenEdgeMasking: 0
- SharpenRadius: +1.0
- Sharpness: 0
- SplitToningBalance: 0
- SplitToningHighlightHue: 0
- SplitToningHighlightSaturation: 0
- SplitToningShadowHue: 0
- SplitToningShadowSaturation: 0
- Tint: +21
- ToneCurveName2012: Linear
- ToneCurvePV2012: 0, 0, 255, 255
- ToneCurvePV2012Blue: 0, 0, 255, 255
- ToneCurvePV2012Green: 0, 0, 255, 255
- ToneCurvePV2012Red: 0, 0, 255, 255
- Version: 7.4
- Vibrance: 0
- VignetteAmount: 0
- WhiteBalance: Custom
- Whites2012: +4
- XMP-dc
- XMP-xmp
- ModifyDate: 2013:10:20 15:32:31+03:00
- Rating: 0
- XMP-xmpMM