- Раздел: Животные
- Дата съёмки: 14.12.2013 15:31
- Дата загрузки фото: 25.12.2013 08:24
- Оригинальная фотография: 1800 x 1200 (466 Кб)
- Технические характеристики:
- Фотоаппарат: Panasonic DMC-FZ150
- Выдержка: 1/160
- Гиперфокальное расстояние: inf m
- Диафрагма: 5,2
- Светочувствительность: 200
- Фокусное расстояние: 108,0 mm (35 mm equivalent: 540,0 mm)
- Экспокоррекция: +0,33
- Полный EXIF
- Adobe
- ColorTransform: YCbCr
- Composite
- Aperture: 5,2
- CircleOfConfusion: 0,005 mm
- FOV: 3,0 deg
- FocalLength35efl: 108,0 mm (35 mm equivalent: 540,0 mm)
- HyperfocalDistance: inf m
- ScaleFactor35efl: 5,6
- ShutterSpeed: 1/160
- ExifIFD
- ApertureValue: 5,2
- ColorSpace: Uncalibrated
- Contrast: High
- CreateDate: 2013:12:14 15:31:01
- CustomRendered: Custom
- DateTimeOriginal: 2013:12:14 15:31:01
- DigitalZoomRatio: 0
- ExifImageHeight: 1200
- ExifImageWidth: 1800
- ExposureCompensation: +0,33
- ExposureMode: Auto
- ExposureProgram: Aperture-priority AE
- ExposureTime: 1/160
- FNumber: 5,2
- Flash: Off, Did not fire
- FocalLength: 108,0 mm
- FocalLengthIn35mmFormat: 600 mm
- GainControl: Low gain up
- ISO: 200
- LightSource: Cloudy
- MaxApertureValue: 5,2
- MeteringMode: Multi-segment
- Saturation: Normal
- SceneCaptureType: Standard
- SceneType: Directly photographed
- SensingMethod: One-chip color area
- Sharpness: Hard
- ShutterSpeedValue: 1/160
- WhiteBalance: Manual
- ICC-header
- IFD0
- Make: Panasonic
- Model: DMC-FZ150
- ModifyDate: 2013:12:18 10:35:51
- Orientation: Horizontal (normal)
- IFD1
- IPTC
- DateCreated: 2013:12:14
- System
- XMP-crs
- AlreadyApplied: True
- AutoLateralCA: 1
- Blacks2012: -40
- BlueHue: 0
- BlueSaturation: 0
- Clarity2012: +10
- ColorNoiseReduction: 25
- ColorNoiseReductionDetail: 50
- ColorTemperature: 7150
- Contrast2012: +10
- ConvertToGrayscale: False
- CropAngle: 0
- CropBottom: 0.943548
- CropConstrainToWarp: 1
- CropHeight: 3
- CropLeft: 0
- CropRight: 1
- CropTop: 0.054659
- CropUnit: Unknown (3)
- CropWidth: 2
- DefringeGreenAmount: 4
- DefringeGreenHueHi: 85
- DefringeGreenHueLo: 20
- DefringePurpleAmount: 2
- DefringePurpleHueHi: 80
- DefringePurpleHueLo: 40
- Exposure2012: +0.20
- GrainAmount: 0
- GreenHue: 0
- GreenSaturation: 0
- HasCrop: True
- HasSettings: True
- Highlights2012: -50
- HueAdjustmentAqua: 0
- HueAdjustmentBlue: 0
- HueAdjustmentGreen: 0
- HueAdjustmentMagenta: 0
- HueAdjustmentOrange: 0
- HueAdjustmentPurple: 0
- HueAdjustmentRed: 0
- HueAdjustmentYellow: 0
- LensManualDistortionAmount: 0
- LensProfileEnable: 0
- LensProfileSetup: LensDefaults
- LuminanceAdjustmentAqua: 0
- LuminanceAdjustmentBlue: 0
- LuminanceAdjustmentGreen: 0
- LuminanceAdjustmentMagenta: 0
- LuminanceAdjustmentOrange: 0
- LuminanceAdjustmentPurple: 0
- LuminanceAdjustmentRed: 0
- LuminanceAdjustmentYellow: 0
- LuminanceSmoothing: 0
- ParametricDarks: 0
- ParametricHighlightSplit: 75
- ParametricHighlights: 0
- ParametricLights: 0
- ParametricMidtoneSplit: 50
- ParametricShadowSplit: 25
- ParametricShadows: 0
- PerspectiveAspect: 0
- PerspectiveHorizontal: 0
- PerspectiveRotate: 0.0
- PerspectiveScale: 100
- PerspectiveUpright: 0
- PerspectiveVertical: 0
- PostCropVignetteAmount: 0
- ProcessVersion: 6.7
- RawFileName: P1000485.RW2
- RedHue: 0
- RedSaturation: 0
- Saturation: +10
- SaturationAdjustmentAqua: 0
- SaturationAdjustmentBlue: 0
- SaturationAdjustmentGreen: 0
- SaturationAdjustmentMagenta: 0
- SaturationAdjustmentOrange: 0
- SaturationAdjustmentPurple: 0
- SaturationAdjustmentRed: 0
- SaturationAdjustmentYellow: 0
- ShadowTint: 0
- Shadows2012: +50
- SharpenDetail: 25
- SharpenEdgeMasking: 10
- SharpenRadius: +1.0
- Sharpness: 25
- SplitToningBalance: 0
- SplitToningHighlightHue: 0
- SplitToningHighlightSaturation: 0
- SplitToningShadowHue: 0
- SplitToningShadowSaturation: 0
- Tint: +10
- ToneCurveName2012: Linear
- ToneCurvePV2012: 0, 0, 255, 255
- ToneCurvePV2012Blue: 0, 0, 255, 255
- ToneCurvePV2012Green: 0, 0, 255, 255
- ToneCurvePV2012Red: 0, 0, 255, 255
- Version: 8.1
- Vibrance: +10
- VignetteAmount: 0
- WhiteBalance: Custom
- Whites2012: -20
- XMP-dc
- XMP-xmp
- ModifyDate: 2013:12:18 10:35:51+04:00
- Rating: 0
- XMP-xmpMM