- Раздел: Интерьер, дизайн
- Дата съёмки: 07.01.2014 13:59
- Дата загрузки фото: 14.01.2014 12:29
- Оригинальная фотография: 1321 x 2000 (699 Кб)
- Технические характеристики:
- Фотоаппарат: Canon EOS 550D
- Выдержка: 1/80
- Гиперфокальное расстояние: inf m
- Диафрагма: 5,0
- Светочувствительность: 3200
- Фокусное расстояние: 41,0 mm (35 mm equivalent: 164,0 mm)
- Полный EXIF
- Adobe
- ColorTransform: YCbCr
- Composite
- Aperture: 5,0
- CircleOfConfusion: 0,007 mm
- DOF: inf (0,00 m - inf)
- FOV: 12,0 deg
- Flash: Off, Did not fire
- FocalLength35efl: 41,0 mm (35 mm equivalent: 164,0 mm)
- HyperfocalDistance: inf m
- LensID: Canon EF-S 18-135mm f/3.5-5.6 IS
- ScaleFactor35efl: 4,1
- ShutterSpeed: 1/80
- ExifIFD
- ApertureValue: 5,0
- CreateDate: 2014:01:07 13:59:15
- CustomRendered: Normal
- DateTimeOriginal: 2014:01:07 13:59:15
- ExposureCompensation: 0
- ExposureMode: Auto
- ExposureProgram: Aperture-priority AE
- ExposureTime: 1/80
- FNumber: 5,0
- FocalLength: 41,0 mm
- ISO: 3200
- LensInfo: 18-135mm f/?
- LensModel: EF-S18-135mm f/3.5-5.6 IS
- MaxApertureValue: 4,8
- MeteringMode: Multi-segment
- SceneCaptureType: Standard
- SensitivityType: Unknown
- SerialNumber: 1132505168
- ShutterSpeedValue: 1/80
- SubjectDistance: 1,39 m
- WhiteBalance: Manual
- ICC-header
- ICC-meas
- ICC-view
- IFD0
- Artist: Lebedev A N
- Make: Canon
- Model: Canon EOS 550D
- ModifyDate: 2014:01:12 17:37:49
- IFD1
- IPTC
- By-line: Lebedev A N
- System
- XMP-aux
- ApproximateFocusDistance: 1,39
- Firmware: 1.0.8
- FlashCompensation: 0
- ImageNumber: 0
- Lens: EF-S18-135mm f/3.5-5.6 IS
- LensID: 51
- XMP-crs
- AlreadyApplied: True
- BlueHue: 0
- BlueSaturation: 0
- Brightness: +45
- CameraProfile: Embedded
- ChromaticAberrationB: 0
- ChromaticAberrationR: 0
- Clarity: 0
- ColorNoiseReduction: 0
- Contrast: +27
- ConvertToGrayscale: False
- CropAngle: 0
- CropBottom: 0.968487
- CropConstrainToWarp: 0
- CropHeight: 1321
- CropLeft: 0.056022
- CropRight: 0.997199
- CropTop: 0.035714
- CropUnit: pixels
- CropWidth: 2000
- Defringe: 0
- Exposure: -0.94
- FillLight: 28
- GrainAmount: 0
- GreenHue: 0
- GreenSaturation: 0
- HasCrop: True
- HasSettings: True
- HighlightRecovery: 0
- HueAdjustmentAqua: 0
- HueAdjustmentBlue: 0
- HueAdjustmentGreen: 0
- HueAdjustmentMagenta: 0
- HueAdjustmentOrange: 0
- HueAdjustmentPurple: 0
- HueAdjustmentRed: 0
- HueAdjustmentYellow: 0
- IncrementalTemperature: -22
- IncrementalTint: +20
- LensManualDistortionAmount: 0
- LensProfileEnable: 0
- LensProfileSetup: LensDefaults
- LuminanceAdjustmentAqua: 0
- LuminanceAdjustmentBlue: 0
- LuminanceAdjustmentGreen: 0
- LuminanceAdjustmentMagenta: 0
- LuminanceAdjustmentOrange: 0
- LuminanceAdjustmentPurple: 0
- LuminanceAdjustmentRed: 0
- LuminanceAdjustmentYellow: 0
- LuminanceSmoothing: 0
- ParametricDarks: 0
- ParametricHighlightSplit: 75
- ParametricHighlights: 0
- ParametricLights: 0
- ParametricMidtoneSplit: 50
- ParametricShadowSplit: 25
- ParametricShadows: 0
- PerspectiveHorizontal: 0
- PerspectiveRotate: 0.0
- PerspectiveScale: 100
- PerspectiveVertical: 0
- PostCropVignetteAmount: 0
- ProcessVersion: 5.7
- RedHue: 0
- RedSaturation: 0
- Saturation: 0
- SaturationAdjustmentAqua: 0
- SaturationAdjustmentBlue: 0
- SaturationAdjustmentGreen: 0
- SaturationAdjustmentMagenta: 0
- SaturationAdjustmentOrange: 0
- SaturationAdjustmentPurple: 0
- SaturationAdjustmentRed: 0
- SaturationAdjustmentYellow: 0
- ShadowTint: 0
- Shadows: 14
- SharpenDetail: 25
- SharpenEdgeMasking: 0
- SharpenRadius: +1.0
- Sharpness: 0
- SplitToningBalance: 0
- SplitToningHighlightHue: 0
- SplitToningHighlightSaturation: 0
- SplitToningShadowHue: 0
- SplitToningShadowSaturation: 0
- ToneCurve: 0, 0, 255, 255
- ToneCurveName: Linear
- Version: 6.3
- Vibrance: 0
- VignetteAmount: 0
- WhiteBalance: Custom
- XMP-dc
- XMP-exif
- DateTimeDigitized: 2014:01:07 13:59:15.00+04:00
- DateTimeOriginal: 2014:01:07 13:59:15.00+04:00
- ExifImageHeight: 2000
- ExifImageWidth: 1321
- FlashFired: False
- FlashFunction: False
- FlashMode: Off
- FlashRedEyeMode: False
- FlashReturn: No return detection
- XMP-tiff
- ImageHeight: 2000
- ImageWidth: 1321
- XMP-xmp
- CreateDate: 2014:01:07 13:59:15.00+04:00
- ModifyDate: 2014:01:12 17:37:49+04:00
- Просмотров: 116
- Рейтинг: голосов еще нет
- Отзывов: 0