- Раздел: Другое, разное
- Дата съёмки: 27.03.2014 14:56
- Дата загрузки фото: 15.04.2014 23:58
- Оригинальная фотография: 2500 x 1843 (1,6 Мб)
- Технические характеристики:
- Фотоаппарат: Canon PowerShot SX20 IS
- Выдержка: 1/160
- Гиперфокальное расстояние: inf m
- Диафрагма: 5,7
- Светочувствительность: 80
- Фокусное расстояние: 100,0 mm (35 mm equivalent: 800,0 mm)
- Экспокоррекция: -1/3
- Полный EXIF
- Composite
- Aperture: 5,7
- CircleOfConfusion: 0,003 mm
- DOF: inf (0,00 m - inf)
- FOV: 2,0 deg
- Flash: Off, Did not fire
- FocalLength35efl: 100,0 mm (35 mm equivalent: 800,0 mm)
- HyperfocalDistance: inf m
- ScaleFactor35efl: 9,0
- ShutterSpeed: 1/160
- ExifIFD
- ApertureValue: 5,7
- CreateDate: 2014:03:27 14:56:32
- CustomRendered: Normal
- DateTimeOriginal: 2014:03:27 14:56:32
- DigitalZoomRatio: 1
- ExifImageHeight: 1843
- ExifImageWidth: 2500
- ExposureCompensation: -1/3
- ExposureMode: Manual
- ExposureTime: 1/160
- FNumber: 5,7
- FocalLength: 100,0 mm
- ISO: 80
- LensInfo: 5-100mm f/?
- LensModel: 5.0-100.0 mm
- MaxApertureValue: 5,7
- MeteringMode: Multi-segment
- SceneCaptureType: Standard
- SensingMethod: One-chip color area
- SensitivityType: Unknown
- ShutterSpeedValue: 1/160
- SubjectDistance: 37,7 m
- WhiteBalance: Auto
- ICC-header
- ICC-meas
- ICC-view
- IFD0
- Make: Canon
- Model: Canon PowerShot SX20 IS
- ModifyDate: 2014:04:15 22:58:11
- Orientation: Horizontal (normal)
- Software: ACDSee Pro 6
- IFD1
- System
- XMP-aux
- ApproximateFocusDistance: 37,7
- Firmware: 1.02
- FlashCompensation: 0
- Lens: 5.0-100.0 mm
- XMP-crs
- AlreadyApplied: True
- BlueHue: 0
- BlueSaturation: 0
- Brightness: 0
- CameraProfile: Embedded
- ChromaticAberrationB: 0
- ChromaticAberrationR: 0
- Clarity: +20
- ColorNoiseReduction: 0
- Contrast: 0
- ConvertToGrayscale: False
- Defringe: 2
- Exposure: 0.00
- FillLight: 0
- GrainAmount: 0
- GreenHue: 0
- GreenSaturation: 0
- HasCrop: False
- HasSettings: True
- HighlightRecovery: 20
- HueAdjustmentAqua: 0
- HueAdjustmentBlue: 0
- HueAdjustmentGreen: 0
- HueAdjustmentMagenta: 0
- HueAdjustmentOrange: 0
- HueAdjustmentPurple: 0
- HueAdjustmentRed: 0
- HueAdjustmentYellow: 0
- IncrementalTemperature: 0
- IncrementalTint: 0
- LensManualDistortionAmount: 0
- LensProfileEnable: 0
- LensProfileSetup: LensDefaults
- LuminanceAdjustmentAqua: 0
- LuminanceAdjustmentBlue: 0
- LuminanceAdjustmentGreen: 0
- LuminanceAdjustmentMagenta: 0
- LuminanceAdjustmentOrange: 0
- LuminanceAdjustmentPurple: 0
- LuminanceAdjustmentRed: 0
- LuminanceAdjustmentYellow: 0
- LuminanceSmoothing: 0
- ParametricDarks: 0
- ParametricHighlightSplit: 75
- ParametricHighlights: 0
- ParametricLights: 0
- ParametricMidtoneSplit: 50
- ParametricShadowSplit: 25
- ParametricShadows: 0
- PerspectiveHorizontal: 0
- PerspectiveRotate: 0.0
- PerspectiveScale: 100
- PerspectiveVertical: 0
- PostCropVignetteAmount: 0
- ProcessVersion: 5.7
- RedHue: 0
- RedSaturation: 0
- Saturation: +20
- SaturationAdjustmentAqua: 0
- SaturationAdjustmentBlue: 0
- SaturationAdjustmentGreen: 0
- SaturationAdjustmentMagenta: 0
- SaturationAdjustmentOrange: 0
- SaturationAdjustmentPurple: 0
- SaturationAdjustmentRed: 0
- SaturationAdjustmentYellow: 0
- ShadowTint: 0
- Shadows: 0
- SharpenDetail: 25
- SharpenEdgeMasking: 0
- SharpenRadius: +1.0
- Sharpness: 9
- SplitToningBalance: 0
- SplitToningHighlightHue: 0
- SplitToningHighlightSaturation: 0
- SplitToningShadowHue: 0
- SplitToningShadowSaturation: 0
- ToneCurve: 0, 0, 255, 255
- ToneCurveName: Linear
- Version: 6.2
- Vibrance: +9
- VignetteAmount: 0
- WhiteBalance: As Shot
- XMP-exif
- DateTimeDigitized: 2014:03:27 14:56:32+03:00
- DateTimeOriginal: 2014:03:27 14:56:32+03:00
- ExifImageHeight: 3000
- ExifImageWidth: 4000
- FlashFired: False
- FlashFunction: False
- FlashMode: Off
- FlashRedEyeMode: False
- FlashReturn: No return detection
- XMP-tiff
- ImageHeight: 3000
- ImageWidth: 4000
- XMP-x
- XMP-xmp
- CreateDate: 2014:03:27 14:56:32+03:00
- ModifyDate: 2014:04:15 22:55:33+03:00
- Просмотров: 265
- Рейтинг: голосов еще нет
- Отзывов: 0