- Раздел: Другое, разное
- Дата съёмки: 16.05.2014 08:59
- Дата загрузки фото: 16.05.2014 11:35
- Оригинальная фотография: 4392 x 3096 (7,4 Мб)
- Технические характеристики:
- Фотоаппарат: Canon EOS 500D
- Выдержка: 1/250
- Гиперфокальное расстояние: inf m
- Диафрагма: 5,6
- Светочувствительность: 100
- Фокусное расстояние: 250,0 mm (35 mm equivalent: 250,0 mm)
- Экспокоррекция: -1/3
- Полный EXIF
- Adobe
- ColorTransform: YCbCr
- Composite
- Aperture: 5,6
- CircleOfConfusion: 0,018 mm
- FOV: 8,0 deg
- FocalLength35efl: 250,0 mm (35 mm equivalent: 250,0 mm)
- HyperfocalDistance: inf m
- LensID: Canon EF-S 55-250mm f/4-5.6 IS
- ScaleFactor35efl: 1,7
- ShutterSpeed: 1/250
- ExifIFD
- ApertureValue: 5,6
- ColorSpace: sRGB
- CreateDate: 2014:05:16 08:59:53
- CustomRendered: Normal
- DateTimeOriginal: 2014:05:16 08:59:53
- ExifImageHeight: 3096
- ExifImageWidth: 4392
- ExposureCompensation: -1/3
- ExposureMode: Auto
- ExposureProgram: Aperture-priority AE
- ExposureTime: 1/250
- FNumber: 5,6
- Flash: Off, Did not fire
- FocalLength: 250,0 mm
- ISO: 100
- LensInfo: 55-250mm f/?
- LensModel: EF-S55-250mm f/4-5.6 IS
- MaxApertureValue: 5,7
- MeteringMode: Multi-segment
- OwnerName: Vladimir Cherkashin
- SceneCaptureType: Standard
- SerialNumber: 580123018
- ShutterSpeedValue: 1/250
- WhiteBalance: Auto
- ICC-header
- ICC-meas
- ICC-view
- IFD0
- Artist: Photographer: CherVA@
- Copyright: CherVA@
- Make: Canon
- Model: Canon EOS 500D
- ModifyDate: 2014:05:16 07:12:24
- Orientation: Horizontal (normal)
- IFD1
- IPTC
- By-line: Photographer: CherVA@
- CopyrightNotice: CherVA@
- DateCreated: 2014:05:16
- System
- XMP-aux
- ApproximateFocusDistance: 2,28
- Firmware: 1.1.1
- FlashCompensation: 0
- ImageNumber: 0
- Lens: EF-S55-250mm f/4-5.6 IS
- LensID: 49
- XMP-crs
- AlreadyApplied: True
- AutoLateralCA: 0
- Blacks2012: -31
- BlueHue: 0
- BlueSaturation: 0
- Clarity2012: +10
- ColorNoiseReduction: 0
- ColorTemperature: 4050
- Contrast2012: +36
- ConvertToGrayscale: False
- DefringeGreenAmount: 0
- DefringeGreenHueHi: 60
- DefringeGreenHueLo: 40
- DefringePurpleAmount: 0
- DefringePurpleHueHi: 70
- DefringePurpleHueLo: 30
- Exposure2012: +0.15
- GrainAmount: 0
- GreenHue: 0
- GreenSaturation: 0
- HasCrop: False
- HasSettings: True
- Highlights2012: -55
- HueAdjustmentAqua: 0
- HueAdjustmentBlue: 0
- HueAdjustmentGreen: 0
- HueAdjustmentMagenta: 0
- HueAdjustmentOrange: 0
- HueAdjustmentPurple: 0
- HueAdjustmentRed: 0
- HueAdjustmentYellow: 0
- LensManualDistortionAmount: 0
- LensProfileEnable: 0
- LensProfileSetup: LensDefaults
- LuminanceAdjustmentAqua: 0
- LuminanceAdjustmentBlue: 0
- LuminanceAdjustmentGreen: 0
- LuminanceAdjustmentMagenta: 0
- LuminanceAdjustmentOrange: 0
- LuminanceAdjustmentPurple: 0
- LuminanceAdjustmentRed: 0
- LuminanceAdjustmentYellow: 0
- LuminanceSmoothing: 0
- ParametricDarks: 0
- ParametricHighlightSplit: 75
- ParametricHighlights: 0
- ParametricLights: 0
- ParametricMidtoneSplit: 50
- ParametricShadowSplit: 25
- ParametricShadows: 0
- PerspectiveHorizontal: 0
- PerspectiveRotate: 0.0
- PerspectiveScale: 100
- PerspectiveVertical: 0
- PostCropVignetteAmount: 0
- ProcessVersion: 6.7
- RawFileName: IMG_4339.CR2
- RedHue: 0
- RedSaturation: 0
- Saturation: -2
- SaturationAdjustmentAqua: 0
- SaturationAdjustmentBlue: 0
- SaturationAdjustmentGreen: 0
- SaturationAdjustmentMagenta: 0
- SaturationAdjustmentOrange: 0
- SaturationAdjustmentPurple: 0
- SaturationAdjustmentRed: 0
- SaturationAdjustmentYellow: 0
- ShadowTint: 0
- Shadows2012: 0
- SharpenDetail: 18
- SharpenEdgeMasking: 8
- SharpenRadius: +0.5
- Sharpness: 25
- SplitToningBalance: 0
- SplitToningHighlightHue: 0
- SplitToningHighlightSaturation: 0
- SplitToningShadowHue: 0
- SplitToningShadowSaturation: 0
- Tint: -6
- ToneCurveName2012: Linear
- ToneCurvePV2012: 0, 0, 255, 255
- ToneCurvePV2012Blue: 0, 0, 255, 255
- ToneCurvePV2012Green: 0, 0, 255, 255
- ToneCurvePV2012Red: 0, 0, 255, 255
- Version: 7.3
- Vibrance: -3
- VignetteAmount: 0
- WhiteBalance: Custom
- Whites2012: 0
- XMP-dc
- Creator: Photographer: CherVA@
- Format: image/jpeg
- Rights: CherVA@
- XMP-xmp
- ModifyDate: 2014:05:16 07:12:24Z
- Rating: 0
- XMP-xmpMM