» Участники » Nazar » Электроника, самоделки » НВ-1 0,2 и НВ-1 0,75 ОАО "Беларускабель" |
НВ-1 0,2 и НВ-1 0,75 ОАО "Беларускабель" |
![](img/title-line.gif) |
![](img/title-shadow.gif) | |
НВ-1 0,2 и НВ-1 0,75 ОАО "Беларускабель"
Так как я собираю электронные конструкции на макетных платах под пайку то имеется необходимость в монтажном проводе. Провод нужен разных диаметров. Более тонкий для слаботочных цепей и потолще там где ток будет значительным.
Ранее как монтажный использовал эмальпровод обжигая с него предварительно лак с последующим травлением оксида. С последующим лужением. Даже облуживалку было специальную сделал: https://ixbt.photo/?id=photo:1474722. Однако пользоваться ею не сильно удобно да и процесс занимает время. Как и сама подготовка провода.
Поэтому покопавшись в инете нашел готовый медный луженый монтажный провод разного диаметра. Совсем без изоляции такого не нашел (а ведь он должен быть потому как перемычки на заводах на платах надо из чего-то делать). И поэтому взял с ПВХ изоляцией.
Специально купил провод поновее чтоб снизить риск окисления поверхности от хранения. НВ-1 0,2 на снимке изготовлен в октябре 2022-го, НВ-1 0,75 - в июле 2016-го. При зачистке жила в обеих оказалась довольно-таки светлой.
Однако при пайке все-таки приходится поводить хорошо паяльником. Потому как аж настолько легко как самодельный свежеоблуженый этот провод не паяется. Лучше дело обстоит если брать канифоль с активатором (растворил такой небольшое количество в спирте). С чистой канифолью нужно больше времени. Но, тем не менее, работать можно.
Провода издают слабый химический такой запах. Если принюхаться то он сильнее и ощущается сладковатым таким, запах отчасти приятен.
- Раздел: Хобби
- Дата съёмки: неизвестно
- Дата загрузки фото: 28.05.2023 01:45
- Оригинальная фотография: 3224 x 3074 (4,5 Мб)
- Технические характеристики:
- Фотоаппарат: Canon EOS 600D
- Выдержка: 0,0
- Гиперфокальное расстояние: inf m
- Диафрагма: 14,0
- Светочувствительность: 400
- Фокусное расстояние: 45,0 mm (35 mm equivalent: 45,0 mm)
- Полный EXIF
- Adobe
- ColorTransform: YCbCr
- Composite
- Aperture: 14,0
- CircleOfConfusion: 0,019 mm
- FOV: 43,0 deg
- FocalLength35efl: 45,0 mm (35 mm equivalent: 45,0 mm)
- HyperfocalDistance: inf m
- LensID: Canon EF-S 18-55mm f/3.5-5.6 IS II
- Megapixels: 9,9
- ScaleFactor35efl: 1,6
- ShutterSpeed: 0,0
- ExifIFD
- ApertureValue: 11,3
- ColorSpace: sRGB
- CreateDate: 2023:05:28 00:43:49
- CustomRendered: Normal
- DateTimeOriginal: 2023:05:28 00:43:49
- ExposureCompensation: 0
- ExposureMode: Manual
- ExposureProgram: Manual
- ExposureTime: 0,0
- FNumber: 14,0
- Flash: On, Fired
- FocalLength: 45,0 mm
- ISO: 400
- LensInfo: 18-55mm f/?
- LensModel: EF-S18-55mm f/3.5-5.6 IS II
- LensSerialNumber: 000030fbf1
- MaxApertureValue: 4,0
- MeteringMode: Multi-segment
- RecommendedExposureIndex: 400
- SceneCaptureType: Standard
- SensitivityType: Recommended Exposure Index
- SerialNumber: 248076176521
- ShutterSpeedValue: 1/64
- WhiteBalance: Auto
- ICC-header
- ICC-meas
- ICC-view
- IFD0
- Make: Canon
- Model: Canon EOS 600D
- ModifyDate: 2023:05:28 01:16:36
- IFD1
- IPTC
- DateCreated: 2023:05:28
- System
- XMP-aux
- ApproximateFocusDistance: 0,93
- Firmware: 1.0.2
- FlashCompensation: 0
- ImageNumber: 0
- Lens: EF-S18-55mm f/3.5-5.6 IS II
- LensID: 52
- XMP-crs
- AlreadyApplied: True
- AutoLateralCA: 1
- AutoWhiteVersion: 134348800
- Blacks2012: 0
- BlueHue: 0
- BlueSaturation: 0
- CameraProfile: Embedded
- Clarity2012: 0
- ColorNoiseReduction: 20
- ColorNoiseReductionDetail: 50
- ColorNoiseReductionSmoothness: 50
- Contrast2012: +30
- ConvertToGrayscale: False
- CropAngle: 0
- CropBottom: 0.963121
- CropConstrainToWarp: 0
- CropLeft: 0.179584
- CropRight: 0.801512
- CropTop: 0.073759
- DefringeGreenAmount: 0
- DefringeGreenHueHi: 60
- DefringeGreenHueLo: 40
- DefringePurpleAmount: 0
- DefringePurpleHueHi: 70
- DefringePurpleHueLo: 30
- Dehaze: 0
- Exposure2012: +0.50
- GrainAmount: 0
- GreenHue: 0
- GreenSaturation: 0
- HasCrop: True
- HasSettings: True
- Highlights2012: 0
- HueAdjustmentAqua: 0
- HueAdjustmentBlue: 0
- HueAdjustmentGreen: 0
- HueAdjustmentMagenta: 0
- HueAdjustmentOrange: 0
- HueAdjustmentPurple: 0
- HueAdjustmentRed: 0
- HueAdjustmentYellow: 0
- IncrementalTemperature: 0
- IncrementalTint: 0
- LensManualDistortionAmount: 0
- LensProfileChromaticAberrationScale: 100
- LensProfileDistortionScale: 100
- LensProfileEnable: 1
- LensProfileFilename: Canon EOS 50D (Canon EF-S 18-55mm f3.5-5.6 IS).lcp
- LensProfileSetup: Custom
- LensProfileVignettingScale: 100
- LuminanceAdjustmentAqua: 0
- LuminanceAdjustmentBlue: 0
- LuminanceAdjustmentGreen: 0
- LuminanceAdjustmentMagenta: 0
- LuminanceAdjustmentOrange: 0
- LuminanceAdjustmentPurple: 0
- LuminanceAdjustmentRed: 0
- LuminanceAdjustmentYellow: 0
- LuminanceNoiseReductionContrast: 0
- LuminanceNoiseReductionDetail: 50
- LuminanceSmoothing: 20
- ParametricDarks: 0
- ParametricHighlightSplit: 75
- ParametricHighlights: 0
- ParametricLights: 0
- ParametricMidtoneSplit: 50
- ParametricShadowSplit: 25
- ParametricShadows: 0
- PerspectiveAspect: 0
- PerspectiveHorizontal: 0
- PerspectiveRotate: 0.0
- PerspectiveScale: 100
- PerspectiveUpright: 0
- PerspectiveVertical: 0
- PerspectiveX: 0.00
- PerspectiveY: 0.00
- PostCropVignetteAmount: 0
- ProcessVersion: 6.7
- RedHue: 0
- RedSaturation: 0
- Saturation: 0
- SaturationAdjustmentAqua: 0
- SaturationAdjustmentBlue: 0
- SaturationAdjustmentGreen: 0
- SaturationAdjustmentMagenta: 0
- SaturationAdjustmentOrange: 0
- SaturationAdjustmentPurple: 0
- SaturationAdjustmentRed: 0
- SaturationAdjustmentYellow: 0
- ShadowTint: 0
- Shadows2012: 0
- SharpenDetail: 25
- SharpenEdgeMasking: 0
- SharpenRadius: +1.0
- Sharpness: 20
- SplitToningBalance: 0
- SplitToningHighlightHue: 0
- SplitToningHighlightSaturation: 0
- SplitToningShadowHue: 0
- SplitToningShadowSaturation: 0
- ToneCurve: 0, 0, 255, 255
- ToneCurveBlue: 0, 0, 255, 255
- ToneCurveGreen: 0, 0, 255, 255
- ToneCurveName: Linear
- ToneCurveName2012: Linear
- ToneCurvePV2012: 0, 0, 255, 255
- ToneCurvePV2012Blue: 0, 0, 255, 255
- ToneCurvePV2012Green: 0, 0, 255, 255
- ToneCurvePV2012Red: 0, 0, 255, 255
- ToneCurveRed: 0, 0, 255, 255
- ToneMapStrength: 0
- Version: 9.7
- Vibrance: 0
- VignetteAmount: 0
- WhiteBalance: As Shot
- Whites2012: 0
- XMP-dc
- XMP-xmp
- CreateDate: 2023:05:28 00:43:49.14
- ModifyDate: 2023:05:28 01:16:36+03:00
- XMP-xmpMM
- Просмотров: 106
- Рейтинг: голосов еще нет
- Отзывов: 0
Получить код для блога
Вставка фотографии в текущем разрешении |
Вставка миниатюры |
HTML (для вставки в блог):
BBCode (для вставки в форум):
Ссылка на фото:
Ссылка на миниатюру:
- Послать ссылку другу
Комментарии к фотографии |