- Раздел: Другое, разное
- Дата съёмки: неизвестно
- Дата загрузки фото: 08.03.2024 15:39
- Оригинальная фотография: 3326 x 2209 (1018 Кб)
- Технические характеристики:
- Фотоаппарат: Nikon D300
- Выдержка: 0,0
- Гиперфокальное расстояние: inf m
- Диафрагма: 16,0
- Светочувствительность: 200
- Фокусное расстояние: 28,0 mm (35 mm equivalent: 28,0 mm)
- Экспокоррекция: +2
- Полный EXIF
- Composite
- Aperture: 16,0
- AutoFocus: Off
- BlueBalance: 1,152344
- CircleOfConfusion: 0,020 mm
- DOF: inf (0,00 m - inf)
- Flash: No Flash
- FocalLength35efl: 28,0 mm (35 mm equivalent: 28,0 mm)
- FOV: 65,0 deg
- HyperfocalDistance: inf m
- LensID: Manual Lens No CPU
- LensSpec: 0mm f/0 MF
- Megapixels: 7,3
- RedBalance: 1,535156
- ScaleFactor35efl: 1,5
- ShutterSpeed: 0,0
- ExifIFD
- ApertureValue: 16,0
- CFAPattern: [Red,Green][Green,Blue]
- ColorSpace: sRGB
- Contrast: Normal
- CreateDate: 2018:03:18 18:34:11
- CustomRendered: Normal
- DateTimeOriginal: 2018:03:18 18:34:11
- DigitalZoomRatio: 1
- ExifImageHeight: 2209
- ExifImageWidth: 3326
- ExposureCompensation: 0
- ExposureMode: Auto
- ExposureProgram: Aperture-priority AE
- ExposureTime: 0,0
- FNumber: 16,0
- FocalLength: 28,0 mm
- FocalLengthIn35mmFormat: 42 mm
- GainControl: None
- ISO: 200
- LightSource: Unknown
- MaxApertureValue: 1,0
- MeteringMode: Multi-segment
- Saturation: Normal
- SceneCaptureType: Standard
- SceneType: Directly photographed
- SensingMethod: One-chip color area
- Sharpness: Soft
- ShutterSpeedValue: 1/16
- SubjectDistanceRange: Unknown
- UserComment:
- WhiteBalance: Auto
- GPS
- IFD0
- Artist:
- Copyright:
- Make: NIKON CORPORATION
- Model: NIKON D300
- ModifyDate: 2024:03:07 21:05:25
- Orientation: Horizontal (normal)
- Rating: 0
- RatingPercent: 0
- Software: DxO PhotoLab 5.0
- TIFF-EPStandardID: 1 0 0 0
- IFD1
- Nikon
- ActiveD-Lighting: Off
- AFAperture: 1,0
- AFAreaMode: Single Area
- AFFineTune: On (1)
- AFFineTuneAdj: 0
- AFFineTuneIndex: n/a
- AFInfo2Version: 0100
- AFPointsUsed: (none)
- Brightness: Normal
- ContrastDetectAF: Off
- ContrastDetectAFInFocus: No
- CropHiSpeed: Off (4352x2868 cropped to 4352x2868 at pixel 0,0)
- DateDisplayFormat: D/M/Y
- DaylightSavings: No
- EffectiveMaxAperture: 2,8
- ExitPupilPosition: 0,0 mm
- ExposureBracketValue: 0
- ExposureDifference: 0
- ExposureTuning: 0
- ExternalFlashExposureComp: 0
- ExternalFlashFirmware: n/a
- ExternalFlashFlags: (none)
- FileInfoVersion: 0100
- FileNumber: 7360
- FilterEffect: n/a
- FirmwareVersion: 1.10B
- FlashColorFilter: None
- FlashCommanderMode: Off
- FlashCompensation: 0
- FlashControlMode: Off
- FlashExposureBracketValue: 0,0
- FlashExposureComp: 0
- FlashGNDistance: 0
- FlashGroupACompensation: 0
- FlashGroupAControlMode: Off
- FlashGroupBCompensation: 0
- FlashGroupBControlMode: Off
- FlashGroupCCompensation: 0
- FlashGroupCControlMode: Off
- FlashInfoVersion: 0103
- FlashMode: Did Not Fire
- FlashSetting: Normal
- FlashSource: None
- FlashType:
- FocalLength: 28,3 mm
- FocusDistance: 0,01 m
- FocusMode: Manual
- FocusPosition: 0x00
- HighISONoiseReduction: Off
- HueAdjustment: None
- ImageAuthentication: Off
- ISO2: 200
- ISOExpansion: Off
- ISOExpansion2: Off
- ISOSetting: 200
- Lens: 0mm f/0
- LensDataVersion: 0203
- LensFStops: 0,00
- LensIDNumber: 0
- LensType: MF
- MakerNoteVersion: 2.10
- MaxApertureAtMaxFocal: 1,0
- MaxApertureAtMinFocal: 1,0
- MaxFocalLength: 5,0 mm
- MCUVersion: 0
- MemoryCardNumber: 0
- MinFocalLength: 5,0 mm
- MultiExposureAutoGain: Off
- MultiExposureMode: Off
- MultiExposureShots: 0
- MultiExposureVersion: 0100
- NoiseReduction: Off
- PhaseDetectAF: Off
- PictureControlAdjust: Full Control
- PictureControlBase: Neutral
- PictureControlName: Neutral
- PictureControlQuickAdjust: n/a
- PictureControlVersion: 0100
- PowerUpTime: 2013:05:09 08:02:20
- PrimaryAFPoint: (none)
- ProgramShift: 0
- Quality: Fine
- SerialNumber: 4126041
- Sharpness: No Sharpening
- ShootingMode: Single-Frame
- ShotInfoVersion: 0210
- ShutterCount: 28200
- TimeZone: +03:00
- ToningEffect: n/a
- ToningSaturation: n/a
- VibrationReduction: Off
- VRInfoVersion: 0100
- VRMode: Normal
- WB_GRBGLevels: 256 393 295 256
- WB_RBLevels: 1,53515625 1,15234375 1 1
- WhiteBalanceFineTune: 0 0
- NikonCustom
- AELockButton: AE/AF Lock
- AELockButtonPlusDials: None
- AF-CPrioritySelection: Release
- AF-OnForMB-D10: AF-On
- AF-SPrioritySelection: Focus
- AFActivation: Shutter/AF-On
- AFAssist: On
- AFPointIllumination: Auto
- AFPointSelection: 51 Points
- AutoBracketModeM: Flash/Speed
- AutoBracketOrder: 0,-,+
- AutoBracketSet: AE & Flash
- BatteryOrder: MB-D10 First
- Beep: High
- CenterWeightedAreaSize: 8 mm
- CLModeShootingSpeed: 3 fps
- CommandDialsApertureSetting: Sub-command Dial
- CommandDialsChangeMainSub: Off
- CommandDialsMenuAndPlayback: Off
- CommandDialsReverseRotation: No
- CustomSettingsAllDefault: Yes
- CustomSettingsBank: A
- DynamicAFArea: 9 Points
- EasyExposureCompensation: Off
- ExposureCompStepSize: 1/3 EV
- ExposureControlStepSize: 1/3 EV
- ExposureDelayMode: Off
- FileNumberSequence: On
- FineTuneOptCenterWeighted: 0
- FineTuneOptMatrixMetering: 0
- FineTuneOptSpotMetering: 0
- FlashShutterSpeed: 1/60 s
- FlashSyncSpeed: 1/250 s
- FocusPointWrap: No Wrap
- FocusTrackingLockOn: Normal
- FuncButton: None
- FuncButtonPlusDials: Auto Bracketing
- GridDisplay: Off
- InitialZoomSetting: Low Magnification
- InternalFlash: TTL
- ISOStepSize: 1/3 EV
- LCDIllumination: Off
- MaxContinuousRelease: 100
- MB-D10Batteries: LR6 (AA alkaline)
- MeteringTime: 6 s
- ModelingFlash: On
- MonitorOffTime: 20 s
- MultiSelector: Do Nothing
- MultiSelectorPlaybackMode: Thumbnail On/Off
- MultiSelectorShootMode: Select Center Focus Point
- NoMemoryCard: Enable Release
- PhotoInfoPlayback: Info Up-down, Playback Left-right
- PreviewButton: Preview
- PreviewButtonPlusDials: None
- ReleaseButtonToUseDial: No
- ReverseIndicators: + 0 -
- SelfTimerTime: 10 s
- ShootingInfoDisplay: Auto
- ShutterReleaseButtonAE-L: Off
- ViewfinderWarning: On
- System
- XMP-aux
- ImageNumber: 28200
- Lens: 0.0 mm f/0.0
- LensInfo: 0mm f/0
- XMP-crd
- CameraProfile: Camera NEUTRAL
- LookName:
- XMP-crs
- AlreadyApplied: True
- AutoLateralCA: 0
- Blacks2012: -52
- BlueHue: 0
- BlueSaturation: 0
- Clarity2012: +13
- ColorNoiseReduction: 34
- ColorNoiseReductionDetail: 50
- ColorNoiseReductionSmoothness: 50
- ColorTemperature: 4650
- Contrast2012: 0
- ConvertToGrayscale: False
- CropAngle: -1.58
- CropBottom: 0.915777
- CropConstrainToWarp: 0
- CropHeight: 0.96
- CropLeft: 0.055491
- CropRight: 0.988045
- CropTop: 0.038032
- CropUnit: Unknown (3)
- CropWidth: 1.446
- DefringeGreenAmount: 0
- DefringeGreenHueHi: 60
- DefringeGreenHueLo: 40
- DefringePurpleAmount: 0
- DefringePurpleHueHi: 70
- DefringePurpleHueLo: 30
- Dehaze: +16
- Exposure2012: -0.15
- GrainAmount: 0
- GreenHue: 0
- GreenSaturation: 0
- HasCrop: True
- HasSettings: True
- Highlights2012: 0
- HueAdjustmentAqua: 0
- HueAdjustmentBlue: 0
- HueAdjustmentGreen: 0
- HueAdjustmentMagenta: 0
- HueAdjustmentOrange: 0
- HueAdjustmentPurple: 0
- HueAdjustmentRed: 0
- HueAdjustmentYellow: 0
- LensManualDistortionAmount: 0
- LensProfileEnable: 0
- LensProfileSetup: LensDefaults
- LookAmount: 1.000000
- LookGroup: Profiles
- LookParametersConvertToGrayscale: False
- LookParametersLookTable: E1095149FDB39D7A057BAB208837E2E1
- LookParametersProcessVersion: 11.0
- LookParametersToneCurvePV2012: 0, 0, 22, 16, 40, 35, 127, 127, 224, 230, 240, 246, 255, 255
- LookParametersToneCurvePV2012Blue: 0, 0, 255, 255
- LookParametersToneCurvePV2012Green: 0, 0, 255, 255
- LookParametersToneCurvePV2012Red: 0, 0, 255, 255
- LookParametersVersion: 12.4
- LookSupportsAmount: false
- LookSupportsMonochrome: false
- LookSupportsOutputReferred: false
- LuminanceAdjustmentAqua: 0
- LuminanceAdjustmentBlue: 0
- LuminanceAdjustmentGreen: 0
- LuminanceAdjustmentMagenta: 0
- LuminanceAdjustmentOrange: 0
- LuminanceAdjustmentPurple: 0
- LuminanceAdjustmentRed: 0
- LuminanceAdjustmentYellow: 0
- LuminanceNoiseReductionContrast: 0
- LuminanceNoiseReductionDetail: 50
- LuminanceSmoothing: 37
- OverrideLookVignette: False
- ParametricDarks: 0
- ParametricHighlights: 0
- ParametricHighlightSplit: 75
- ParametricLights: 0
- ParametricMidtoneSplit: 50
- ParametricShadows: 0
- ParametricShadowSplit: 25
- PerspectiveAspect: 0
- PerspectiveHorizontal: 0
- PerspectiveRotate: 0.0
- PerspectiveScale: 100
- PerspectiveUpright: 0
- PerspectiveVertical: 0
- PerspectiveX: 0.00
- PerspectiveY: 0.00
- PostCropVignetteAmount: 0
- ProcessVersion: 11.0
- RedHue: 0
- RedSaturation: 0
- Saturation: +35
- SaturationAdjustmentAqua: 0
- SaturationAdjustmentBlue: 0
- SaturationAdjustmentGreen: 0
- SaturationAdjustmentMagenta: 0
- SaturationAdjustmentOrange: 0
- SaturationAdjustmentPurple: 0
- SaturationAdjustmentRed: 0
- SaturationAdjustmentYellow: 0
- Shadows2012: +100
- ShadowTint: 0
- SharpenDetail: 25
- SharpenEdgeMasking: 0
- SharpenRadius: +1.0
- Sharpness: 40
- SplitToningBalance: 0
- SplitToningHighlightHue: 0
- SplitToningHighlightSaturation: 0
- SplitToningShadowHue: 0
- SplitToningShadowSaturation: 0
- Texture: 0
- Tint: -21
- ToneCurve: 0, 0, 32, 22, 64, 56, 128, 128, 192, 196, 255, 255
- ToneCurveBlue: 0, 0, 255, 255
- ToneCurveGreen: 0, 0, 255, 255
- ToneCurveName: Medium Contrast
- ToneCurveName2012: Linear
- ToneCurvePV2012: 0, 0, 255, 255
- ToneCurvePV2012Blue: 0, 0, 255, 255
- ToneCurvePV2012Green: 0, 0, 255, 255
- ToneCurvePV2012Red: 0, 0, 255, 255
- ToneCurveRed: 0, 0, 255, 255
- ToneMapStrength: 0
- Version: 12.4
- Vibrance: -27
- VignetteAmount: 0
- WhiteBalance: Custom
- Whites2012: -100
- XMP-dc
- Format: image/x-nikon-nef
- XMP-exif
- DateTimeOriginal: 2018:03:18 18:34:11.74+00:00
- ExposureCompensation: +2
- ExposureTime: 1,0
- FlashFired: False
- FlashFunction: False
- FlashMode: Unknown
- FlashRedEyeMode: False
- FlashReturn: No return detection
- FNumber: 16 / 1
- FocalLength: 280,0 mm
- ShutterSpeedValue: 1/30
- XMP-tiff
- XMP-x
- XMP-xmp
- CreateDate: 2018:03:18 18:34:11.74
- CreatorTool: DxO PhotoLab 5.0
- ModifyDate: 2024:03:07 21:05:25+03:00
- XMP-xmpMM
- Просмотров: 21
- Рейтинг: голосов еще нет
- Отзывов: отключены