ЭТШ-1
Давненько уже бывало хотелось себе нормальное точило. Сперва думал сделать более мощное нежели ранее самодельное, тоже на основе мотора и камня. Однако подумав решил все же купить готовое. Потому что и подручники будут, и корпус готовый.
Сперва посматривал на современные точила с двумя камнями от именитых брендов (Макита, Бош, Метабо) и гораздо более дешевые китайские. И выяснилось что даже у фирменных дорогих точил с заявленной мощностью в районе полкиловатта камни раскручиваются как-то вяло. И роторы у электродвигателей таких точил для заявленной мощности все равно мелкие (разве что у Боша возможно иначе, не припомню уже видел ли его точила в разборе).
Потом поискал советские бытовые точильные станки. Оказалось они вполне доступны и по хорошим довольно ценам - если с брендовыми точилами сравнивать. Однако имеют малое время непрерывной работы. Собственно как и дорогущие фирменные точильные станки. Только за станки от Макиты жалоб на перегрев не видел в сети...
В конце-концов мне попались на инет-барахолках вот такие советские школьные точила. На основе уже полноценного промышленного электродвигателя, с точно честной мощностью и рассчитанного на работу в режиме S1 (длительную). Да еще и по цене в около два раза дешевле фирменных электроточил.
Подумав, подумав решил и приобрести себе такой станок. Который оказался еще и доработан под установку второго камня. Камень до максимальных оборотов мотор раскручивает за время менее секунды). И остановить мне его так и не удалось. Хоть я и давил сильно в торец камня толстым болтом.
И это при том что электродвигатель работает только в двухфазном режиме, с фазосдвигающим конденсатором (установлена пара кондеров параллельно 10 и 25мкФ, проверял также работу с конденсатором 30мкФ который по расчетам для 550Вт мотора больше подходит).
Как оказалось, даже без нагрузки асинхронник станка немало жрет, целых 217Вт при 235Вт питающего напряжения. Думал может с мотором что-то не то, но и имеющийся менее мощный мотор такого же типа тоже потребляет немало, около 100Вт. Все это активная мощность, измерявшаяся с помощью ваттметра. Я и не думал что на холостом ходу асинхронные двигатели столько активной мощности потребляют. Почему-то считал что они сродни трансформаторам без нагрузки - потери мощности идут только на перемагничивание железа, активное сопротивление обмоток и преодоление трения... Но я ошибся.
И, соответственно, куда-то эти 200Вт надо отвести... Подержав вкюченным точило заметил быстрый нагрев корпуса электродвигателя, до 71°C за 19 минут. Дольше не проверял. Поэтому надо будет либо долго не работать, либо таки поставить вместо второго отрезного круга от болгарки вентилятор и кожух. Наверное так и сделаю.
В целом станочек мне понравился несмотря на шумность мотора (надо будет в его подшипники еще глянуть). Из-за капитальности и основательности изготовления, а также из-за мощности). Корпус станка отлит из алюминия либо его сплава и окрашен серебрянкой.
Родной трансформатор 380/36В уже был кем-то снят и для освещения установлена 8Вт светодиодная лампа от Philips. Думал было сперва установить трансформатор 230/36 и лампу МО 36 поставить. Однако уж очень мне 4000К свет от светодиодной лампы понравился. Поэтому оставил все как есть.
- Раздел: Другое, разное
- Дата съёмки: неизвестно
- Дата загрузки фото: 09.05.2024 16:56
- Оригинальная фотография: 5184 x 3456 (6,7 Мб)
- Технические характеристики:
- Фотоаппарат: Canon EOS 600D
- Выдержка: 0,0
- Гиперфокальное расстояние: inf m
- Диафрагма: 14,0
- Светочувствительность: 400
- Фокусное расстояние: 25,0 mm (35 mm equivalent: 25,0 mm)
- Полный EXIF
- Adobe
- ColorTransform: YCbCr
- Composite
- Aperture: 14,0
- CircleOfConfusion: 0,019 mm
- FocalLength35efl: 25,0 mm (35 mm equivalent: 25,0 mm)
- FOV: 71,0 deg
- HyperfocalDistance: inf m
- LensID: Canon EF-S 18-55mm f/3.5-5.6 IS II
- Megapixels: 17,9
- ScaleFactor35efl: 1,6
- ShutterSpeed: 0,0
- ExifIFD
- ApertureValue: 11,3
- ColorSpace: sRGB
- CreateDate: 2024:05:02 21:38:03
- CustomRendered: Normal
- DateTimeOriginal: 2024:05:02 21:38:03
- ExposureCompensation: 0
- ExposureMode: Manual
- ExposureProgram: Manual
- ExposureTime: 0,0
- Flash: On, Fired
- FNumber: 14,0
- FocalLength: 25,0 mm
- ISO: 400
- LensInfo: 18-55mm f/?
- LensModel: EF-S18-55mm f/3.5-5.6 IS II
- LensSerialNumber: 000030fbf1
- MaxApertureValue: 4,0
- MeteringMode: Multi-segment
- RecommendedExposureIndex: 400
- SceneCaptureType: Standard
- SensitivityType: Recommended Exposure Index
- SerialNumber: 248076176521
- ShutterSpeedValue: 1/64
- WhiteBalance: Auto
- ICC-header
- ICC-meas
- ICC-view
- IFD0
- Make: Canon
- Model: Canon EOS 600D
- ModifyDate: 2024:05:09 16:30:28
- IFD1
- IPTC
- DateCreated: 2024:05:02
- System
- XMP-aux
- ApproximateFocusDistance: 0,93
- Firmware: 1.0.2
- FlashCompensation: 0,333333333333333
- ImageNumber: 0
- Lens: EF-S18-55mm f/3.5-5.6 IS II
- LensID: 52
- XMP-crs
- AlreadyApplied: True
- AutoLateralCA: 1
- AutoWhiteVersion: 134348800
- Blacks2012: 0
- BlueHue: 0
- BlueSaturation: 0
- CameraProfile: Embedded
- Clarity2012: 0
- ColorNoiseReduction: 20
- ColorNoiseReductionDetail: 50
- ColorNoiseReductionSmoothness: 50
- Contrast2012: 0
- ConvertToGrayscale: False
- DefringeGreenAmount: 0
- DefringeGreenHueHi: 60
- DefringeGreenHueLo: 40
- DefringePurpleAmount: 0
- DefringePurpleHueHi: 70
- DefringePurpleHueLo: 30
- Dehaze: 0
- Exposure2012: +0.10
- GrainAmount: 0
- GreenHue: 0
- GreenSaturation: 0
- HasCrop: False
- HasSettings: True
- Highlights2012: 0
- HueAdjustmentAqua: 0
- HueAdjustmentBlue: 0
- HueAdjustmentGreen: 0
- HueAdjustmentMagenta: 0
- HueAdjustmentOrange: 0
- HueAdjustmentPurple: 0
- HueAdjustmentRed: 0
- HueAdjustmentYellow: 0
- IncrementalTemperature: 0
- IncrementalTint: 0
- LensManualDistortionAmount: 0
- LensProfileEnable: 0
- LensProfileSetup: LensDefaults
- LuminanceAdjustmentAqua: 0
- LuminanceAdjustmentBlue: 0
- LuminanceAdjustmentGreen: 0
- LuminanceAdjustmentMagenta: 0
- LuminanceAdjustmentOrange: 0
- LuminanceAdjustmentPurple: 0
- LuminanceAdjustmentRed: 0
- LuminanceAdjustmentYellow: 0
- LuminanceNoiseReductionContrast: 0
- LuminanceNoiseReductionDetail: 50
- LuminanceSmoothing: 20
- ParametricDarks: 0
- ParametricHighlights: 0
- ParametricHighlightSplit: 75
- ParametricLights: 0
- ParametricMidtoneSplit: 50
- ParametricShadows: 0
- ParametricShadowSplit: 25
- PerspectiveAspect: 0
- PerspectiveHorizontal: 0
- PerspectiveRotate: 0.0
- PerspectiveScale: 100
- PerspectiveUpright: 0
- PerspectiveVertical: 0
- PerspectiveX: 0.00
- PerspectiveY: 0.00
- PostCropVignetteAmount: 0
- ProcessVersion: 6.7
- RedHue: 0
- RedSaturation: 0
- Saturation: 0
- SaturationAdjustmentAqua: 0
- SaturationAdjustmentBlue: 0
- SaturationAdjustmentGreen: 0
- SaturationAdjustmentMagenta: 0
- SaturationAdjustmentOrange: 0
- SaturationAdjustmentPurple: 0
- SaturationAdjustmentRed: 0
- SaturationAdjustmentYellow: 0
- Shadows2012: 0
- ShadowTint: 0
- SharpenDetail: 25
- SharpenEdgeMasking: 0
- SharpenRadius: +1.0
- Sharpness: 50
- SplitToningBalance: 0
- SplitToningHighlightHue: 0
- SplitToningHighlightSaturation: 0
- SplitToningShadowHue: 0
- SplitToningShadowSaturation: 0
- ToneCurve: 0, 0, 255, 255
- ToneCurveBlue: 0, 0, 255, 255
- ToneCurveGreen: 0, 0, 255, 255
- ToneCurveName: Linear
- ToneCurveName2012: Linear
- ToneCurvePV2012: 0, 0, 255, 255
- ToneCurvePV2012Blue: 0, 0, 255, 255
- ToneCurvePV2012Green: 0, 0, 255, 255
- ToneCurvePV2012Red: 0, 0, 255, 255
- ToneCurveRed: 0, 0, 255, 255
- ToneMapStrength: 0
- Version: 9.7
- Vibrance: 0
- VignetteAmount: 0
- WhiteBalance: As Shot
- Whites2012: 0
- XMP-dc
- XMP-xmp
- CreateDate: 2024:05:02 21:38:03.01
- ModifyDate: 2024:05:09 16:30:28+03:00
- XMP-xmpMM
- Просмотров: 25
- Рейтинг: голосов еще нет
- Отзывов: 0
Получить код для блога
Вставка фотографии в текущем разрешении |
Вставка миниатюры |
HTML (для вставки в блог):
BBCode (для вставки в форум):
Ссылка на фото:
Ссылка на миниатюру:
- Послать ссылку другу
Комментарии к фотографии |