- Раздел: Другое, разное
- Дата съёмки: 01.04.2009 19:33
- Дата загрузки фото: 09.09.2009 20:23
- Оригинальная фотография: 900 x 600 (218 Кб)
- Технические характеристики:
- Фотоаппарат: Canon EOS 5D
- Выдержка: 1/15
- Гиперфокальное расстояние: 9,36 m
- Диафрагма: 5,0
- Фокусное расстояние: 17,0 mm (35 mm equivalent: 82,7 mm)
- Экспокоррекция: +1
- Полный EXIF
- Adobe
- ColorTransform: YCbCr
- Composite
- Aperture: 5,0
- CircleOfConfusion: 0,006 mm
- FOV: 24,0 deg
- FocalLength35efl: 17,0 mm (35 mm equivalent: 82,7 mm)
- HyperfocalDistance: 9,36 m
- ScaleFactor35efl: 4,9
- ShutterSpeed: 1/15
- ExifIFD
- ApertureValue: 5,0
- ColorSpace: sRGB
- CreateDate: 2009:04:01 12:33:00
- CustomRendered: Normal
- DateTimeOriginal: 2009:04:01 12:33:00
- ExifImageHeight: 600
- ExifImageWidth: 900
- ExposureCompensation: +1
- ExposureMode: Auto
- ExposureProgram: Aperture-priority AE
- ExposureTime: 1/15
- FNumber: 5,0
- Flash: Off
- FocalLength: 17,0 mm
- MaxApertureValue: 4,0
- MeteringMode: Multi-segment
- SceneCaptureType: Standard
- ShutterSpeedValue: 1/15
- WhiteBalance: Manual
- ICC-header
- ICC-meas
- ICC-view
- IFD0
- Artist: Alexander Zhiltsov
- Copyright: Alexander Zhiltsov
- ImageDescription: bench near Novosibirsk theater "Krasnii fakel"
- Make: Canon
- Model: Canon EOS 5D
- ModifyDate: 2009:04:09 19:22:21
- Orientation: Horizontal (normal)
- IFD1
- IPTC
- By-line: Alexander Zhiltsov
- By-lineTitle: Photographer
- Caption-Abstract: bench near Novosibirsk theater "Krasnii fakel"
- CopyrightNotice: Alexander Zhiltsov
- Keywords: russia, town, travel, novosibirsk, yellow, building, architecture, city, siberia, outdoors, sky, construction, exterior, view, russian, federation, theater, night, structure, urban, lights, twilight, lluminated, dusk, street, bench
- ObjectName: bench
- XMP-aux
- Firmware: 1.1.1
- FlashCompensation: 0
- ImageNumber: 18
- Lens: EF17-40mm f/4L USM
- LensInfo: 17/1 40/1 0/0 0/0
- OwnerName: Alexander Zhiltsov
- SerialNumber: 3131305379
- XMP-crs
- AlreadyApplied: True
- BlueHue: 0
- BlueSaturation: 0
- Brightness: +50
- CameraProfile: ACR 4.4
- ChromaticAberrationB: 0
- ChromaticAberrationR: 0
- Clarity: +57
- ColorNoiseReduction: 25
- Contrast: +25
- ConvertToGrayscale: False
- Defringe: 0
- Exposure: +0.19
- FillLight: 0
- GreenHue: 0
- GreenSaturation: 0
- HasCrop: False
- HasSettings: True
- HighlightRecovery: 100
- HueAdjustmentAqua: 0
- HueAdjustmentBlue: 0
- HueAdjustmentGreen: 0
- HueAdjustmentMagenta: 0
- HueAdjustmentOrange: 0
- HueAdjustmentPurple: 0
- HueAdjustmentRed: 0
- HueAdjustmentYellow: 0
- LuminanceAdjustmentAqua: 0
- LuminanceAdjustmentBlue: 0
- LuminanceAdjustmentGreen: 0
- LuminanceAdjustmentMagenta: 0
- LuminanceAdjustmentOrange: 0
- LuminanceAdjustmentPurple: 0
- LuminanceAdjustmentRed: 0
- LuminanceAdjustmentYellow: 0
- LuminanceSmoothing: 0
- ParametricDarks: 0
- ParametricHighlightSplit: 75
- ParametricHighlights: 0
- ParametricLights: 0
- ParametricMidtoneSplit: 50
- ParametricShadowSplit: 25
- ParametricShadows: 0
- PostCropVignetteAmount: 0
- RedHue: 0
- RedSaturation: 0
- Saturation: +7
- SaturationAdjustmentAqua: 0
- SaturationAdjustmentBlue: 0
- SaturationAdjustmentGreen: 0
- SaturationAdjustmentMagenta: 0
- SaturationAdjustmentOrange: 0
- SaturationAdjustmentPurple: 0
- SaturationAdjustmentRed: 0
- SaturationAdjustmentYellow: 0
- ShadowTint: 0
- Shadows: 5
- SharpenDetail: 25
- SharpenEdgeMasking: 0
- SharpenRadius: +1.0
- Sharpness: 25
- SplitToningBalance: 0
- SplitToningHighlightHue: 0
- SplitToningHighlightSaturation: 0
- SplitToningShadowHue: 0
- SplitToningShadowSaturation: 0
- Temperature: 4800
- Tint: 0
- ToneCurve: 0, 0, 32, 22, 64, 56, 128, 128, 192, 196, 255, 255
- ToneCurveName: Medium Contrast
- Version: 4.6
- Vibrance: +7
- VignetteAmount: 0
- WhiteBalance: As Shot
- XMP-dc
- Creator: Alexander Zhiltsov
- Description: bench near Novosibirsk theater "Krasnii fakel"
- Format: image/jpeg
- Rights: Alexander Zhiltsov
- Subject: russia, town, travel, novosibirsk, yellow, building, architecture, city, siberia, outdoors, sky, construction, exterior, view, russian, federation, theater, night, structure, urban, lights, twilight, lluminated, dusk, street, bench
- Title: bench
- XMP-exif
- DateTimeDigitized: 2009:04:01 12:33:00+07:00
- DateTimeOriginal: 2009:04:01 12:33:00+07:00
- FlashFired: False
- FlashFunction: False
- FlashMode: Off
- FlashRedEyeMode: False
- FlashReturn: No return detection
- XMP-iptcCore
- CreatorContactInfoCiAdrCity: Novosibirsk
- CreatorContactInfoCiAdrCtry: Russia
- CreatorContactInfoCiEmailWork: azhiltsov@gmail.com
- CreatorContactInfoCiTelWork: 89139422642
- XMP-tiff
- XMP-xmp
- CreateDate: 2009:04:01 19:33:06+07:00
- ModifyDate: 2009:04:09 19:22:21+07:00
- XMP-xmpMM
- XMP-xmpRights
- Просмотров: 603
- Рейтинг: голосов еще нет
- Отзывов: 0