- Раздел: Портрет
- Дата съёмки: 11.10.2009 20:26
- Дата загрузки фото: 12.10.2009 18:07
- Оригинальная фотография: 2736 x 2310 (2,8 Мб)
- Технические характеристики:
- Фотоаппарат: Canon EOS REBEL T1i
- Выдержка: 1/50
- Гиперфокальное расстояние: 29,75 m
- Диафрагма: 5,0
- Светочувствительность: 400
- Фокусное расстояние: 42,0 mm (35 mm equivalent: 106,4 mm)
- Полный EXIF
- Adobe
- ColorTransform: YCbCr
- Composite
- Aperture: 5,0
- CircleOfConfusion: 0,012 mm
- FOV: 19,0 deg
- FocalLength35efl: 42,0 mm (35 mm equivalent: 106,4 mm)
- HyperfocalDistance: 29,75 m
- ScaleFactor35efl: 2,5
- ShutterSpeed: 1/50
- ExifIFD
- ApertureValue: 5,0
- CreateDate: 2009:10:10 15:33:37
- CustomRendered: Normal
- DateTimeOriginal: 2009:10:10 15:33:37
- ExposureCompensation: 0
- ExposureMode: Auto
- ExposureProgram: Shutter speed priority AE
- ExposureTime: 1/50
- FNumber: 5,0
- Flash: On
- FocalLength: 42,0 mm
- ISO: 400
- MeteringMode: Center-weighted average
- SceneCaptureType: Standard
- ShutterSpeedValue: 1/50
- WhiteBalance: Auto
- GPS
- ICC-header
- ICC-meas
- ICC-view
- IFD0
- Make: Canon
- Model: Canon EOS REBEL T1i
- ModifyDate: 2009:10:11 20:33:07
- IFD1
- XMP-crs
- AlreadyApplied: True
- BlueHue: 0
- BlueSaturation: 0
- Brightness: 0
- CameraProfile: Embedded
- ChromaticAberrationB: 0
- ChromaticAberrationR: 0
- Clarity: -19
- ColorNoiseReduction: 0
- Contrast: 0
- ConvertToGrayscale: False
- Defringe: 0
- Exposure: 0.00
- FillLight: 0
- GreenHue: 0
- GreenSaturation: 0
- HasCrop: False
- HasSettings: True
- HighlightRecovery: 0
- HueAdjustmentAqua: 0
- HueAdjustmentBlue: 0
- HueAdjustmentGreen: 0
- HueAdjustmentMagenta: 0
- HueAdjustmentOrange: 0
- HueAdjustmentPurple: 0
- HueAdjustmentRed: 0
- HueAdjustmentYellow: 0
- IncrementalTemperature: 0
- IncrementalTint: 0
- LuminanceAdjustmentAqua: 0
- LuminanceAdjustmentBlue: 0
- LuminanceAdjustmentGreen: 0
- LuminanceAdjustmentMagenta: 0
- LuminanceAdjustmentOrange: 0
- LuminanceAdjustmentPurple: 0
- LuminanceAdjustmentRed: 0
- LuminanceAdjustmentYellow: 0
- LuminanceSmoothing: 0
- ParametricDarks: 0
- ParametricHighlightSplit: 75
- ParametricHighlights: 0
- ParametricLights: 0
- ParametricMidtoneSplit: 50
- ParametricShadowSplit: 25
- ParametricShadows: 0
- PostCropVignetteAmount: 0
- RedHue: 0
- RedSaturation: 0
- Saturation: +21
- SaturationAdjustmentAqua: 0
- SaturationAdjustmentBlue: 0
- SaturationAdjustmentGreen: 0
- SaturationAdjustmentMagenta: 0
- SaturationAdjustmentOrange: 0
- SaturationAdjustmentPurple: 0
- SaturationAdjustmentRed: 0
- SaturationAdjustmentYellow: 0
- ShadowTint: 0
- Shadows: 0
- SharpenDetail: 25
- SharpenEdgeMasking: 0
- SharpenRadius: +1.0
- Sharpness: 0
- SplitToningBalance: 0
- SplitToningHighlightHue: 0
- SplitToningHighlightSaturation: 0
- SplitToningShadowHue: 0
- SplitToningShadowSaturation: 0
- ToneCurve: 0, 0, 255, 255
- ToneCurveName: Linear
- Version: 5.5
- Vibrance: +10
- VignetteAmount: 0
- WhiteBalance: As Shot
- XMP-dc
- XMP-exif
- ColorSpace: sRGB
- DateTimeDigitized: 2009:10:10 15:33:37+03:00
- DateTimeOriginal: 2009:10:10 15:33:37+03:00
- ExifImageHeight: 2310
- ExifImageWidth: 2736
- FlashFired: True
- FlashFunction: False
- FlashMode: On
- FlashRedEyeMode: False
- FlashReturn: No return detection
- GPSVersionID: 2.2.0.0
- XMP-tiff
- ImageHeight: 2310
- ImageWidth: 2736
- XMP-xmp
- CreateDate: 2009:10:11 20:26:22+03:00
- ModifyDate: 2009:10:11 20:33:07+03:00
- XMP-xmpMM
- DerivedFrom:
- Просмотров: 572
- Рейтинг: голосов еще нет
- Отзывов: 0