- Раздел: Другое, разное
- Дата съёмки: 11.11.2009 12:29
- Дата загрузки фото: 19.11.2009 10:48
- Оригинальная фотография: 2703 x 1689 (1,4 Мб)
- Технические характеристики:
- Фотоаппарат: Nikon D40
- Выдержка: 1/800
- Гиперфокальное расстояние: 26,80 m
- Диафрагма: 5,6
- Светочувствительность: 400
- Фокусное расстояние: 55,0 mm (35 mm equivalent: 82,0 mm)
- Полный EXIF
- Adobe
- ColorTransform: YCbCr
- Composite
- Aperture: 5,6
- CircleOfConfusion: 0,020 mm
- FOV: 24,0 deg
- FocalLength35efl: 55,0 mm (35 mm equivalent: 82,0 mm)
- HyperfocalDistance: 26,80 m
- ScaleFactor35efl: 1,5
- ShutterSpeed: 1/800
- ExifIFD
- ApertureValue: 5,6
- CFAPattern: [Blue,Green][Green,Red]
- Contrast: Normal
- CreateDate: 2009:11:11 12:29:35
- CustomRendered: Normal
- DateTimeOriginal: 2009:11:11 12:29:35
- DigitalZoomRatio: 1
- ExposureCompensation: 0
- ExposureMode: Auto
- ExposureProgram: Aperture-priority AE
- ExposureTime: 1/800
- FNumber: 5,6
- Flash: No Flash
- FocalLength: 55,0 mm
- FocalLengthIn35mmFormat: 82 mm
- GainControl: Low gain up
- ISO: 400
- LightSource: Unknown
- MaxApertureValue: 5,7
- MeteringMode: Multi-segment
- Saturation: Normal
- SceneCaptureType: Standard
- SceneType: Directly photographed
- SensingMethod: One-chip color area
- Sharpness: Normal
- ShutterSpeedValue: 1/800
- SubjectDistanceRange: Unknown
- WhiteBalance: Auto
- ICC-header
- ICC-meas
- ICC-view
- IFD0
- Make: NIKON CORPORATION
- Model: NIKON D40
- ModifyDate: 2009:11:18 10:01:57
- Software: Ver.1.11
- IFD1
- XMP-aux
- ImageNumber: 6208
- Lens: 18.0-55.0 mm f/3.5-5.6
- LensInfo: 180/10 550/10 35/10 56/10
- SerialNumber: 2359933
- XMP-crs
- AlreadyApplied: True
- BlueHue: 0
- BlueSaturation: 0
- Brightness: 0
- ChromaticAberrationB: 0
- ChromaticAberrationR: 0
- Clarity: 0
- ColorNoiseReduction: 25
- Contrast: 0
- ConvertToGrayscale: False
- CropAngle: 0
- CropBottom: 0.991486
- CropHeight: 1689
- CropLeft: 0
- CropRight: 0.898551
- CropTop: 0.146848
- CropUnit: 0
- CropWidth: 2703
- Defringe: 0
- Exposure: +1.15
- FillLight: 0
- GreenHue: 0
- GreenSaturation: 0
- HasCrop: True
- HasSettings: True
- HighlightRecovery: 25
- HueAdjustmentAqua: 0
- HueAdjustmentBlue: 0
- HueAdjustmentGreen: 0
- HueAdjustmentMagenta: 0
- HueAdjustmentOrange: 0
- HueAdjustmentPurple: 0
- HueAdjustmentRed: 0
- HueAdjustmentYellow: 0
- LuminanceAdjustmentAqua: 0
- LuminanceAdjustmentBlue: 0
- LuminanceAdjustmentGreen: 0
- LuminanceAdjustmentMagenta: 0
- LuminanceAdjustmentOrange: 0
- LuminanceAdjustmentPurple: 0
- LuminanceAdjustmentRed: 0
- LuminanceAdjustmentYellow: 0
- LuminanceSmoothing: 56
- ParametricDarks: -20
- ParametricHighlightSplit: 75
- ParametricHighlights: +60
- ParametricLights: +10
- ParametricMidtoneSplit: 50
- ParametricShadowSplit: 25
- ParametricShadows: -60
- PostCropVignetteAmount: 0
- RedHue: 0
- RedSaturation: 0
- Saturation: +11
- SaturationAdjustmentAqua: +50
- SaturationAdjustmentBlue: +58
- SaturationAdjustmentGreen: +10
- SaturationAdjustmentMagenta: 0
- SaturationAdjustmentOrange: +27
- SaturationAdjustmentPurple: +23
- SaturationAdjustmentRed: 0
- SaturationAdjustmentYellow: +29
- ShadowTint: 0
- Shadows: 14
- SharpenDetail: 25
- SharpenEdgeMasking: 0
- SharpenRadius: +1.0
- Sharpness: 73
- SplitToningBalance: 0
- SplitToningHighlightHue: 0
- SplitToningHighlightSaturation: 0
- SplitToningShadowHue: 0
- SplitToningShadowSaturation: 0
- Temperature: 6550
- Tint: +30
- ToneCurve: 0, 0, 255, 255
- ToneCurveName: Linear
- Version: 5.4
- Vibrance: 0
- VignetteAmount: 0
- WhiteBalance: Custom
- XMP-exif
- DateTimeDigitized: 2009:11:11 12:29:35.10+02:00
- DateTimeOriginal: 2009:11:11 12:29:35.10+02:00
- ExifImageHeight: 1689
- ExifImageWidth: 2703
- FlashFired: False
- FlashFunction: False
- FlashMode: Unknown
- FlashRedEyeMode: False
- FlashReturn: No return detection
- XMP-tiff
- ImageHeight: 1689
- ImageWidth: 2703
- XMP-xmp
- CreateDate: 2009:11:11 12:29:35.10+02:00
- ModifyDate: 2009:11:18 10:01:57+02:00