- Раздел: Другое, разное
- Дата съёмки: 30.04.2008 06:09
- Дата загрузки фото: 01.02.2010 19:06
- Оригинальная фотография: 900 x 600 (339 Кб)
- Технические характеристики:
- Фотоаппарат: Canon EOS 30D
- Выдержка: 1/320
- Гиперфокальное расстояние: 82,35 m
- Диафрагма: 6,3
- Фокусное расстояние: 50,0 mm (35 mm equivalent: 311,8 mm)
- Экспокоррекция: +1/3
- Полный EXIF
- Adobe
- ColorTransform: YCbCr
- Composite
- Aperture: 6,3
- CircleOfConfusion: 0,005 mm
- FOV: 6,0 deg
- FocalLength35efl: 50,0 mm (35 mm equivalent: 311,8 mm)
- HyperfocalDistance: 82,35 m
- ScaleFactor35efl: 6,2
- ShutterSpeed: 1/320
- ExifIFD
- ApertureValue: 6,3
- ColorSpace: sRGB
- CreateDate: 2008:04:30 06:09:00
- CustomRendered: Normal
- DateTimeOriginal: 2008:04:30 06:09:00
- ExifImageHeight: 600
- ExifImageWidth: 900
- ExposureCompensation: +1/3
- ExposureMode: Auto
- ExposureProgram: Aperture-priority AE
- ExposureTime: 1/320
- FNumber: 6,3
- Flash: Off
- FocalLength: 50,0 mm
- MaxApertureValue: 1,8
- MeteringMode: Multi-segment
- SceneCaptureType: Standard
- ShutterSpeedValue: 1/320
- WhiteBalance: Auto
- ICC-header
- ICC-meas
- ICC-view
- IFD0
- Artist: Alexander Zhiltsov
- Copyright: Alexander Zhiltsov
- ImageDescription: frozen trees in park during snowfall
- Make: Canon
- Model: Canon EOS 30D
- ModifyDate: 2008:12:17 00:40:40
- Orientation: Horizontal (normal)
- IFD1
- IPTC
- By-line: Alexander Zhiltsov
- By-lineTitle: Photographer
- Caption-Abstract: frozen trees in park during snowfall
- CopyrightNotice: Alexander Zhiltsov
- Keywords: trees, cold, winter, park, season, snow, frozen, white, road, january, blizzard, footpath, nature, lane, outdoors, scene, forest, weather, snowing, ice, february, tranquil, landscape, silence, view, smooth, december, covering, beauty, climate, frost, woods
- ObjectName: snowfall in park
- XMP-aux
- Firmware: 1.0.6
- FlashCompensation: 0,666666666666667
- ImageNumber: 64
- Lens: EF50mm f/1.8
- LensInfo: 50/1 50/1 0/0 0/0
- OwnerName: Alexander Zhiltsov
- SerialNumber: 730519271
- XMP-crs
- AlreadyApplied: True
- BlueHue: 0
- BlueSaturation: 0
- Brightness: +50
- CameraProfile: ACR 4.4
- ChromaticAberrationB: 0
- ChromaticAberrationR: 0
- Clarity: 65
- ColorNoiseReduction: 25
- Contrast: +25
- ConvertToGrayscale: False
- Defringe: 0
- Exposure: +0.19
- FillLight: 4
- GreenHue: 0
- GreenSaturation: 0
- HasCrop: False
- HasSettings: True
- HighlightRecovery: 0
- HueAdjustmentAqua: 0
- HueAdjustmentBlue: 0
- HueAdjustmentGreen: 0
- HueAdjustmentMagenta: 0
- HueAdjustmentOrange: 0
- HueAdjustmentPurple: 0
- HueAdjustmentRed: 0
- HueAdjustmentYellow: 0
- LuminanceAdjustmentAqua: 0
- LuminanceAdjustmentBlue: 0
- LuminanceAdjustmentGreen: 0
- LuminanceAdjustmentMagenta: 0
- LuminanceAdjustmentOrange: 0
- LuminanceAdjustmentPurple: 0
- LuminanceAdjustmentRed: 0
- LuminanceAdjustmentYellow: 0
- LuminanceSmoothing: 0
- ParametricDarks: 0
- ParametricHighlightSplit: 75
- ParametricHighlights: 0
- ParametricLights: 0
- ParametricMidtoneSplit: 50
- ParametricShadowSplit: 25
- ParametricShadows: 0
- RedHue: 0
- RedSaturation: 0
- Saturation: 0
- SaturationAdjustmentAqua: 0
- SaturationAdjustmentBlue: 0
- SaturationAdjustmentGreen: 0
- SaturationAdjustmentMagenta: 0
- SaturationAdjustmentOrange: 0
- SaturationAdjustmentPurple: 0
- SaturationAdjustmentRed: 0
- SaturationAdjustmentYellow: 0
- ShadowTint: 0
- Shadows: 8
- SharpenDetail: 25
- SharpenEdgeMasking: 0
- SharpenRadius: +1.0
- Sharpness: 25
- SplitToningBalance: 0
- SplitToningHighlightHue: 0
- SplitToningHighlightSaturation: 0
- SplitToningShadowHue: 0
- SplitToningShadowSaturation: 0
- Temperature: 5450
- Tint: -1
- ToneCurve: 0, 0, 32, 22, 64, 56, 128, 128, 192, 196, 255, 255
- ToneCurveName: Medium Contrast
- Version: 4.4
- Vibrance: 0
- VignetteAmount: 0
- WhiteBalance: As Shot
- XMP-dc
- Creator: Alexander Zhiltsov
- Description: frozen trees in park during snowfall
- Format: image/jpeg
- Rights: Alexander Zhiltsov
- Subject: trees, cold, winter, park, season, snow, frozen, white, road, january, blizzard, footpath, nature, lane, outdoors, scene, forest, weather, snowing, ice, february, tranquil, landscape, silence, view, smooth, december, covering, beauty, climate, frost, woods
- Title: snowfall in park
- XMP-exif
- DateTimeDigitized: 2008:04:30 06:09:000Z
- DateTimeOriginal: 2008:04:30 06:09:000Z
- FlashFired: False
- FlashFunction: False
- FlashMode: Off
- FlashRedEyeMode: False
- FlashReturn: No return detection
- XMP-iptcCore
- CreatorContactInfoCiAdrCity: Novosibirsk
- CreatorContactInfoCiAdrCtry: Russia
- CreatorContactInfoCiEmailWork: azhiltsov@gmail.com
- CreatorContactInfoCiTelWork: 89139422642
- XMP-tiff
- ImageHeight: 2336
- ImageWidth: 3504
- XMP-xmp
- CreateDate: 2008:04:30 06:09:00Z
- ModifyDate: 2008:12:17 00:40:40+06:00
- XMP-xmpMM
- XMP-xmpRights
- Просмотров: 832
- Рейтинг: голосов еще нет
- Отзывов: 0