- Раздел: Другое, разное
- Дата съёмки: 19.02.2010 12:02
- Дата загрузки фото: 11.03.2010 12:49
- Оригинальная фотография: 2781 x 1738 (3,2 Мб)
- Технические характеристики:
- Фотоаппарат: Nikon D40
- Выдержка: 1/60
- Гиперфокальное расстояние: inf m
- Диафрагма: 5,3
- Светочувствительность: 400
- Фокусное расстояние: 45,0 mm (35 mm equivalent: 45,0 mm)
- Полный EXIF
- Adobe
- ColorTransform: YCbCr
- Composite
- Aperture: 5,3
- CircleOfConfusion: 0,020 mm
- FOV: 43,0 deg
- FocalLength35efl: 45,0 mm (35 mm equivalent: 45,0 mm)
- HyperfocalDistance: inf m
- ScaleFactor35efl: 1,5
- ShutterSpeed: 1/60
- ExifIFD
- ApertureValue: 5,3
- CFAPattern: [Blue,Green][Green,Red]
- Contrast: Low
- CreateDate: 2010:02:19 12:02:32
- CustomRendered: Normal
- DateTimeOriginal: 2010:02:19 12:02:32
- DigitalZoomRatio: 1
- ExposureCompensation: 0
- ExposureMode: Auto
- ExposureProgram: Not Defined
- ExposureTime: 1/60
- FNumber: 5,3
- Flash: Auto, Fired, Return not detected
- FocalLength: 45,0 mm
- FocalLengthIn35mmFormat: 67 mm
- GainControl: Low gain up
- ISO: 400
- LightSource: Unknown
- MaxApertureValue: 5,3
- MeteringMode: Multi-segment
- Saturation: Normal
- SceneCaptureType: Standard
- SceneType: Directly photographed
- SensingMethod: One-chip color area
- Sharpness: Normal
- ShutterSpeedValue: 1/60
- SubjectDistanceRange: Unknown
- WhiteBalance: Auto
- ICC-header
- ICC-meas
- ICC-view
- IFD0
- Make: NIKON CORPORATION
- Model: NIKON D40
- ModifyDate: 2010:02:19 16:35:19
- Software: Nikon Transfer 1.0 W
- IFD1
- System
- XMP-aux
- ImageNumber: 12269
- Lens: 18.0-55.0 mm f/3.5-5.6
- LensInfo: 18/1 55/1 35/10 56/10
- SerialNumber: 2359933
- XMP-crs
- AlreadyApplied: True
- BlueHue: 0
- BlueSaturation: +63
- Brightness: +103
- ChromaticAberrationB: 0
- ChromaticAberrationR: 0
- Clarity: 0
- ColorNoiseReduction: 25
- Contrast: +23
- ConvertToGrayscale: True
- CropAngle: 0
- CropBottom: 0.985816
- CropHeight: 1738
- CropLeft: 0.075438
- CropRight: 1
- CropTop: 0.116727
- CropUnit: pixels
- CropWidth: 2781
- Defringe: 0
- Exposure: +0.44
- FillLight: 0
- GrayMixerAqua: -20
- GrayMixerBlue: +9
- GrayMixerGreen: -27
- GrayMixerMagenta: +7
- GrayMixerOrange: -18
- GrayMixerPurple: +18
- GrayMixerRed: -7
- GrayMixerYellow: -23
- GreenHue: 0
- GreenSaturation: 0
- HasCrop: True
- HasSettings: True
- HighlightRecovery: 0
- LuminanceSmoothing: 0
- PaintCorrectionActive: true
- PaintCorrectionAmount: 1.000000
- PaintCorrectionBrightness: -0.820000
- PaintCorrectionClarity: 0.034000
- PaintCorrectionContrast: 0.000000
- PaintCorrectionExposure: -0.843000
- PaintCorrectionHue: 112.000000
- PaintCorrectionMaskCenterWeight: 0.390203
- PaintCorrectionMaskFlow: 1.000000
- PaintCorrectionMaskRadius: 0.026120
- PaintCorrectionMaskValue: 0.142000
- PaintCorrectionMaskWhat: Mask/Paint
- PaintCorrectionSaturation: 0.000000
- PaintCorrectionSharpness: 0.000000
- PaintCorrectionWhat: Correction
- ParametricDarks: -2
- ParametricHighlightSplit: 75
- ParametricHighlights: 0
- ParametricLights: +2
- ParametricMidtoneSplit: 50
- ParametricShadowSplit: 25
- ParametricShadows: -20
- PostCropVignetteAmount: 0
- RedHue: 0
- RedSaturation: -34
- ShadowTint: 0
- Shadows: 8
- SharpenDetail: 25
- SharpenEdgeMasking: 0
- SharpenRadius: +1.0
- Sharpness: 25
- SplitToningBalance: 0
- SplitToningHighlightHue: 50
- SplitToningHighlightSaturation: 66
- SplitToningShadowHue: 30
- SplitToningShadowSaturation: 28
- Temperature: 6800
- Tint: +63
- ToneCurve: 0, 0, 32, 22, 64, 56, 128, 128, 192, 196, 255, 255
- ToneCurveName: Medium Contrast
- Version: 5.4
- VignetteAmount: -41
- VignetteMidpoint: 48
- WhiteBalance: Custom
- XMP-exif
- DateTimeDigitized: 2010:02:19 12:02:32.50+02:00
- DateTimeOriginal: 2010:02:19 12:02:32.50+02:00
- ExifImageHeight: 1738
- ExifImageWidth: 2781
- ExposureProgram: Unknown (0)
- FlashFired: True
- FlashFunction: False
- FlashMode: Auto
- FlashRedEyeMode: False
- FlashReturn: Return not detected
- XMP-microsoft
- XMP-tiff
- ImageHeight: 1738
- ImageWidth: 2781
- XMP-xmp
- CreateDate: 2010:02:19 12:02:32.50+02:00
- ModifyDate: 2010:02:19 16:35:19+02:00
- XMP-xmpNote
- HasExtendedXMP: C7888CA533A19346498323AF0860EC71
- Просмотров: 374
- Рейтинг: голосов еще нет
- Отзывов: 0