- Раздел: Другое, разное
- Дата съёмки: 28.04.2008 22:42
- Дата загрузки фото: 26.08.2008 23:48
- Оригинальная фотография: 600 x 600 ( 59 Кб)
- Технические характеристики:
- Фотоаппарат: Canon EOS 5D
- Выдержка: 1/13
- Гиперфокальное расстояние: 406,34 m
- Диафрагма: 5,6
- Светочувствительность: 640
- Фокусное расстояние: 105,0mm (35mm эквивалент: 651,1mm)
- Экспокоррекция: +1/3
- Полный EXIF
- Adobe
- ColorTransform: YCbCr
- Composite
- Aperture: 5,6
- CircleOfConfusion: 0,005 mm
- FocalLength35efl: 105,0mm (35mm equivalent: 651,1mm)
- HyperfocalDistance: 406,34 m
- LightValue: 6,0
- ScaleFactor35efl: 6,2
- ShutterSpeed: 1/13
- ExifIFD
- ApertureValue: 5,6
- ColorSpace: Uncalibrated
- CreateDate: 2008:04:28 22:42:55
- CustomRendered: Normal
- DateTimeOriginal: 2008:04:28 22:42:55
- ExifImageLength: 600
- ExifImageWidth: 600
- ExposureCompensation: +1/3
- ExposureMode: Auto
- ExposureProgram: Aperture-priority AE
- ExposureTime: 1/13
- FNumber: 5,6
- Flash: Off
- FocalLength: 105,0mm
- ISO: 640
- MaxApertureValue: 4,0
- MeteringMode: Spot
- SceneCaptureType: Standard
- ShutterSpeedValue: 1/13
- WhiteBalance: Auto
- IFD0
- Artist: В© Iskander Gilfanov 2007
- Make: Canon
- Model: Canon EOS 5D
- ModifyDate: 2008:04:28 22:42:49
- Orientation: Horizontal (normal)
- IFD1
- IPTC
- By-line: В© Iskander Gilfanov 2007
- XMP-aux
- Firmware: 1.0.5
- FlashCompensation: 0
- ImageNumber: 4
- Lens: EF24-105mm f/4L IS USM
- LensInfo: 24/1 105/1 0/0 0/0
- OwnerName: В© Iskander Gilfanov 2007
- SerialNumber: 1130701142
- XMP-crs
- AlreadyApplied: True
- BlueHue: 0
- BlueSaturation: 0
- Brightness: +25
- CameraProfile: ACR 3.3
- ChromaticAberrationB: 0
- ChromaticAberrationR: 0
- Clarity: 0
- ColorNoiseReduction: 25
- Contrast: +59
- ConvertToGrayscale: False
- CropAngle: 0
- CropBottom: 0.81263
- CropHeight: 1
- CropLeft: 0.272727
- CropRight: 0.758406
- CropTop: 0.084112
- CropUnit: 3
- CropWidth: 1
- Defringe: 0
- Exposure: 0.00
- FillLight: 0
- GreenHue: 0
- GreenSaturation: 0
- HasCrop: True
- HasSettings: True
- HighlightRecovery: 5
- HueAdjustmentAqua: 0
- HueAdjustmentBlue: 0
- HueAdjustmentGreen: 0
- HueAdjustmentMagenta: 0
- HueAdjustmentOrange: 0
- HueAdjustmentPurple: 0
- HueAdjustmentRed: 0
- HueAdjustmentYellow: 0
- LuminanceAdjustmentAqua: 0
- LuminanceAdjustmentBlue: 0
- LuminanceAdjustmentGreen: 0
- LuminanceAdjustmentMagenta: 0
- LuminanceAdjustmentOrange: 0
- LuminanceAdjustmentPurple: 0
- LuminanceAdjustmentRed: 0
- LuminanceAdjustmentYellow: 0
- LuminanceSmoothing: 0
- ParametricDarks: 0
- ParametricHighlightSplit: 75
- ParametricHighlights: 0
- ParametricLights: 0
- ParametricMidtoneSplit: 50
- ParametricShadowSplit: 25
- ParametricShadows: 0
- RawFileName: IMG_1323.CR2
- RedHue: 0
- RedSaturation: 0
- Saturation: 0
- SaturationAdjustmentAqua: 0
- SaturationAdjustmentBlue: 0
- SaturationAdjustmentGreen: 0
- SaturationAdjustmentMagenta: 0
- SaturationAdjustmentOrange: 0
- SaturationAdjustmentPurple: 0
- SaturationAdjustmentRed: 0
- SaturationAdjustmentYellow: 0
- ShadowTint: 0
- Shadows: 7
- SharpenDetail: 25
- SharpenEdgeMasking: 0
- SharpenRadius: +1.0
- Sharpness: 25
- SplitToningBalance: 0
- SplitToningHighlightHue: 0
- SplitToningHighlightSaturation: 0
- SplitToningShadowHue: 0
- SplitToningShadowSaturation: 0
- Temperature: 3450
- Tint: +22
- ToneCurve: 0, 0, 32, 22, 64, 56, 128, 128, 192, 196, 255, 255
- ToneCurveName: Medium Contrast
- Version: 4.2
- Vibrance: 0
- VignetteAmount: 0
- WhiteBalance: Custom
- XMP-dc
- Creator: В© Iskander Gilfanov 2007
- Format: image/jpeg
- XMP-exif
- ColorSpace: Unknown (-1)
- DateTimeDigitized: 2008:04:28 22:42:55+04:00
- DateTimeOriginal: 2008:04:28 22:42:55+04:00
- FlashFired: False
- FlashFunction: False
- FlashMode: Off
- FlashRedEyeMode: False
- FlashReturn: No return detection
- XMP-tiff
- XMP-xmp
- CreateDate: 2008:04:28 22:42:49+04:00
- ModifyDate: 2008:04:28 22:42:49+04:00
- Rating: 0
- XMP-xmpMM
- DerivedFrom:
- Просмотров: 294
- Рейтинг: голосов еще нет
- Отзывов: отключены