- Раздел: Другое, разное
- Дата съёмки: 27.02.2008 23:54
- Дата загрузки фото: 26.08.2008 23:50
- Оригинальная фотография: 500 x 305 ( 95 Кб)
- Технические характеристики:
- Фотоаппарат: Canon EOS 5D
- Выдержка: 1/125
- Гиперфокальное расстояние: 269,03 m
- Диафрагма: 9,0
- Светочувствительность: 125
- Фокусное расстояние: 90,0mm (35mm эквивалент: 808,3mm)
- Полный EXIF
- Adobe
- ColorTransform: YCbCr
- Composite
- Aperture: 9,0
- CircleOfConfusion: 0,003 mm
- FocalLength35efl: 90,0mm (35mm equivalent: 808,3mm)
- HyperfocalDistance: 269,03 m
- LightValue: 13,0
- ScaleFactor35efl: 9,0
- ShutterSpeed: 1/125
- ExifIFD
- ApertureValue: 9,0
- ColorSpace: Uncalibrated
- CreateDate: 2008:02:28 00:23:37
- CustomRendered: Normal
- DateTimeOriginal: 2008:02:28 00:23:37
- ExifImageLength: 305
- ExifImageWidth: 500
- ExposureCompensation: 0
- ExposureMode: Manual
- ExposureProgram: Manual
- ExposureTime: 1/125
- FNumber: 9,0
- Flash: On
- FocalLength: 90,0mm
- ISO: 125
- MaxApertureValue: 2,8
- MeteringMode: Unknown (0)
- SceneCaptureType: Standard
- ShutterSpeedValue: 1/125
- WhiteBalance: Auto
- IFD0
- Artist: В© Iskander Gilfanov 2007
- Make: Canon
- Model: Canon EOS 5D
- ModifyDate: 2008:02:27 23:54:42
- Orientation: Horizontal (normal)
- IFD1
- IPTC
- By-line: В© Iskander Gilfanov 2007
- XMP-aux
- Firmware: 1.0.5
- FlashCompensation: 0
- ImageNumber: 5
- Lens: 90.0 mm
- LensInfo: 90/1 90/1 0/0 0/0
- OwnerName: В© Iskander Gilfanov 2007
- SerialNumber: 1130701142
- XMP-crs
- AlreadyApplied: True
- BlueHue: 0
- BlueSaturation: 0
- Brightness: +50
- CameraProfile: ACR 3.3
- ChromaticAberrationB: 0
- ChromaticAberrationR: 0
- Clarity: 0
- ColorNoiseReduction: 25
- Contrast: +27
- ConvertToGrayscale: False
- CropAngle: 0.962129
- CropBottom: 0.975708
- CropLeft: 0.023923
- CropRight: 0.989351
- CropTop: 0.057959
- Defringe: 0
- Exposure: +0.45
- FillLight: 0
- GreenHue: 0
- GreenSaturation: 0
- HasCrop: True
- HasSettings: True
- HighlightRecovery: 65
- HueAdjustmentAqua: 0
- HueAdjustmentBlue: 0
- HueAdjustmentGreen: 0
- HueAdjustmentMagenta: 0
- HueAdjustmentOrange: 0
- HueAdjustmentPurple: 0
- HueAdjustmentRed: 0
- HueAdjustmentYellow: 0
- LuminanceAdjustmentAqua: 0
- LuminanceAdjustmentBlue: 0
- LuminanceAdjustmentGreen: 0
- LuminanceAdjustmentMagenta: 0
- LuminanceAdjustmentOrange: 0
- LuminanceAdjustmentPurple: 0
- LuminanceAdjustmentRed: 0
- LuminanceAdjustmentYellow: 0
- LuminanceSmoothing: 0
- ParametricDarks: 0
- ParametricHighlightSplit: 75
- ParametricHighlights: 0
- ParametricLights: 0
- ParametricMidtoneSplit: 50
- ParametricShadowSplit: 25
- ParametricShadows: 0
- RawFileName: IMG_9638.CR2
- RedHue: 0
- RedSaturation: 0
- Saturation: 0
- SaturationAdjustmentAqua: 0
- SaturationAdjustmentBlue: 0
- SaturationAdjustmentGreen: 0
- SaturationAdjustmentMagenta: 0
- SaturationAdjustmentOrange: 0
- SaturationAdjustmentPurple: 0
- SaturationAdjustmentRed: 0
- SaturationAdjustmentYellow: 0
- ShadowTint: 0
- Shadows: 0
- SharpenDetail: 25
- SharpenEdgeMasking: 0
- SharpenRadius: +1.0
- Sharpness: 25
- SplitToningBalance: 0
- SplitToningHighlightHue: 0
- SplitToningHighlightSaturation: 0
- SplitToningShadowHue: 0
- SplitToningShadowSaturation: 0
- Temperature: 5650
- Tint: +6
- ToneCurve: 0, 0, 32, 22, 64, 56, 128, 128, 192, 196, 255, 255
- ToneCurveName: Medium Contrast
- Version: 4.2
- Vibrance: 0
- VignetteAmount: 0
- WhiteBalance: As Shot
- XMP-dc
- Creator: В© Iskander Gilfanov 2007
- Format: image/jpeg
- XMP-exif
- ColorSpace: Unknown (-1)
- DateTimeDigitized: 2008:02:28 00:23:37+03:00
- DateTimeOriginal: 2008:02:28 00:23:37+03:00
- FlashFired: True
- FlashFunction: False
- FlashMode: On
- FlashRedEyeMode: False
- FlashReturn: No return detection
- XMP-tiff
- XMP-xmp
- CreateDate: 2008:02:27 23:54:42+03:00
- ModifyDate: 2008:02:27 23:54:42+03:00
- Rating: 0
- XMP-xmpMM
- DerivedFrom:
- Просмотров: 316
- Рейтинг: голосов еще нет
- Отзывов: отключены