- Раздел: Пейзаж
- Дата съёмки: 21.10.2008 16:27
- Дата загрузки фото: 08.12.2008 18:53
- Оригинальная фотография: 819 x 546 (311 Кб)
- Технические характеристики:
- Фотоаппарат: Canon EOS 5D
- Выдержка: 1/250
- Гиперфокальное расстояние: 926,21 m
- Диафрагма: 3,5
- Светочувствительность: 100
- Фокусное расстояние: 135,0 mm (35 mm equivalent: 721,5 mm)
- Полный EXIF
- Adobe
- ColorTransform: YCbCr
- Composite
- Aperture: 3,5
- CircleOfConfusion: 0,006 mm
- FOV: 2,0 deg
- FocalLength35efl: 135,0 mm (35 mm equivalent: 721,5 mm)
- HyperfocalDistance: 926,21 m
- ScaleFactor35efl: 5,3
- ShutterSpeed: 1/250
- ExifIFD
- ApertureValue: 3,5
- ColorSpace: sRGB
- CreateDate: 2008:09:26 14:38:59
- CustomRendered: Normal
- DateTimeOriginal: 2008:09:26 14:38:59
- ExifImageHeight: 546
- ExifImageWidth: 819
- ExposureCompensation: 0
- ExposureMode: Auto
- ExposureProgram: Shutter speed priority AE
- ExposureTime: 1/250
- FNumber: 3,5
- Flash: Off
- FocalLength: 135,0 mm
- ISO: 100
- MaxApertureValue: 2,0
- MeteringMode: Multi-segment
- SceneCaptureType: Standard
- ShutterSpeedValue: 1/250
- WhiteBalance: Auto
- ICC-header
- ICC-meas
- ICC-view
- IFD0
- Artist: Sergey A. Kashporov
- Make: Canon
- Model: Canon EOS 5D
- ModifyDate: 2008:10:21 16:27:40
- Orientation: Horizontal (normal)
- IFD1
- IPTC
- By-line: Sergey A. Kashporov
- Keywords: Crete, Greece, _orig
- XMP-aux
- Firmware: 1.1.1
- FlashCompensation: 0
- ImageNumber: 1
- Lens: EF135mm f/2L USM
- LensInfo: 135/1 135/1 0/0 0/0
- SerialNumber: 2731200361
- XMP-crs
- AlreadyApplied: True
- BlueHue: 0
- BlueSaturation: 0
- Brightness: +36
- CameraProfile: ACR 4.4
- ChromaticAberrationB: 0
- ChromaticAberrationR: 0
- Clarity: 0
- ColorNoiseReduction: 25
- Contrast: +34
- ConvertToGrayscale: False
- CropAngle: 0
- CropBottom: 1
- CropLeft: 0
- CropRight: 1
- CropTop: 0
- Defringe: 0
- Exposure: +0.10
- FillLight: 0
- GreenHue: 0
- GreenSaturation: 0
- HasCrop: True
- HasSettings: True
- HighlightRecovery: 0
- HueAdjustmentAqua: 0
- HueAdjustmentBlue: 0
- HueAdjustmentGreen: 0
- HueAdjustmentMagenta: 0
- HueAdjustmentOrange: 0
- HueAdjustmentPurple: 0
- HueAdjustmentRed: 0
- HueAdjustmentYellow: 0
- LuminanceAdjustmentAqua: 0
- LuminanceAdjustmentBlue: 0
- LuminanceAdjustmentGreen: 0
- LuminanceAdjustmentMagenta: 0
- LuminanceAdjustmentOrange: 0
- LuminanceAdjustmentPurple: 0
- LuminanceAdjustmentRed: 0
- LuminanceAdjustmentYellow: 0
- LuminanceSmoothing: 0
- ParametricDarks: 0
- ParametricHighlightSplit: 75
- ParametricHighlights: 0
- ParametricLights: 0
- ParametricMidtoneSplit: 50
- ParametricShadowSplit: 25
- ParametricShadows: 0
- PostCropVignetteAmount: 0
- RawFileName: 20080926_143859_5D_135_3.5_1019790.cr2
- RedHue: 0
- RedSaturation: 0
- Saturation: 0
- SaturationAdjustmentAqua: +67
- SaturationAdjustmentBlue: +71
- SaturationAdjustmentGreen: +24
- SaturationAdjustmentMagenta: 0
- SaturationAdjustmentOrange: 0
- SaturationAdjustmentPurple: 0
- SaturationAdjustmentRed: 0
- SaturationAdjustmentYellow: +10
- ShadowTint: 0
- Shadows: 6
- SharpenDetail: 32
- SharpenEdgeMasking: 0
- SharpenRadius: +0.7
- Sharpness: 50
- SplitToningBalance: 0
- SplitToningHighlightHue: 0
- SplitToningHighlightSaturation: 0
- SplitToningShadowHue: 0
- SplitToningShadowSaturation: 0
- Temperature: 5850
- Tint: 0
- ToneCurve: 0, 0, 32, 22, 64, 56, 128, 128, 192, 196, 255, 255
- ToneCurveName: Medium Contrast
- Version: 4.6
- Vibrance: 0
- VignetteAmount: 0
- WhiteBalance: As Shot
- XMP-dc
- Creator: Sergey A. Kashporov
- Format: image/jpeg
- Subject: Crete, Greece, _orig
- XMP-exif
- DateTimeDigitized: 2008:09:26 14:38:59+04:00
- DateTimeOriginal: 2008:09:26 14:38:59+04:00
- FlashFired: False
- FlashFunction: False
- FlashMode: Off
- FlashRedEyeMode: False
- FlashReturn: No return detection
- XMP-iptcCore
- CreatorContactInfoCiAdrCtry: Russia
- CreatorContactInfoCiEmailWork: sergey@kashporov.ru
- XMP-lr
- HierarchicalSubject: Crete, Greece, _orig
- XMP-tiff
- XMP-xmp
- CreateDate: 2008:10:21 16:27:40+04:00
- ModifyDate: 2008:10:21 16:27:40+04:00
- Rating: 4
- XMP-xmpMM
- XMP-xmpRights
- Marked: True
- WebStatement: http://www.digimarc.com/cgi-bin/ci.pl%3F4+459188+0+0+5
- Просмотров: 462
- Рейтинг: голосов еще нет
- Отзывов: 0