- Раздел: Пейзаж
- Дата съёмки: 19.11.2008 13:27
- Дата загрузки фото: 08.12.2008 18:55
- Оригинальная фотография: 822 x 539 (240 Кб)
- Технические характеристики:
- Фотоаппарат: Canon EOS 5D
- Выдержка: 30,0
- Гиперфокальное расстояние: 43,64 m
- Диафрагма: 5,0
- Светочувствительность: 100
- Фокусное расстояние: 35,0 mm (35 mm equivalent: 187,3 mm)
- Полный EXIF
- Adobe
- ColorTransform: YCbCr
- Composite
- Aperture: 5,0
- CircleOfConfusion: 0,006 mm
- FOV: 10,0 deg
- FocalLength35efl: 35,0 mm (35 mm equivalent: 187,3 mm)
- HyperfocalDistance: 43,64 m
- LightValue: -0,3
- ScaleFactor35efl: 5,4
- ShutterSpeed: 30,0
- ExifIFD
- ApertureValue: 5,0
- ColorSpace: sRGB
- CreateDate: 2008:10:05 00:10:37
- CustomRendered: Normal
- DateTimeOriginal: 2008:10:05 00:10:37
- ExifImageHeight: 539
- ExifImageWidth: 822
- ExposureCompensation: 0
- ExposureMode: Manual
- ExposureProgram: Manual
- ExposureTime: 30,0
- FNumber: 5,0
- Flash: Off
- FocalLength: 35,0 mm
- ISO: 100
- MaxApertureValue: 1,4
- MeteringMode: Multi-segment
- SceneCaptureType: Standard
- ShutterSpeedValue: 30,0
- WhiteBalance: Auto
- ICC-header
- ICC-meas
- ICC-view
- IFD0
- Artist: Sergey A. Kashporov
- Make: Canon
- Model: Canon EOS 5D
- ModifyDate: 2008:11:19 13:27:14
- Orientation: Horizontal (normal)
- IFD1
- IPTC
- By-line: Sergey A. Kashporov
- Keywords: Crete, Greece, _orig
- XMP-aux
- Firmware: 1.1.1
- FlashCompensation: 0
- ImageNumber: 1
- Lens: EF35mm f/1.4L USM
- LensInfo: 35/1 35/1 0/0 0/0
- SerialNumber: 2731200361
- XMP-crs
- AlreadyApplied: True
- BlueHue: 0
- BlueSaturation: 0
- Brightness: +61
- CameraProfile: ACR 4.4
- ChromaticAberrationB: 0
- ChromaticAberrationR: 0
- Clarity: +7
- ColorNoiseReduction: 25
- Contrast: +25
- ConvertToGrayscale: False
- CropAngle: 0
- CropBottom: 1
- CropLeft: 0.011611
- CropRight: 1
- CropTop: 0.034858
- Defringe: 0
- Exposure: 0.00
- FillLight: 0
- GreenHue: 0
- GreenSaturation: 0
- HasCrop: True
- HasSettings: True
- HighlightRecovery: 0
- HueAdjustmentAqua: 0
- HueAdjustmentBlue: 0
- HueAdjustmentGreen: 0
- HueAdjustmentMagenta: 0
- HueAdjustmentOrange: 0
- HueAdjustmentPurple: -60
- HueAdjustmentRed: 0
- HueAdjustmentYellow: 0
- LuminanceAdjustmentAqua: 0
- LuminanceAdjustmentBlue: 0
- LuminanceAdjustmentGreen: 0
- LuminanceAdjustmentMagenta: 0
- LuminanceAdjustmentOrange: 0
- LuminanceAdjustmentPurple: 0
- LuminanceAdjustmentRed: 0
- LuminanceAdjustmentYellow: 0
- LuminanceSmoothing: 0
- ParametricDarks: 0
- ParametricHighlightSplit: 75
- ParametricHighlights: 0
- ParametricLights: 0
- ParametricMidtoneSplit: 50
- ParametricShadowSplit: 25
- ParametricShadows: 0
- PostCropVignetteAmount: 0
- RawFileName: 20081005_001037_5D_35_5_1020917.cr2
- RedHue: 0
- RedSaturation: 0
- Saturation: 0
- SaturationAdjustmentAqua: 0
- SaturationAdjustmentBlue: +5
- SaturationAdjustmentGreen: +5
- SaturationAdjustmentMagenta: +2
- SaturationAdjustmentOrange: +5
- SaturationAdjustmentPurple: +2
- SaturationAdjustmentRed: +10
- SaturationAdjustmentYellow: -10
- ShadowTint: 0
- Shadows: 5
- SharpenDetail: 50
- SharpenEdgeMasking: 0
- SharpenRadius: +0.8
- Sharpness: 40
- SplitToningBalance: 0
- SplitToningHighlightHue: 0
- SplitToningHighlightSaturation: 0
- SplitToningShadowHue: 0
- SplitToningShadowSaturation: 0
- Temperature: 3650
- Tint: +12
- ToneCurve: 0, 0, 32, 22, 64, 56, 128, 128, 192, 196, 255, 255
- ToneCurveName: Medium Contrast
- Version: 4.6
- Vibrance: +7
- VignetteAmount: 0
- WhiteBalance: As Shot
- XMP-dc
- Creator: Sergey A. Kashporov
- Format: image/jpeg
- Subject: Crete, Greece, _orig
- XMP-exif
- DateTimeDigitized: 2008:10:05 00:10:37+04:00
- DateTimeOriginal: 2008:10:05 00:10:37+04:00
- FlashFired: False
- FlashFunction: False
- FlashMode: Off
- FlashRedEyeMode: False
- FlashReturn: No return detection
- XMP-iptcCore
- CreatorContactInfoCiAdrCtry: Russia
- CreatorContactInfoCiEmailWork: sergey@kashporov.ru
- XMP-lr
- HierarchicalSubject: Crete, Greece, _orig
- XMP-tiff
- XMP-xmp
- CreateDate: 2008:11:19 13:27:14+03:00
- ModifyDate: 2008:11:19 13:27:14+03:00
- Rating: 5
- XMP-xmpMM
- XMP-xmpRights
- Marked: True
- WebStatement: http://www.digimarc.com/cgi-bin/ci.pl%3F4+459188+0+0+5