- Раздел: Хобби
- Дата съёмки: неизвестно
- Дата загрузки фото: 04.10.2020 17:56
- Оригинальная фотография: 3624 x 2325 (1,7 Мб)
- Технические характеристики:
- Фотоаппарат: Canon EOS 600D
- Выдержка: 0,0
- Гиперфокальное расстояние: inf m
- Диафрагма: 14,0
- Светочувствительность: 1600
- Фокусное расстояние: 55,0 mm (35 mm equivalent: 55,0 mm)
- Полный EXIF
- Adobe
- ColorTransform: YCbCr
- Composite
- Aperture: 14,0
- CircleOfConfusion: 0,019 mm
- FOV: 36,0 deg
- FocalLength35efl: 55,0 mm (35 mm equivalent: 55,0 mm)
- HyperfocalDistance: inf m
- LensID: Canon EF-S 18-55mm f/3.5-5.6 IS II
- Megapixels: 8,4
- ScaleFactor35efl: 1,6
- ShutterSpeed: 0,0
- ExifIFD
- ApertureValue: 11,3
- ColorSpace: sRGB
- CreateDate: 2020:09:26 15:32:36
- CustomRendered: Normal
- DateTimeOriginal: 2020:09:26 15:32:36
- ExposureCompensation: 0
- ExposureMode: Manual
- ExposureProgram: Manual
- ExposureTime: 0,0
- FNumber: 14,0
- Flash: Off, Did not fire
- FocalLength: 55,0 mm
- ISO: 1600
- LensInfo: 18-55mm f/?
- LensModel: EF-S18-55mm f/3.5-5.6 IS II
- LensSerialNumber: 000030fbf1
- MaxApertureValue: 5,7
- MeteringMode: Multi-segment
- RecommendedExposureIndex: 1600
- SceneCaptureType: Standard
- SensitivityType: Recommended Exposure Index
- SerialNumber: 248076176521
- ShutterSpeedValue: 1/32
- WhiteBalance: Auto
- ICC-header
- ICC-meas
- ICC-view
- IFD0
- Make: Canon
- Model: Canon EOS 600D
- ModifyDate: 2020:10:04 17:13:22
- IFD1
- IPTC
- DateCreated: 2020:09:26
- System
- XMP-aux
- ApproximateFocusDistance: 0,26
- Firmware: 1.0.2
- FlashCompensation: 0
- ImageNumber: 0
- Lens: EF-S18-55mm f/3.5-5.6 IS II
- LensID: 52
- XMP-crs
- AlreadyApplied: True
- AutoLateralCA: 1
- AutoWhiteVersion: 134348800
- Blacks2012: 0
- BlueHue: 0
- BlueSaturation: 0
- CameraProfile: Embedded
- Clarity2012: 0
- ColorNoiseReduction: 20
- ColorNoiseReductionDetail: 50
- ColorNoiseReductionSmoothness: 50
- Contrast2012: +20
- ConvertToGrayscale: False
- CropAngle: -2.755
- CropBottom: 0.810158
- CropConstrainToWarp: 0
- CropLeft: 0.032456
- CropRight: 0.752299
- CropTop: 0.188528
- DefringeGreenAmount: 0
- DefringeGreenHueHi: 60
- DefringeGreenHueLo: 40
- DefringePurpleAmount: 0
- DefringePurpleHueHi: 70
- DefringePurpleHueLo: 30
- Dehaze: 0
- Exposure2012: 0.00
- GrainAmount: 0
- GreenHue: 0
- GreenSaturation: 0
- HasCrop: True
- HasSettings: True
- Highlights2012: 0
- HueAdjustmentAqua: 0
- HueAdjustmentBlue: 0
- HueAdjustmentGreen: 0
- HueAdjustmentMagenta: 0
- HueAdjustmentOrange: 0
- HueAdjustmentPurple: 0
- HueAdjustmentRed: 0
- HueAdjustmentYellow: 0
- IncrementalTemperature: 0
- IncrementalTint: 0
- LensManualDistortionAmount: 0
- LensProfileEnable: 0
- LensProfileSetup: LensDefaults
- LuminanceAdjustmentAqua: 0
- LuminanceAdjustmentBlue: 0
- LuminanceAdjustmentGreen: 0
- LuminanceAdjustmentMagenta: 0
- LuminanceAdjustmentOrange: 0
- LuminanceAdjustmentPurple: 0
- LuminanceAdjustmentRed: 0
- LuminanceAdjustmentYellow: 0
- LuminanceNoiseReductionContrast: 0
- LuminanceNoiseReductionDetail: 50
- LuminanceSmoothing: 20
- ParametricDarks: 0
- ParametricHighlightSplit: 75
- ParametricHighlights: 0
- ParametricLights: 0
- ParametricMidtoneSplit: 50
- ParametricShadowSplit: 25
- ParametricShadows: 0
- PerspectiveAspect: 0
- PerspectiveHorizontal: 0
- PerspectiveRotate: 0.0
- PerspectiveScale: 100
- PerspectiveUpright: 0
- PerspectiveVertical: 0
- PerspectiveX: 0.00
- PerspectiveY: 0.00
- PostCropVignetteAmount: 0
- ProcessVersion: 6.7
- RedHue: 0
- RedSaturation: 0
- Saturation: 0
- SaturationAdjustmentAqua: 0
- SaturationAdjustmentBlue: 0
- SaturationAdjustmentGreen: 0
- SaturationAdjustmentMagenta: 0
- SaturationAdjustmentOrange: 0
- SaturationAdjustmentPurple: 0
- SaturationAdjustmentRed: 0
- SaturationAdjustmentYellow: 0
- ShadowTint: 0
- Shadows2012: 0
- SharpenDetail: 25
- SharpenEdgeMasking: 0
- SharpenRadius: +1.0
- Sharpness: 20
- SplitToningBalance: 0
- SplitToningHighlightHue: 0
- SplitToningHighlightSaturation: 0
- SplitToningShadowHue: 0
- SplitToningShadowSaturation: 0
- ToneCurve: 0, 0, 255, 255
- ToneCurveBlue: 0, 0, 255, 255
- ToneCurveGreen: 0, 0, 255, 255
- ToneCurveName: Linear
- ToneCurveName2012: Linear
- ToneCurvePV2012: 0, 0, 255, 255
- ToneCurvePV2012Blue: 0, 0, 255, 255
- ToneCurvePV2012Green: 0, 0, 255, 255
- ToneCurvePV2012Red: 0, 0, 255, 255
- ToneCurveRed: 0, 0, 255, 255
- ToneMapStrength: 0
- Version: 9.7
- Vibrance: 0
- VignetteAmount: 0
- WhiteBalance: Custom
- Whites2012: 0
- XMP-dc
- XMP-xmp
- CreateDate: 2020:09:26 15:32:36.52
- ModifyDate: 2020:10:04 17:13:22+03:00
- XMP-xmpMM
- Просмотров: 107
- Рейтинг: голосов еще нет
- Отзывов: 0