- Раздел: Работа
- Дата съёмки: неизвестно
- Дата загрузки фото: 02.05.2020 04:08
- Оригинальная фотография: 5793 x 4640 (18,8 Мб)
- Технические характеристики:
- Фотоаппарат: Canon EOS 90D
- Выдержка: 0,0
- Гиперфокальное расстояние: inf m
- Диафрагма: 8,0
- Светочувствительность: 640
- Фокусное расстояние: 82,0 mm (35 mm equivalent: 82,0 mm)
- Полный EXIF
- Adobe
- ColorTransform: YCbCr
- Composite
- Aperture: 8,0
- CircleOfConfusion: 0,017 mm
- FOV: 24,0 deg
- FocalLength35efl: 82,0 mm (35 mm equivalent: 82,0 mm)
- HyperfocalDistance: inf m
- LensID: Canon EF 24-105mm f/4L IS
- Megapixels: 26,9
- ScaleFactor35efl: 1,8
- ShutterSpeed: 0,0
- ExifIFD
- ApertureValue: 8,0
- CreateDate: 2020:04:29 20:30:29
- CustomRendered: Normal
- DateTimeOriginal: 2020:04:29 20:30:29
- ExposureCompensation: 0
- ExposureMode: Auto
- ExposureProgram: Aperture-priority AE
- ExposureTime: 0,0
- FNumber: 8,0
- Flash: No Flash
- FocalLength: 82,0 mm
- ISO: 640
- LensInfo: 24-105mm f/?
- LensModel: EF24-105mm f/4L IS USM
- LensSerialNumber: 0000ffffff
- MaxApertureValue: 4,0
- MeteringMode: Multi-segment
- RecommendedExposureIndex: 640
- SceneCaptureType: Standard
- SensitivityType: Recommended Exposure Index
- SerialNumber: 068051000509
- ShutterSpeedValue: 1/128
- WhiteBalance: Auto
- ICC-header
- IFD0
- Make: Canon
- Model: Canon EOS 90D
- ModifyDate: 2020:04:29 23:15:12
- IFD1
- IPTC
- DateCreated: 2020:04:29
- System
- XMP-aux
- ApproximateFocusDistance: 0,56
- Firmware: 1.1.1
- FlashCompensation: 0
- ImageNumber: 0
- Lens: EF24-105mm f/4L IS USM
- LensID: 237
- XMP-crd
- CameraProfile: Camera Auto
- LookName:
- XMP-crs
- AlreadyApplied: True
- AutoLateralCA: 0
- Blacks2012: -18
- BlueHue: 0
- BlueSaturation: 0
- Clarity2012: 0
- ColorNoiseReduction: 25
- ColorNoiseReductionDetail: 50
- ColorTemperature: 5500
- Contrast2012: -6
- ConvertToGrayscale: False
- CropAngle: 0
- CropBottom: 1
- CropConstrainToWarp: 1
- CropLeft: 0
- CropRight: 0.832368
- CropTop: 0
- DefringeGreenAmount: 0
- DefringeGreenHueHi: 60
- DefringeGreenHueLo: 40
- DefringePurpleAmount: 0
- DefringePurpleHueHi: 70
- DefringePurpleHueLo: 30
- Exposure2012: -0.55
- GrainAmount: 0
- GreenHue: 0
- GreenSaturation: 0
- HasCrop: True
- HasSettings: True
- Highlights2012: -49
- HueAdjustmentAqua: 0
- HueAdjustmentBlue: 0
- HueAdjustmentGreen: 0
- HueAdjustmentMagenta: 0
- HueAdjustmentOrange: 0
- HueAdjustmentPurple: 0
- HueAdjustmentRed: 0
- HueAdjustmentYellow: 0
- LensManualDistortionAmount: 0
- LensProfileEnable: 0
- LensProfileSetup: LensDefaults
- LuminanceAdjustmentAqua: 0
- LuminanceAdjustmentBlue: 0
- LuminanceAdjustmentGreen: 0
- LuminanceAdjustmentMagenta: 0
- LuminanceAdjustmentOrange: 0
- LuminanceAdjustmentPurple: 0
- LuminanceAdjustmentRed: 0
- LuminanceAdjustmentYellow: 0
- LuminanceSmoothing: 0
- ParametricDarks: 0
- ParametricHighlightSplit: 75
- ParametricHighlights: 0
- ParametricLights: 0
- ParametricMidtoneSplit: 50
- ParametricShadowSplit: 25
- ParametricShadows: 0
- PerspectiveAspect: 0
- PerspectiveHorizontal: 0
- PerspectiveRotate: 0.0
- PerspectiveScale: 100
- PerspectiveUpright: 0
- PerspectiveVertical: 0
- PostCropVignetteAmount: 0
- ProcessVersion: 6.7
- RawFileName: IMG_0089.dng
- RedHue: 0
- RedSaturation: 0
- Saturation: 0
- SaturationAdjustmentAqua: 0
- SaturationAdjustmentBlue: 0
- SaturationAdjustmentGreen: 0
- SaturationAdjustmentMagenta: 0
- SaturationAdjustmentOrange: 0
- SaturationAdjustmentPurple: 0
- SaturationAdjustmentRed: 0
- SaturationAdjustmentYellow: 0
- ShadowTint: 0
- Shadows2012: +49
- SharpenDetail: 25
- SharpenEdgeMasking: 0
- SharpenRadius: +1.0
- Sharpness: 25
- SplitToningBalance: 0
- SplitToningHighlightHue: 0
- SplitToningHighlightSaturation: 0
- SplitToningShadowHue: 0
- SplitToningShadowSaturation: 0
- Tint: +13
- ToneCurveName2012: Linear
- ToneCurvePV2012: 0, 0, 255, 255
- ToneCurvePV2012Blue: 0, 0, 255, 255
- ToneCurvePV2012Green: 0, 0, 255, 255
- ToneCurvePV2012Red: 0, 0, 255, 255
- Version: 8.1
- Vibrance: 0
- VignetteAmount: 0
- WhiteBalance: As Shot
- Whites2012: +63
- XMP-dc
- XMP-exifEX
- XMP-xmp
- CreateDate: 2020:04:29 20:30:29.91+03:00
- ModifyDate: 2020:04:29 23:15:12+03:00
- XMP-xmpMM
- Просмотров: 193
- Рейтинг: голосов еще нет
- Отзывов: 1