- Раздел: Другое, разное
- Дата съёмки: 02.08.2008 14:19
- Дата загрузки фото: 08.11.2008 22:59
- Оригинальная фотография: 2225 x 3440 (1,5 Мб)
- Технические характеристики:
- Фотоаппарат: Canon EOS 5D
- Выдержка: 1/750
- Гиперфокальное расстояние: 22,58 m
- Диафрагма: 8,0
- Светочувствительность: 200
- Фокусное расстояние: 65,0 mm (35 mm equivalent: 83,5 mm)
- Полный EXIF
- Adobe
- ColorTransform: YCbCr
- Composite
- Aperture: 8,0
- CircleOfConfusion: 0,023 mm
- FOV: 24,0 deg
- FocalLength35efl: 65,0 mm (35 mm equivalent: 83,5 mm)
- HyperfocalDistance: 22,58 m
- ScaleFactor35efl: 1,3
- ShutterSpeed: 1/750
- ExifIFD
- ApertureValue: 8,0
- CreateDate: 2008:08:02 14:19:15
- CustomRendered: Normal
- DateTimeOriginal: 2008:08:02 14:19:15
- ExposureCompensation: 0
- ExposureMode: Auto
- ExposureProgram: Aperture-priority AE
- ExposureTime: 1/750
- FNumber: 8,0
- Flash: Off
- FocalLength: 65,0 mm
- ISO: 200
- MaxApertureValue: 4,2
- MeteringMode: Unknown
- SceneCaptureType: Standard
- ShutterSpeedValue: 1/750
- WhiteBalance: Auto
- ICC-header
- ICC-meas
- ICC-view
- IFD0
- Make: Canon
- Model: Canon EOS 5D
- ModifyDate: 2008:11:08 22:22:59
- XMP-aux
- Firmware: 1.1.1
- FlashCompensation: 0
- ImageNumber: 3
- Lens: EF28-105mm f/3.5-4.5 USM
- LensInfo: 28/1 105/1 0/0 0/0
- SerialNumber: 1130701163
- XMP-crs
- AlreadyApplied: True
- BlueHue: 0
- BlueSaturation: 0
- Brightness: +50
- CameraProfile: ACR 4.4
- ChromaticAberrationB: 0
- ChromaticAberrationR: 0
- Clarity: +20
- ColorNoiseReduction: 25
- Contrast: +41
- ConvertToGrayscale: False
- CropAngle: 1.72771
- CropBottom: 0.857664
- CropHeight: 2225
- CropLeft: 0.016326
- CropRight: 0.788163
- CropTop: 0.058305
- CropUnit: 0
- CropWidth: 3440
- Defringe: 0
- Exposure: -0.57
- FillLight: 30
- GreenHue: 0
- GreenSaturation: 0
- HasCrop: True
- HasSettings: True
- HighlightRecovery: 0
- HueAdjustmentAqua: 0
- HueAdjustmentBlue: 0
- HueAdjustmentGreen: 0
- HueAdjustmentMagenta: 0
- HueAdjustmentOrange: 0
- HueAdjustmentPurple: 0
- HueAdjustmentRed: 0
- HueAdjustmentYellow: 0
- LuminanceAdjustmentAqua: 0
- LuminanceAdjustmentBlue: 0
- LuminanceAdjustmentGreen: 0
- LuminanceAdjustmentMagenta: 0
- LuminanceAdjustmentOrange: 0
- LuminanceAdjustmentPurple: 0
- LuminanceAdjustmentRed: 0
- LuminanceAdjustmentYellow: 0
- LuminanceSmoothing: 0
- ParametricDarks: 0
- ParametricHighlightSplit: 75
- ParametricHighlights: 0
- ParametricLights: 0
- ParametricMidtoneSplit: 50
- ParametricShadowSplit: 25
- ParametricShadows: 0
- PostCropVignetteAmount: 0
- RedHue: 0
- RedSaturation: 0
- Saturation: 0
- SaturationAdjustmentAqua: 0
- SaturationAdjustmentBlue: 0
- SaturationAdjustmentGreen: 0
- SaturationAdjustmentMagenta: 0
- SaturationAdjustmentOrange: 0
- SaturationAdjustmentPurple: 0
- SaturationAdjustmentRed: 0
- SaturationAdjustmentYellow: 0
- ShadowTint: 0
- Shadows: 7
- SharpenDetail: 25
- SharpenEdgeMasking: 0
- SharpenRadius: +1.0
- Sharpness: 25
- SplitToningBalance: 0
- SplitToningHighlightHue: 0
- SplitToningHighlightSaturation: 0
- SplitToningShadowHue: 0
- SplitToningShadowSaturation: 0
- Temperature: 5095
- Tint: +4
- ToneCurve: 0, 0, 32, 22, 64, 56, 128, 128, 192, 196, 255, 255
- ToneCurveName: Medium Contrast
- Version: 4.6
- Vibrance: 0
- VignetteAmount: 0
- WhiteBalance: Custom
- XMP-exif
- DateTimeDigitized: 2008:08:02 14:19:15+04:00
- DateTimeOriginal: 2008:08:02 14:19:15+04:00
- ExifImageHeight: 3440
- ExifImageWidth: 2225
- FlashFired: False
- FlashFunction: False
- FlashMode: Off
- FlashRedEyeMode: False
- FlashReturn: No return detection
- XMP-tiff
- ImageHeight: 3440
- ImageWidth: 2225
- XMP-xmp
- CreateDate: 2008:08:02 14:19:15+04:00
- ModifyDate: 2008:11:08 22:22:59+03:00
- Просмотров: 281
- Рейтинг: голосов еще нет
- Отзывов: 0